{"text_format":"1","workbook":"xlsx","n_sheets":7,"sheets":["勘定入力","当月集計","大分類集計","収支グラフ","集計一覧","_","入力補助"],"not_rendered":{"charts":1,"images":1,"macros":1,"external_links":0,"defined_names":21,"comments":0,"pivot_tables":0},"unopened":[],"bounds":{"document_bytes":16777216,"sheet_cells":100000,"rows_first":2000,"rows_last":500,"rows_between":2000,"halvings":0,"cell_chars":16384,"cell_head_chars":4096},"cells_cut":0,"cells_raw":0,"read":"whole","date_system":"1900"}

{"sheet":"勘定入力","index":0,"n_rows":1000,"n_cols":17,"rows_kept":1000,"cut":false,"hidden":false,"merged":[]}
[null,null,null,null,null,null,null,null,"西暦　年",2014,{"$f":"IF(集計一覧!B3*3=(集計一覧!B62+集計一覧!B121+集計一覧!B180),\"\",\"入力確認要\")","v":""},null,"＊各項目はプルダウンにて選択ください。",null,null,{"$f":"\"本日：\"&DATESTRING(TODAY())","v":"本日：平成27年03月09日"}]
[null,null,null,null,null,null,null,null,"合計→",{"$f":"SUBTOTAL(9,J4:J1000)","v":40500},{"$f":"SUBTOTAL(9,K4:K1000)","v":35200},"【千円】","＊行の挿入、移動、Ａ列編集は行わないでください。",null,null,null,"並び替え"]
["月","年","日","項目A検索","項目B検索","項目C検索","大項目A検索","大項目","月/日","入金予定額","支払予定金額","勘定科目","施工先","施工者・メーカ","担当","備考"]
[{"$f":"IF(I4=\"\",\"\",MONTH(I4))","v":1},{"$f":"IF(I4=\"\",\"\",$J$1)","v":2014},{"$f":"IF(I4=\"\",\"\",DAY(I4))","v":1},{"$f":"IF($I4=\"\",\"\",$A4&L4)","v":"1繰越金"},{"$f":"IF($I4=\"\",\"\",$A4&M4)","v":"1該当無"},{"$f":"IF($I4=\"\",\"\",$A4&N4)","v":"1該当無"},{"$f":"IF($I4=\"\",\"\",$A4&H4)","v":"1固定費"},{"$f":"IF($I4=\"\",\"\",VLOOKUP(L4,入力補助!C:E,3,FALSE))","v":"固定費"},"2014-01-01",10000,null,"繰越金","該当無","該当無","Aさん"]
[1,2014,20,"1給料・手当","1従業員（固定費）","1会社（固定費）","1固定費",{"$f":"IF($I5=\"\",\"\",VLOOKUP(L5,入力補助!C:E,3,FALSE))","v":"固定費"},"2014-01-20",null,1000,"給料・手当","従業員（固定費）","会社（固定費）","Aさん"]
[1,2014,20,"1車両費","1○○会社","1○○会社","1固定費",{"$f":"IF($I6=\"\",\"\",VLOOKUP(L6,入力補助!C:E,3,FALSE))","v":"固定費"},"2014-01-20",null,100,"車両費","○○会社","○○会社","Aさん"]
[2,2014,10,"2○○","2A1邸","2○○会社","2○○販売",{"$f":"IF($I7=\"\",\"\",VLOOKUP(L7,入力補助!C:E,3,FALSE))","v":"○○販売"},"2014-02-10",5000,null,"○○","A1邸","○○会社","Bさん"]
[2,2014,20,"2給料・手当","2従業員（固定費）","2会社（固定費）","2固定費",{"$f":"IF($I8=\"\",\"\",VLOOKUP(L8,入力補助!C:E,3,FALSE))","v":"固定費"},"2014-02-20",null,1000,"給料・手当","従業員（固定費）","会社（固定費）","Aさん"]
[2,2014,20,"2車両費","2○○会社","2○○会社","2固定費",{"$f":"IF($I9=\"\",\"\",VLOOKUP(L9,入力補助!C:E,3,FALSE))","v":"固定費"},"2014-02-20",null,100,"車両費","○○会社","○○会社","Aさん"]
[3,2014,5,"3基礎工事","3A1邸","3自社施工","3○○工事",{"$f":"IF($I10=\"\",\"\",VLOOKUP(L10,入力補助!C:E,3,FALSE))","v":"○○工事"},"2014-03-05",null,1000,"基礎工事","A1邸","自社施工","Bさん"]
[3,2014,10,"3○○","3A2邸","3○○会社","3○○販売",{"$f":"IF($I11=\"\",\"\",VLOOKUP(L11,入力補助!C:E,3,FALSE))","v":"○○販売"},"2014-03-10",5000,null,"○○","A2邸","○○会社","Cさん"]
[3,2014,20,"3給料・手当","3従業員（固定費）","3会社（固定費）","3固定費",{"$f":"IF($I12=\"\",\"\",VLOOKUP(L12,入力補助!C:E,3,FALSE))","v":"固定費"},"2014-03-20",null,1000,"給料・手当","従業員（固定費）","会社（固定費）","Aさん"]
[3,2014,20,"3車両費","3○○会社","3○○会社","3固定費",{"$f":"IF($I13=\"\",\"\",VLOOKUP(L13,入力補助!C:E,3,FALSE))","v":"固定費"},"2014-03-20",null,100,"車両費","○○会社","○○会社","Aさん"]
[4,2014,6,"4木工事","4A1邸","4B5社","4○○工事",{"$f":"IF($I14=\"\",\"\",VLOOKUP(L14,入力補助!C:E,3,FALSE))","v":"○○工事"},"2014-04-06",null,2000,"木工事","A1邸","B5社","Bさん"]
[4,2014,20,"4給料・手当","4従業員（固定費）","4会社（固定費）","4固定費",{"$f":"IF($I15=\"\",\"\",VLOOKUP(L15,入力補助!C:E,3,FALSE))","v":"固定費"},"2014-04-20",null,1000,"給料・手当","従業員（固定費）","会社（固定費）","Aさん"]
[4,2014,20,"4車両費","4○○会社","4○○会社","4固定費",{"$f":"IF($I16=\"\",\"\",VLOOKUP(L16,入力補助!C:E,3,FALSE))","v":"固定費"},"2014-04-20",null,100,"車両費","○○会社","○○会社","Aさん"]
[5,2014,5,"5基礎工事","5A2邸","5自社施工","5○○工事",{"$f":"IF($I17=\"\",\"\",VLOOKUP(L17,入力補助!C:E,3,FALSE))","v":"○○工事"},"2014-05-05",null,1000,"基礎工事","A2邸","自社施工","Cさん"]
[5,2014,20,"5給料・手当","5従業員（固定費）","5会社（固定費）","5固定費",{"$f":"IF($I18=\"\",\"\",VLOOKUP(L18,入力補助!C:E,3,FALSE))","v":"固定費"},"2014-05-20",null,1000,"給料・手当","従業員（固定費）","会社（固定費）","Aさん"]
[5,2014,20,"5車両費","5○○会社","5○○会社","5固定費",{"$f":"IF($I19=\"\",\"\",VLOOKUP(L19,入力補助!C:E,3,FALSE))","v":"固定費"},"2014-05-20",null,100,"車両費","○○会社","○○会社","Aさん"]
[5,2014,20,"5木工事","5A2邸","5B5社","5○○工事",{"$f":"IF($I20=\"\",\"\",VLOOKUP(L20,入力補助!C:E,3,FALSE))","v":"○○工事"},"2014-05-20",null,2000,"木工事","A2邸","B5社","Cさん"]
[6,2014,10,"6屋根工事","6A1邸","6B1社","6○○工事",{"$f":"IF($I21=\"\",\"\",VLOOKUP(L21,入力補助!C:E,3,FALSE))","v":"○○工事"},"2014-06-10",null,2000,"屋根工事","A1邸","B1社","Bさん"]
[6,2014,20,"6△△","6一般ユーザ","6○○会社","6△△販売",{"$f":"IF($I22=\"\",\"\",VLOOKUP(L22,入力補助!C:E,3,FALSE))","v":"△△販売"},"2014-06-20",200,null,"△△","一般ユーザ","○○会社","Aさん"]
[6,2014,20,"6給料・手当","6従業員（固定費）","6会社（固定費）","6固定費",{"$f":"IF($I23=\"\",\"\",VLOOKUP(L23,入力補助!C:E,3,FALSE))","v":"固定費"},"2014-06-20",null,1000,"給料・手当","従業員（固定費）","会社（固定費）","Aさん"]
[6,2014,20,"6車両費","6○○会社","6○○会社","6固定費",{"$f":"IF($I24=\"\",\"\",VLOOKUP(L24,入力補助!C:E,3,FALSE))","v":"固定費"},"2014-06-20",null,100,"車両費","○○会社","○○会社","Aさん"]
[7,2014,5,"7電気工事","7A1邸","7B4社","7○○工事",{"$f":"IF($I25=\"\",\"\",VLOOKUP(L25,入力補助!C:E,3,FALSE))","v":"○○工事"},"2014-07-05",null,3000,"電気工事","A1邸","B4社","Bさん"]
[7,2014,8,"7屋根工事","7A2邸","7B1社","7○○工事",{"$f":"IF($I26=\"\",\"\",VLOOKUP(L26,入力補助!C:E,3,FALSE))","v":"○○工事"},"2014-07-08",null,2000,"屋根工事","A2邸","B1社","Cさん"]
[7,2014,20,"7給料・手当","7従業員（固定費）","7会社（固定費）","7固定費",{"$f":"IF($I27=\"\",\"\",VLOOKUP(L27,入力補助!C:E,3,FALSE))","v":"固定費"},"2014-07-20",null,1000,"給料・手当","従業員（固定費）","会社（固定費）","Aさん"]
[7,2014,20,"7車両費","7○○会社","7○○会社","7固定費",{"$f":"IF($I28=\"\",\"\",VLOOKUP(L28,入力補助!C:E,3,FALSE))","v":"固定費"},"2014-07-20",null,100,"車両費","○○会社","○○会社","Aさん"]
[8,2014,10,"8○○","8A1邸","8○○会社","8○○販売",{"$f":"IF($I29=\"\",\"\",VLOOKUP(L29,入力補助!C:E,3,FALSE))","v":"○○販売"},"2014-08-10",5000,null,"○○","A1邸","○○会社","Bさん"]
[8,2014,10,"8電気工事","8A2邸","8B4社","8○○工事",{"$f":"IF($I30=\"\",\"\",VLOOKUP(L30,入力補助!C:E,3,FALSE))","v":"○○工事"},"2014-08-10",null,3000,"電気工事","A2邸","B4社","Cさん"]
[8,2014,20,"8給料・手当","8従業員（固定費）","8会社（固定費）","8固定費",{"$f":"IF($I31=\"\",\"\",VLOOKUP(L31,入力補助!C:E,3,FALSE))","v":"固定費"},"2014-08-20",null,1000,"給料・手当","従業員（固定費）","会社（固定費）","Aさん"]
[8,2014,20,"8車両費","8○○会社","8○○会社","8固定費",{"$f":"IF($I32=\"\",\"\",VLOOKUP(L32,入力補助!C:E,3,FALSE))","v":"固定費"},"2014-08-20",null,100,"車両費","○○会社","○○会社","Aさん"]
[9,2014,10,"9△△","9一般ユーザ","9○○会社","9△△販売",{"$f":"IF($I33=\"\",\"\",VLOOKUP(L33,入力補助!C:E,3,FALSE))","v":"△△販売"},"2014-09-10",300,null,"△△","一般ユーザ","○○会社","Aさん"]
[9,2014,10,"9○○","9A2邸","9○○会社","9○○販売",{"$f":"IF($I34=\"\",\"\",VLOOKUP(L34,入力補助!C:E,3,FALSE))","v":"○○販売"},"2014-09-10",5000,null,"○○","A2邸","○○会社","Cさん"]
[9,2014,20,"9外壁工事","9A1邸","9B3社","9○○工事",{"$f":"IF($I35=\"\",\"\",VLOOKUP(L35,入力補助!C:E,3,FALSE))","v":"○○工事"},"2014-09-20",null,3000,"外壁工事","A1邸","B3社","Bさん"]
[9,2014,20,"9給料・手当","9従業員（固定費）","9会社（固定費）","9固定費",{"$f":"IF($I36=\"\",\"\",VLOOKUP(L36,入力補助!C:E,3,FALSE))","v":"固定費"},"2014-09-20",null,1000,"給料・手当","従業員（固定費）","会社（固定費）","Aさん"]
[9,2014,20,"9車両費","9○○会社","9○○会社","9固定費",{"$f":"IF($I37=\"\",\"\",VLOOKUP(L37,入力補助!C:E,3,FALSE))","v":"固定費"},"2014-09-20",null,100,"車両費","○○会社","○○会社","Aさん"]
[10,2014,4,"10外壁工事","10A2邸","10B3社","10○○工事",{"$f":"IF($I38=\"\",\"\",VLOOKUP(L38,入力補助!C:E,3,FALSE))","v":"○○工事"},"2014-10-04",null,3000,"外壁工事","A2邸","B3社","Cさん"]
[10,2014,20,"10給料・手当","10従業員（固定費）","10会社（固定費）","10固定費",{"$f":"IF($I39=\"\",\"\",VLOOKUP(L39,入力補助!C:E,3,FALSE))","v":"固定費"},"2014-10-20",null,1000,"給料・手当","従業員（固定費）","会社（固定費）","Aさん"]
[10,2014,20,"10車両費","10○○会社","10○○会社","10固定費",{"$f":"IF($I40=\"\",\"\",VLOOKUP(L40,入力補助!C:E,3,FALSE))","v":"固定費"},"2014-10-20",null,100,"車両費","○○会社","○○会社","Aさん"]
[11,2014,20,"11○○","11A1邸","11○○会社","11○○販売",{"$f":"IF($I41=\"\",\"\",VLOOKUP(L41,入力補助!C:E,3,FALSE))","v":"○○販売"},"2014-11-20",5000,null,"○○","A1邸","○○会社","Bさん"]
[11,2014,20,"11給料・手当","11従業員（固定費）","11会社（固定費）","11固定費",{"$f":"IF($I42=\"\",\"\",VLOOKUP(L42,入力補助!C:E,3,FALSE))","v":"固定費"},"2014-11-20",null,1000,"給料・手当","従業員（固定費）","会社（固定費）","Aさん"]
[11,2014,20,"11車両費","11○○会社","11○○会社","11固定費",{"$f":"IF($I43=\"\",\"\",VLOOKUP(L43,入力補助!C:E,3,FALSE))","v":"固定費"},"2014-11-20",null,100,"車両費","○○会社","○○会社","Aさん"]
[12,2014,6,"12○○","12A2邸","12○○会社","12○○販売",{"$f":"IF($I44=\"\",\"\",VLOOKUP(L44,入力補助!C:E,3,FALSE))","v":"○○販売"},"2014-12-06",5000,null,"○○","A2邸","○○会社","Cさん"]
[12,2014,20,"12給料・手当","12従業員（固定費）","12会社（固定費）","12固定費",{"$f":"IF($I45=\"\",\"\",VLOOKUP(L45,入力補助!C:E,3,FALSE))","v":"固定費"},"2014-12-20",null,1000,"給料・手当","従業員（固定費）","会社（固定費）","Aさん"]
[12,2014,20,"12車両費","12○○会社","12○○会社","12固定費",{"$f":"IF($I46=\"\",\"\",VLOOKUP(L46,入力補助!C:E,3,FALSE))","v":"固定費"},"2014-12-20",null,100,"車両費","○○会社","○○会社","Aさん"]
["","","","","","","",{"$f":"IF($I47=\"\",\"\",VLOOKUP(L47,入力補助!C:E,3,FALSE))","v":""}]
["","","","","","","",{"$f":"IF($I48=\"\",\"\",VLOOKUP(L48,入力補助!C:E,3,FALSE))","v":""}]
["","","","","","","",{"$f":"IF($I49=\"\",\"\",VLOOKUP(L49,入力補助!C:E,3,FALSE))","v":""}]
["","","","","","","",{"$f":"IF($I50=\"\",\"\",VLOOKUP(L50,入力補助!C:E,3,FALSE))","v":""}]
["","","","","","","",{"$f":"IF($I51=\"\",\"\",VLOOKUP(L51,入力補助!C:E,3,FALSE))","v":""}]
["","","","","","","",{"$f":"IF($I52=\"\",\"\",VLOOKUP(L52,入力補助!C:E,3,FALSE))","v":""}]
["","","","","","","",{"$f":"IF($I53=\"\",\"\",VLOOKUP(L53,入力補助!C:E,3,FALSE))","v":""}]
["","","","","","","",{"$f":"IF($I54=\"\",\"\",VLOOKUP(L54,入力補助!C:E,3,FALSE))","v":""}]
["","","","","","","",{"$f":"IF($I55=\"\",\"\",VLOOKUP(L55,入力補助!C:E,3,FALSE))","v":""}]
["","","","","","","",{"$f":"IF($I56=\"\",\"\",VLOOKUP(L56,入力補助!C:E,3,FALSE))","v":""}]
["","","","","","","",{"$f":"IF($I57=\"\",\"\",VLOOKUP(L57,入力補助!C:E,3,FALSE))","v":""}]
["","","","","","","",{"$f":"IF($I58=\"\",\"\",VLOOKUP(L58,入力補助!C:E,3,FALSE))","v":""}]
["","","","","","","",{"$f":"IF($I59=\"\",\"\",VLOOKUP(L59,入力補助!C:E,3,FALSE))","v":""}]
["","","","","","","",{"$f":"IF($I60=\"\",\"\",VLOOKUP(L60,入力補助!C:E,3,FALSE))","v":""}]
["","","","","","","",{"$f":"IF($I61=\"\",\"\",VLOOKUP(L61,入力補助!C:E,3,FALSE))","v":""}]
["","","","","","","",{"$f":"IF($I62=\"\",\"\",VLOOKUP(L62,入力補助!C:E,3,FALSE))","v":""}]
["","","","","","","",{"$f":"IF($I63=\"\",\"\",VLOOKUP(L63,入力補助!C:E,3,FALSE))","v":""}]
["","","","","","","",{"$f":"IF($I64=\"\",\"\",VLOOKUP(L64,入力補助!C:E,3,FALSE))","v":""}]
["","","","","","","",{"$f":"IF($I65=\"\",\"\",VLOOKUP(L65,入力補助!C:E,3,FALSE))","v":""}]
["","","","","","","",{"$f":"IF($I66=\"\",\"\",VLOOKUP(L66,入力補助!C:E,3,FALSE))","v":""}]
["","","","","","","",{"$f":"IF($I67=\"\",\"\",VLOOKUP(L67,入力補助!C:E,3,FALSE))","v":""}]
[{"$f":"IF(I68=\"\",\"\",MONTH(I68))","v":""},{"$f":"IF(I68=\"\",\"\",$J$1)","v":""},{"$f":"IF(I68=\"\",\"\",DAY(I68))","v":""},{"$f":"IF($I68=\"\",\"\",$A68&L68)","v":""},{"$f":"IF($I68=\"\",\"\",$A68&M68)","v":""},{"$f":"IF($I68=\"\",\"\",$A68&N68)","v":""},{"$f":"IF($I68=\"\",\"\",$A68&H68)","v":""},{"$f":"IF($I68=\"\",\"\",VLOOKUP(L68,入力補助!C:E,3,FALSE))","v":""}]
["","","","","","","",{"$f":"IF($I69=\"\",\"\",VLOOKUP(L69,入力補助!C:E,3,FALSE))","v":""}]
["","","","","","","",{"$f":"IF($I70=\"\",\"\",VLOOKUP(L70,入力補助!C:E,3,FALSE))","v":""}]
["","","","","","","",{"$f":"IF($I71=\"\",\"\",VLOOKUP(L71,入力補助!C:E,3,FALSE))","v":""}]
["","","","","","","",{"$f":"IF($I72=\"\",\"\",VLOOKUP(L72,入力補助!C:E,3,FALSE))","v":""}]
["","","","","","","",{"$f":"IF($I73=\"\",\"\",VLOOKUP(L73,入力補助!C:E,3,FALSE))","v":""}]
["","","","","","","",{"$f":"IF($I74=\"\",\"\",VLOOKUP(L74,入力補助!C:E,3,FALSE))","v":""}]
["","","","","","","",{"$f":"IF($I75=\"\",\"\",VLOOKUP(L75,入力補助!C:E,3,FALSE))","v":""}]
["","","","","","","",{"$f":"IF($I76=\"\",\"\",VLOOKUP(L76,入力補助!C:E,3,FALSE))","v":""}]
["","","","","","","",{"$f":"IF($I77=\"\",\"\",VLOOKUP(L77,入力補助!C:E,3,FALSE))","v":""}]
["","","","","","","",{"$f":"IF($I78=\"\",\"\",VLOOKUP(L78,入力補助!C:E,3,FALSE))","v":""}]
["","","","","","","",{"$f":"IF($I79=\"\",\"\",VLOOKUP(L79,入力補助!C:E,3,FALSE))","v":""}]
["","","","","","","",{"$f":"IF($I80=\"\",\"\",VLOOKUP(L80,入力補助!C:E,3,FALSE))","v":""}]
["","","","","","","",{"$f":"IF($I81=\"\",\"\",VLOOKUP(L81,入力補助!C:E,3,FALSE))","v":""}]
["","","","","","","",{"$f":"IF($I82=\"\",\"\",VLOOKUP(L82,入力補助!C:E,3,FALSE))","v":""}]
["","","","","","","",{"$f":"IF($I83=\"\",\"\",VLOOKUP(L83,入力補助!C:E,3,FALSE))","v":""}]
["","","","","","","",{"$f":"IF($I84=\"\",\"\",VLOOKUP(L84,入力補助!C:E,3,FALSE))","v":""}]
["","","","","","","",{"$f":"IF($I85=\"\",\"\",VLOOKUP(L85,入力補助!C:E,3,FALSE))","v":""}]
["","","","","","","",{"$f":"IF($I86=\"\",\"\",VLOOKUP(L86,入力補助!C:E,3,FALSE))","v":""}]
["","","","","","","",{"$f":"IF($I87=\"\",\"\",VLOOKUP(L87,入力補助!C:E,3,FALSE))","v":""}]
["","","","","","","",{"$f":"IF($I88=\"\",\"\",VLOOKUP(L88,入力補助!C:E,3,FALSE))","v":""}]
["","","","","","","",{"$f":"IF($I89=\"\",\"\",VLOOKUP(L89,入力補助!C:E,3,FALSE))","v":""}]
["","","","","","","",{"$f":"IF($I90=\"\",\"\",VLOOKUP(L90,入力補助!C:E,3,FALSE))","v":""}]
["","","","","","","",{"$f":"IF($I91=\"\",\"\",VLOOKUP(L91,入力補助!C:E,3,FALSE))","v":""}]
["","","","","","","",{"$f":"IF($I92=\"\",\"\",VLOOKUP(L92,入力補助!C:E,3,FALSE))","v":""}]
["","","","","","","",{"$f":"IF($I93=\"\",\"\",VLOOKUP(L93,入力補助!C:E,3,FALSE))","v":""}]
["","","","","","","",{"$f":"IF($I94=\"\",\"\",VLOOKUP(L94,入力補助!C:E,3,FALSE))","v":""}]
["","","","","","","",{"$f":"IF($I95=\"\",\"\",VLOOKUP(L95,入力補助!C:E,3,FALSE))","v":""}]
["","","","","","","",{"$f":"IF($I96=\"\",\"\",VLOOKUP(L96,入力補助!C:E,3,FALSE))","v":""}]
["","","","","","","",{"$f":"IF($I97=\"\",\"\",VLOOKUP(L97,入力補助!C:E,3,FALSE))","v":""}]
["","","","","","","",{"$f":"IF($I98=\"\",\"\",VLOOKUP(L98,入力補助!C:E,3,FALSE))","v":""}]
["","","","","","","",{"$f":"IF($I99=\"\",\"\",VLOOKUP(L99,入力補助!C:E,3,FALSE))","v":""}]
["","","","","","","",{"$f":"IF($I100=\"\",\"\",VLOOKUP(L100,入力補助!C:E,3,FALSE))","v":""}]
["","","","","","","",{"$f":"IF($I101=\"\",\"\",VLOOKUP(L101,入力補助!C:E,3,FALSE))","v":""}]
["","","","","","","",{"$f":"IF($I102=\"\",\"\",VLOOKUP(L102,入力補助!C:E,3,FALSE))","v":""}]
["","","","","","","",{"$f":"IF($I103=\"\",\"\",VLOOKUP(L103,入力補助!C:E,3,FALSE))","v":""}]
["","","","","","","",{"$f":"IF($I104=\"\",\"\",VLOOKUP(L104,入力補助!C:E,3,FALSE))","v":""}]
["","","","","","","",{"$f":"IF($I105=\"\",\"\",VLOOKUP(L105,入力補助!C:E,3,FALSE))","v":""}]
["","","","","","","",{"$f":"IF($I106=\"\",\"\",VLOOKUP(L106,入力補助!C:E,3,FALSE))","v":""}]
["","","","","","","",{"$f":"IF($I107=\"\",\"\",VLOOKUP(L107,入力補助!C:E,3,FALSE))","v":""}]
["","","","","","","",{"$f":"IF($I108=\"\",\"\",VLOOKUP(L108,入力補助!C:E,3,FALSE))","v":""}]
["","","","","","","",{"$f":"IF($I109=\"\",\"\",VLOOKUP(L109,入力補助!C:E,3,FALSE))","v":""}]
["","","","","","","",{"$f":"IF($I110=\"\",\"\",VLOOKUP(L110,入力補助!C:E,3,FALSE))","v":""}]
["","","","","","","",{"$f":"IF($I111=\"\",\"\",VLOOKUP(L111,入力補助!C:E,3,FALSE))","v":""}]
["","","","","","","",{"$f":"IF($I112=\"\",\"\",VLOOKUP(L112,入力補助!C:E,3,FALSE))","v":""}]
["","","","","","","",{"$f":"IF($I113=\"\",\"\",VLOOKUP(L113,入力補助!C:E,3,FALSE))","v":""}]
["","","","","","","",{"$f":"IF($I114=\"\",\"\",VLOOKUP(L114,入力補助!C:E,3,FALSE))","v":""}]
["","","","","","","",{"$f":"IF($I115=\"\",\"\",VLOOKUP(L115,入力補助!C:E,3,FALSE))","v":""}]
["","","","","","","",{"$f":"IF($I116=\"\",\"\",VLOOKUP(L116,入力補助!C:E,3,FALSE))","v":""}]
["","","","","","","",{"$f":"IF($I117=\"\",\"\",VLOOKUP(L117,入力補助!C:E,3,FALSE))","v":""}]
["","","","","","","",{"$f":"IF($I118=\"\",\"\",VLOOKUP(L118,入力補助!C:E,3,FALSE))","v":""}]
["","","","","","","",{"$f":"IF($I119=\"\",\"\",VLOOKUP(L119,入力補助!C:E,3,FALSE))","v":""}]
["","","","","","","",{"$f":"IF($I120=\"\",\"\",VLOOKUP(L120,入力補助!C:E,3,FALSE))","v":""}]
["","","","","","","",{"$f":"IF($I121=\"\",\"\",VLOOKUP(L121,入力補助!C:E,3,FALSE))","v":""}]
["","","","","","","",{"$f":"IF($I122=\"\",\"\",VLOOKUP(L122,入力補助!C:E,3,FALSE))","v":""}]
["","","","","","","",{"$f":"IF($I123=\"\",\"\",VLOOKUP(L123,入力補助!C:E,3,FALSE))","v":""}]
["","","","","","","",{"$f":"IF($I124=\"\",\"\",VLOOKUP(L124,入力補助!C:E,3,FALSE))","v":""}]
["","","","","","","",{"$f":"IF($I125=\"\",\"\",VLOOKUP(L125,入力補助!C:E,3,FALSE))","v":""}]
["","","","","","","",{"$f":"IF($I126=\"\",\"\",VLOOKUP(L126,入力補助!C:E,3,FALSE))","v":""}]
["","","","","","","",{"$f":"IF($I127=\"\",\"\",VLOOKUP(L127,入力補助!C:E,3,FALSE))","v":""}]
["","","","","","","",{"$f":"IF($I128=\"\",\"\",VLOOKUP(L128,入力補助!C:E,3,FALSE))","v":""}]
["","","","","","","",{"$f":"IF($I129=\"\",\"\",VLOOKUP(L129,入力補助!C:E,3,FALSE))","v":""}]
["","","","","","","",{"$f":"IF($I130=\"\",\"\",VLOOKUP(L130,入力補助!C:E,3,FALSE))","v":""}]
["","","","","","","",{"$f":"IF($I131=\"\",\"\",VLOOKUP(L131,入力補助!C:E,3,FALSE))","v":""}]
[{"$f":"IF(I132=\"\",\"\",MONTH(I132))","v":""},{"$f":"IF(I132=\"\",\"\",$J$1)","v":""},{"$f":"IF(I132=\"\",\"\",DAY(I132))","v":""},{"$f":"IF($I132=\"\",\"\",$A132&L132)","v":""},{"$f":"IF($I132=\"\",\"\",$A132&M132)","v":""},{"$f":"IF($I132=\"\",\"\",$A132&N132)","v":""},{"$f":"IF($I132=\"\",\"\",$A132&H132)","v":""},{"$f":"IF($I132=\"\",\"\",VLOOKUP(L132,入力補助!C:E,3,FALSE))","v":""}]
["","","","","","","",{"$f":"IF($I133=\"\",\"\",VLOOKUP(L133,入力補助!C:E,3,FALSE))","v":""}]
["","","","","","","",{"$f":"IF($I134=\"\",\"\",VLOOKUP(L134,入力補助!C:E,3,FALSE))","v":""}]
["","","","","","","",{"$f":"IF($I135=\"\",\"\",VLOOKUP(L135,入力補助!C:E,3,FALSE))","v":""}]
["","","","","","","",{"$f":"IF($I136=\"\",\"\",VLOOKUP(L136,入力補助!C:E,3,FALSE))","v":""}]
["","","","","","","",{"$f":"IF($I137=\"\",\"\",VLOOKUP(L137,入力補助!C:E,3,FALSE))","v":""}]
["","","","","","","",{"$f":"IF($I138=\"\",\"\",VLOOKUP(L138,入力補助!C:E,3,FALSE))","v":""}]
["","","","","","","",{"$f":"IF($I139=\"\",\"\",VLOOKUP(L139,入力補助!C:E,3,FALSE))","v":""}]
["","","","","","","",{"$f":"IF($I140=\"\",\"\",VLOOKUP(L140,入力補助!C:E,3,FALSE))","v":""}]
["","","","","","","",{"$f":"IF($I141=\"\",\"\",VLOOKUP(L141,入力補助!C:E,3,FALSE))","v":""}]
["","","","","","","",{"$f":"IF($I142=\"\",\"\",VLOOKUP(L142,入力補助!C:E,3,FALSE))","v":""}]
["","","","","","","",{"$f":"IF($I143=\"\",\"\",VLOOKUP(L143,入力補助!C:E,3,FALSE))","v":""}]
["","","","","","","",{"$f":"IF($I144=\"\",\"\",VLOOKUP(L144,入力補助!C:E,3,FALSE))","v":""}]
["","","","","","","",{"$f":"IF($I145=\"\",\"\",VLOOKUP(L145,入力補助!C:E,3,FALSE))","v":""}]
["","","","","","","",{"$f":"IF($I146=\"\",\"\",VLOOKUP(L146,入力補助!C:E,3,FALSE))","v":""}]
["","","","","","","",{"$f":"IF($I147=\"\",\"\",VLOOKUP(L147,入力補助!C:E,3,FALSE))","v":""}]
["","","","","","","",{"$f":"IF($I148=\"\",\"\",VLOOKUP(L148,入力補助!C:E,3,FALSE))","v":""}]
["","","","","","","",{"$f":"IF($I149=\"\",\"\",VLOOKUP(L149,入力補助!C:E,3,FALSE))","v":""}]
["","","","","","","",{"$f":"IF($I150=\"\",\"\",VLOOKUP(L150,入力補助!C:E,3,FALSE))","v":""}]
["","","","","","","",{"$f":"IF($I151=\"\",\"\",VLOOKUP(L151,入力補助!C:E,3,FALSE))","v":""}]
["","","","","","","",{"$f":"IF($I152=\"\",\"\",VLOOKUP(L152,入力補助!C:E,3,FALSE))","v":""}]
["","","","","","","",{"$f":"IF($I153=\"\",\"\",VLOOKUP(L153,入力補助!C:E,3,FALSE))","v":""}]
["","","","","","","",{"$f":"IF($I154=\"\",\"\",VLOOKUP(L154,入力補助!C:E,3,FALSE))","v":""}]
["","","","","","","",{"$f":"IF($I155=\"\",\"\",VLOOKUP(L155,入力補助!C:E,3,FALSE))","v":""}]
["","","","","","","",{"$f":"IF($I156=\"\",\"\",VLOOKUP(L156,入力補助!C:E,3,FALSE))","v":""}]
["","","","","","","",{"$f":"IF($I157=\"\",\"\",VLOOKUP(L157,入力補助!C:E,3,FALSE))","v":""}]
["","","","","","","",{"$f":"IF($I158=\"\",\"\",VLOOKUP(L158,入力補助!C:E,3,FALSE))","v":""}]
["","","","","","","",{"$f":"IF($I159=\"\",\"\",VLOOKUP(L159,入力補助!C:E,3,FALSE))","v":""}]
["","","","","","","",{"$f":"IF($I160=\"\",\"\",VLOOKUP(L160,入力補助!C:E,3,FALSE))","v":""}]
["","","","","","","",{"$f":"IF($I161=\"\",\"\",VLOOKUP(L161,入力補助!C:E,3,FALSE))","v":""}]
["","","","","","","",{"$f":"IF($I162=\"\",\"\",VLOOKUP(L162,入力補助!C:E,3,FALSE))","v":""}]
["","","","","","","",{"$f":"IF($I163=\"\",\"\",VLOOKUP(L163,入力補助!C:E,3,FALSE))","v":""}]
["","","","","","","",{"$f":"IF($I164=\"\",\"\",VLOOKUP(L164,入力補助!C:E,3,FALSE))","v":""}]
["","","","","","","",{"$f":"IF($I165=\"\",\"\",VLOOKUP(L165,入力補助!C:E,3,FALSE))","v":""}]
["","","","","","","",{"$f":"IF($I166=\"\",\"\",VLOOKUP(L166,入力補助!C:E,3,FALSE))","v":""}]
["","","","","","","",{"$f":"IF($I167=\"\",\"\",VLOOKUP(L167,入力補助!C:E,3,FALSE))","v":""}]
["","","","","","","",{"$f":"IF($I168=\"\",\"\",VLOOKUP(L168,入力補助!C:E,3,FALSE))","v":""}]
["","","","","","","",{"$f":"IF($I169=\"\",\"\",VLOOKUP(L169,入力補助!C:E,3,FALSE))","v":""}]
["","","","","","","",{"$f":"IF($I170=\"\",\"\",VLOOKUP(L170,入力補助!C:E,3,FALSE))","v":""}]
["","","","","","","",{"$f":"IF($I171=\"\",\"\",VLOOKUP(L171,入力補助!C:E,3,FALSE))","v":""}]
["","","","","","","",{"$f":"IF($I172=\"\",\"\",VLOOKUP(L172,入力補助!C:E,3,FALSE))","v":""}]
["","","","","","","",{"$f":"IF($I173=\"\",\"\",VLOOKUP(L173,入力補助!C:E,3,FALSE))","v":""}]
["","","","","","","",{"$f":"IF($I174=\"\",\"\",VLOOKUP(L174,入力補助!C:E,3,FALSE))","v":""}]
["","","","","","","",{"$f":"IF($I175=\"\",\"\",VLOOKUP(L175,入力補助!C:E,3,FALSE))","v":""}]
["","","","","","","",{"$f":"IF($I176=\"\",\"\",VLOOKUP(L176,入力補助!C:E,3,FALSE))","v":""}]
["","","","","","","",{"$f":"IF($I177=\"\",\"\",VLOOKUP(L177,入力補助!C:E,3,FALSE))","v":""}]
["","","","","","","",{"$f":"IF($I178=\"\",\"\",VLOOKUP(L178,入力補助!C:E,3,FALSE))","v":""}]
["","","","","","","",{"$f":"IF($I179=\"\",\"\",VLOOKUP(L179,入力補助!C:E,3,FALSE))","v":""}]
["","","","","","","",{"$f":"IF($I180=\"\",\"\",VLOOKUP(L180,入力補助!C:E,3,FALSE))","v":""}]
["","","","","","","",{"$f":"IF($I181=\"\",\"\",VLOOKUP(L181,入力補助!C:E,3,FALSE))","v":""}]
["","","","","","","",{"$f":"IF($I182=\"\",\"\",VLOOKUP(L182,入力補助!C:E,3,FALSE))","v":""}]
["","","","","","","",{"$f":"IF($I183=\"\",\"\",VLOOKUP(L183,入力補助!C:E,3,FALSE))","v":""}]
["","","","","","","",{"$f":"IF($I184=\"\",\"\",VLOOKUP(L184,入力補助!C:E,3,FALSE))","v":""}]
["","","","","","","",{"$f":"IF($I185=\"\",\"\",VLOOKUP(L185,入力補助!C:E,3,FALSE))","v":""}]
["","","","","","","",{"$f":"IF($I186=\"\",\"\",VLOOKUP(L186,入力補助!C:E,3,FALSE))","v":""}]
["","","","","","","",{"$f":"IF($I187=\"\",\"\",VLOOKUP(L187,入力補助!C:E,3,FALSE))","v":""}]
["","","","","","","",{"$f":"IF($I188=\"\",\"\",VLOOKUP(L188,入力補助!C:E,3,FALSE))","v":""}]
["","","","","","","",{"$f":"IF($I189=\"\",\"\",VLOOKUP(L189,入力補助!C:E,3,FALSE))","v":""}]
["","","","","","","",{"$f":"IF($I190=\"\",\"\",VLOOKUP(L190,入力補助!C:E,3,FALSE))","v":""}]
["","","","","","","",{"$f":"IF($I191=\"\",\"\",VLOOKUP(L191,入力補助!C:E,3,FALSE))","v":""}]
["","","","","","","",{"$f":"IF($I192=\"\",\"\",VLOOKUP(L192,入力補助!C:E,3,FALSE))","v":""}]
["","","","","","","",{"$f":"IF($I193=\"\",\"\",VLOOKUP(L193,入力補助!C:E,3,FALSE))","v":""}]
["","","","","","","",{"$f":"IF($I194=\"\",\"\",VLOOKUP(L194,入力補助!C:E,3,FALSE))","v":""}]
["","","","","","","",{"$f":"IF($I195=\"\",\"\",VLOOKUP(L195,入力補助!C:E,3,FALSE))","v":""}]
[{"$f":"IF(I196=\"\",\"\",MONTH(I196))","v":""},{"$f":"IF(I196=\"\",\"\",$J$1)","v":""},{"$f":"IF(I196=\"\",\"\",DAY(I196))","v":""},{"$f":"IF($I196=\"\",\"\",$A196&L196)","v":""},{"$f":"IF($I196=\"\",\"\",$A196&M196)","v":""},{"$f":"IF($I196=\"\",\"\",$A196&N196)","v":""},{"$f":"IF($I196=\"\",\"\",$A196&H196)","v":""},{"$f":"IF($I196=\"\",\"\",VLOOKUP(L196,入力補助!C:E,3,FALSE))","v":""}]
["","","","","","","",{"$f":"IF($I197=\"\",\"\",VLOOKUP(L197,入力補助!C:E,3,FALSE))","v":""}]
["","","","","","","",{"$f":"IF($I198=\"\",\"\",VLOOKUP(L198,入力補助!C:E,3,FALSE))","v":""}]
["","","","","","","",{"$f":"IF($I199=\"\",\"\",VLOOKUP(L199,入力補助!C:E,3,FALSE))","v":""}]
["","","","","","","",{"$f":"IF($I200=\"\",\"\",VLOOKUP(L200,入力補助!C:E,3,FALSE))","v":""}]
["","","","","","","",{"$f":"IF($I201=\"\",\"\",VLOOKUP(L201,入力補助!C:E,3,FALSE))","v":""}]
["","","","","","","",{"$f":"IF($I202=\"\",\"\",VLOOKUP(L202,入力補助!C:E,3,FALSE))","v":""}]
["","","","","","","",{"$f":"IF($I203=\"\",\"\",VLOOKUP(L203,入力補助!C:E,3,FALSE))","v":""}]
["","","","","","","",{"$f":"IF($I204=\"\",\"\",VLOOKUP(L204,入力補助!C:E,3,FALSE))","v":""}]
["","","","","","","",{"$f":"IF($I205=\"\",\"\",VLOOKUP(L205,入力補助!C:E,3,FALSE))","v":""}]
["","","","","","","",{"$f":"IF($I206=\"\",\"\",VLOOKUP(L206,入力補助!C:E,3,FALSE))","v":""}]
["","","","","","","",{"$f":"IF($I207=\"\",\"\",VLOOKUP(L207,入力補助!C:E,3,FALSE))","v":""}]
["","","","","","","",{"$f":"IF($I208=\"\",\"\",VLOOKUP(L208,入力補助!C:E,3,FALSE))","v":""}]
["","","","","","","",{"$f":"IF($I209=\"\",\"\",VLOOKUP(L209,入力補助!C:E,3,FALSE))","v":""}]
["","","","","","","",{"$f":"IF($I210=\"\",\"\",VLOOKUP(L210,入力補助!C:E,3,FALSE))","v":""}]
["","","","","","","",{"$f":"IF($I211=\"\",\"\",VLOOKUP(L211,入力補助!C:E,3,FALSE))","v":""}]
["","","","","","","",{"$f":"IF($I212=\"\",\"\",VLOOKUP(L212,入力補助!C:E,3,FALSE))","v":""}]
["","","","","","","",{"$f":"IF($I213=\"\",\"\",VLOOKUP(L213,入力補助!C:E,3,FALSE))","v":""}]
["","","","","","","",{"$f":"IF($I214=\"\",\"\",VLOOKUP(L214,入力補助!C:E,3,FALSE))","v":""}]
["","","","","","","",{"$f":"IF($I215=\"\",\"\",VLOOKUP(L215,入力補助!C:E,3,FALSE))","v":""}]
["","","","","","","",{"$f":"IF($I216=\"\",\"\",VLOOKUP(L216,入力補助!C:E,3,FALSE))","v":""}]
["","","","","","","",{"$f":"IF($I217=\"\",\"\",VLOOKUP(L217,入力補助!C:E,3,FALSE))","v":""}]
["","","","","","","",{"$f":"IF($I218=\"\",\"\",VLOOKUP(L218,入力補助!C:E,3,FALSE))","v":""}]
["","","","","","","",{"$f":"IF($I219=\"\",\"\",VLOOKUP(L219,入力補助!C:E,3,FALSE))","v":""}]
["","","","","","","",{"$f":"IF($I220=\"\",\"\",VLOOKUP(L220,入力補助!C:E,3,FALSE))","v":""}]
["","","","","","","",{"$f":"IF($I221=\"\",\"\",VLOOKUP(L221,入力補助!C:E,3,FALSE))","v":""}]
["","","","","","","",{"$f":"IF($I222=\"\",\"\",VLOOKUP(L222,入力補助!C:E,3,FALSE))","v":""}]
["","","","","","","",{"$f":"IF($I223=\"\",\"\",VLOOKUP(L223,入力補助!C:E,3,FALSE))","v":""}]
["","","","","","","",{"$f":"IF($I224=\"\",\"\",VLOOKUP(L224,入力補助!C:E,3,FALSE))","v":""}]
["","","","","","","",{"$f":"IF($I225=\"\",\"\",VLOOKUP(L225,入力補助!C:E,3,FALSE))","v":""}]
["","","","","","","",{"$f":"IF($I226=\"\",\"\",VLOOKUP(L226,入力補助!C:E,3,FALSE))","v":""}]
["","","","","","","",{"$f":"IF($I227=\"\",\"\",VLOOKUP(L227,入力補助!C:E,3,FALSE))","v":""}]
["","","","","","","",{"$f":"IF($I228=\"\",\"\",VLOOKUP(L228,入力補助!C:E,3,FALSE))","v":""}]
["","","","","","","",{"$f":"IF($I229=\"\",\"\",VLOOKUP(L229,入力補助!C:E,3,FALSE))","v":""}]
["","","","","","","",{"$f":"IF($I230=\"\",\"\",VLOOKUP(L230,入力補助!C:E,3,FALSE))","v":""}]
["","","","","","","",{"$f":"IF($I231=\"\",\"\",VLOOKUP(L231,入力補助!C:E,3,FALSE))","v":""}]
["","","","","","","",{"$f":"IF($I232=\"\",\"\",VLOOKUP(L232,入力補助!C:E,3,FALSE))","v":""}]
["","","","","","","",{"$f":"IF($I233=\"\",\"\",VLOOKUP(L233,入力補助!C:E,3,FALSE))","v":""}]
["","","","","","","",{"$f":"IF($I234=\"\",\"\",VLOOKUP(L234,入力補助!C:E,3,FALSE))","v":""}]
["","","","","","","",{"$f":"IF($I235=\"\",\"\",VLOOKUP(L235,入力補助!C:E,3,FALSE))","v":""}]
["","","","","","","",{"$f":"IF($I236=\"\",\"\",VLOOKUP(L236,入力補助!C:E,3,FALSE))","v":""}]
["","","","","","","",{"$f":"IF($I237=\"\",\"\",VLOOKUP(L237,入力補助!C:E,3,FALSE))","v":""}]
["","","","","","","",{"$f":"IF($I238=\"\",\"\",VLOOKUP(L238,入力補助!C:E,3,FALSE))","v":""}]
["","","","","","","",{"$f":"IF($I239=\"\",\"\",VLOOKUP(L239,入力補助!C:E,3,FALSE))","v":""}]
["","","","","","","",{"$f":"IF($I240=\"\",\"\",VLOOKUP(L240,入力補助!C:E,3,FALSE))","v":""}]
["","","","","","","",{"$f":"IF($I241=\"\",\"\",VLOOKUP(L241,入力補助!C:E,3,FALSE))","v":""}]
["","","","","","","",{"$f":"IF($I242=\"\",\"\",VLOOKUP(L242,入力補助!C:E,3,FALSE))","v":""}]
["","","","","","","",{"$f":"IF($I243=\"\",\"\",VLOOKUP(L243,入力補助!C:E,3,FALSE))","v":""}]
["","","","","","","",{"$f":"IF($I244=\"\",\"\",VLOOKUP(L244,入力補助!C:E,3,FALSE))","v":""}]
["","","","","","","",{"$f":"IF($I245=\"\",\"\",VLOOKUP(L245,入力補助!C:E,3,FALSE))","v":""}]
["","","","","","","",{"$f":"IF($I246=\"\",\"\",VLOOKUP(L246,入力補助!C:E,3,FALSE))","v":""}]
["","","","","","","",{"$f":"IF($I247=\"\",\"\",VLOOKUP(L247,入力補助!C:E,3,FALSE))","v":""}]
["","","","","","","",{"$f":"IF($I248=\"\",\"\",VLOOKUP(L248,入力補助!C:E,3,FALSE))","v":""}]
["","","","","","","",{"$f":"IF($I249=\"\",\"\",VLOOKUP(L249,入力補助!C:E,3,FALSE))","v":""}]
["","","","","","","",{"$f":"IF($I250=\"\",\"\",VLOOKUP(L250,入力補助!C:E,3,FALSE))","v":""}]
["","","","","","","",{"$f":"IF($I251=\"\",\"\",VLOOKUP(L251,入力補助!C:E,3,FALSE))","v":""}]
["","","","","","","",{"$f":"IF($I252=\"\",\"\",VLOOKUP(L252,入力補助!C:E,3,FALSE))","v":""}]
["","","","","","","",{"$f":"IF($I253=\"\",\"\",VLOOKUP(L253,入力補助!C:E,3,FALSE))","v":""}]
["","","","","","","",{"$f":"IF($I254=\"\",\"\",VLOOKUP(L254,入力補助!C:E,3,FALSE))","v":""}]
["","","","","","","",{"$f":"IF($I255=\"\",\"\",VLOOKUP(L255,入力補助!C:E,3,FALSE))","v":""}]
["","","","","","","",{"$f":"IF($I256=\"\",\"\",VLOOKUP(L256,入力補助!C:E,3,FALSE))","v":""}]
["","","","","","","",{"$f":"IF($I257=\"\",\"\",VLOOKUP(L257,入力補助!C:E,3,FALSE))","v":""}]
["","","","","","","",{"$f":"IF($I258=\"\",\"\",VLOOKUP(L258,入力補助!C:E,3,FALSE))","v":""}]
["","","","","","","",{"$f":"IF($I259=\"\",\"\",VLOOKUP(L259,入力補助!C:E,3,FALSE))","v":""}]
[{"$f":"IF(I260=\"\",\"\",MONTH(I260))","v":""},{"$f":"IF(I260=\"\",\"\",$J$1)","v":""},{"$f":"IF(I260=\"\",\"\",DAY(I260))","v":""},{"$f":"IF($I260=\"\",\"\",$A260&L260)","v":""},{"$f":"IF($I260=\"\",\"\",$A260&M260)","v":""},{"$f":"IF($I260=\"\",\"\",$A260&N260)","v":""},{"$f":"IF($I260=\"\",\"\",$A260&H260)","v":""},{"$f":"IF($I260=\"\",\"\",VLOOKUP(L260,入力補助!C:E,3,FALSE))","v":""}]
["","","","","","","",{"$f":"IF($I261=\"\",\"\",VLOOKUP(L261,入力補助!C:E,3,FALSE))","v":""}]
["","","","","","","",{"$f":"IF($I262=\"\",\"\",VLOOKUP(L262,入力補助!C:E,3,FALSE))","v":""}]
["","","","","","","",{"$f":"IF($I263=\"\",\"\",VLOOKUP(L263,入力補助!C:E,3,FALSE))","v":""}]
["","","","","","","",{"$f":"IF($I264=\"\",\"\",VLOOKUP(L264,入力補助!C:E,3,FALSE))","v":""}]
["","","","","","","",{"$f":"IF($I265=\"\",\"\",VLOOKUP(L265,入力補助!C:E,3,FALSE))","v":""}]
["","","","","","","",{"$f":"IF($I266=\"\",\"\",VLOOKUP(L266,入力補助!C:E,3,FALSE))","v":""}]
["","","","","","","",{"$f":"IF($I267=\"\",\"\",VLOOKUP(L267,入力補助!C:E,3,FALSE))","v":""}]
["","","","","","","",{"$f":"IF($I268=\"\",\"\",VLOOKUP(L268,入力補助!C:E,3,FALSE))","v":""}]
["","","","","","","",{"$f":"IF($I269=\"\",\"\",VLOOKUP(L269,入力補助!C:E,3,FALSE))","v":""}]
["","","","","","","",{"$f":"IF($I270=\"\",\"\",VLOOKUP(L270,入力補助!C:E,3,FALSE))","v":""}]
["","","","","","","",{"$f":"IF($I271=\"\",\"\",VLOOKUP(L271,入力補助!C:E,3,FALSE))","v":""}]
["","","","","","","",{"$f":"IF($I272=\"\",\"\",VLOOKUP(L272,入力補助!C:E,3,FALSE))","v":""}]
["","","","","","","",{"$f":"IF($I273=\"\",\"\",VLOOKUP(L273,入力補助!C:E,3,FALSE))","v":""}]
["","","","","","","",{"$f":"IF($I274=\"\",\"\",VLOOKUP(L274,入力補助!C:E,3,FALSE))","v":""}]
["","","","","","","",{"$f":"IF($I275=\"\",\"\",VLOOKUP(L275,入力補助!C:E,3,FALSE))","v":""}]
["","","","","","","",{"$f":"IF($I276=\"\",\"\",VLOOKUP(L276,入力補助!C:E,3,FALSE))","v":""}]
["","","","","","","",{"$f":"IF($I277=\"\",\"\",VLOOKUP(L277,入力補助!C:E,3,FALSE))","v":""}]
["","","","","","","",{"$f":"IF($I278=\"\",\"\",VLOOKUP(L278,入力補助!C:E,3,FALSE))","v":""}]
["","","","","","","",{"$f":"IF($I279=\"\",\"\",VLOOKUP(L279,入力補助!C:E,3,FALSE))","v":""}]
["","","","","","","",{"$f":"IF($I280=\"\",\"\",VLOOKUP(L280,入力補助!C:E,3,FALSE))","v":""}]
["","","","","","","",{"$f":"IF($I281=\"\",\"\",VLOOKUP(L281,入力補助!C:E,3,FALSE))","v":""}]
["","","","","","","",{"$f":"IF($I282=\"\",\"\",VLOOKUP(L282,入力補助!C:E,3,FALSE))","v":""}]
["","","","","","","",{"$f":"IF($I283=\"\",\"\",VLOOKUP(L283,入力補助!C:E,3,FALSE))","v":""}]
["","","","","","","",{"$f":"IF($I284=\"\",\"\",VLOOKUP(L284,入力補助!C:E,3,FALSE))","v":""}]
["","","","","","","",{"$f":"IF($I285=\"\",\"\",VLOOKUP(L285,入力補助!C:E,3,FALSE))","v":""}]
["","","","","","","",{"$f":"IF($I286=\"\",\"\",VLOOKUP(L286,入力補助!C:E,3,FALSE))","v":""}]
["","","","","","","",{"$f":"IF($I287=\"\",\"\",VLOOKUP(L287,入力補助!C:E,3,FALSE))","v":""}]
["","","","","","","",{"$f":"IF($I288=\"\",\"\",VLOOKUP(L288,入力補助!C:E,3,FALSE))","v":""}]
["","","","","","","",{"$f":"IF($I289=\"\",\"\",VLOOKUP(L289,入力補助!C:E,3,FALSE))","v":""}]
["","","","","","","",{"$f":"IF($I290=\"\",\"\",VLOOKUP(L290,入力補助!C:E,3,FALSE))","v":""}]
["","","","","","","",{"$f":"IF($I291=\"\",\"\",VLOOKUP(L291,入力補助!C:E,3,FALSE))","v":""}]
["","","","","","","",{"$f":"IF($I292=\"\",\"\",VLOOKUP(L292,入力補助!C:E,3,FALSE))","v":""}]
["","","","","","","",{"$f":"IF($I293=\"\",\"\",VLOOKUP(L293,入力補助!C:E,3,FALSE))","v":""}]
["","","","","","","",{"$f":"IF($I294=\"\",\"\",VLOOKUP(L294,入力補助!C:E,3,FALSE))","v":""}]
["","","","","","","",{"$f":"IF($I295=\"\",\"\",VLOOKUP(L295,入力補助!C:E,3,FALSE))","v":""}]
["","","","","","","",{"$f":"IF($I296=\"\",\"\",VLOOKUP(L296,入力補助!C:E,3,FALSE))","v":""}]
["","","","","","","",{"$f":"IF($I297=\"\",\"\",VLOOKUP(L297,入力補助!C:E,3,FALSE))","v":""}]
["","","","","","","",{"$f":"IF($I298=\"\",\"\",VLOOKUP(L298,入力補助!C:E,3,FALSE))","v":""}]
["","","","","","","",{"$f":"IF($I299=\"\",\"\",VLOOKUP(L299,入力補助!C:E,3,FALSE))","v":""}]
["","","","","","","",{"$f":"IF($I300=\"\",\"\",VLOOKUP(L300,入力補助!C:E,3,FALSE))","v":""}]
["","","","","","","",{"$f":"IF($I301=\"\",\"\",VLOOKUP(L301,入力補助!C:E,3,FALSE))","v":""}]
["","","","","","","",{"$f":"IF($I302=\"\",\"\",VLOOKUP(L302,入力補助!C:E,3,FALSE))","v":""}]
["","","","","","","",{"$f":"IF($I303=\"\",\"\",VLOOKUP(L303,入力補助!C:E,3,FALSE))","v":""}]
["","","","","","","",{"$f":"IF($I304=\"\",\"\",VLOOKUP(L304,入力補助!C:E,3,FALSE))","v":""}]
["","","","","","","",{"$f":"IF($I305=\"\",\"\",VLOOKUP(L305,入力補助!C:E,3,FALSE))","v":""}]
["","","","","","","",{"$f":"IF($I306=\"\",\"\",VLOOKUP(L306,入力補助!C:E,3,FALSE))","v":""}]
["","","","","","","",{"$f":"IF($I307=\"\",\"\",VLOOKUP(L307,入力補助!C:E,3,FALSE))","v":""}]
["","","","","","","",{"$f":"IF($I308=\"\",\"\",VLOOKUP(L308,入力補助!C:E,3,FALSE))","v":""}]
["","","","","","","",{"$f":"IF($I309=\"\",\"\",VLOOKUP(L309,入力補助!C:E,3,FALSE))","v":""}]
["","","","","","","",{"$f":"IF($I310=\"\",\"\",VLOOKUP(L310,入力補助!C:E,3,FALSE))","v":""}]
["","","","","","","",{"$f":"IF($I311=\"\",\"\",VLOOKUP(L311,入力補助!C:E,3,FALSE))","v":""}]
["","","","","","","",{"$f":"IF($I312=\"\",\"\",VLOOKUP(L312,入力補助!C:E,3,FALSE))","v":""}]
["","","","","","","",{"$f":"IF($I313=\"\",\"\",VLOOKUP(L313,入力補助!C:E,3,FALSE))","v":""}]
["","","","","","","",{"$f":"IF($I314=\"\",\"\",VLOOKUP(L314,入力補助!C:E,3,FALSE))","v":""}]
["","","","","","","",{"$f":"IF($I315=\"\",\"\",VLOOKUP(L315,入力補助!C:E,3,FALSE))","v":""}]
["","","","","","","",{"$f":"IF($I316=\"\",\"\",VLOOKUP(L316,入力補助!C:E,3,FALSE))","v":""}]
["","","","","","","",{"$f":"IF($I317=\"\",\"\",VLOOKUP(L317,入力補助!C:E,3,FALSE))","v":""}]
["","","","","","","",{"$f":"IF($I318=\"\",\"\",VLOOKUP(L318,入力補助!C:E,3,FALSE))","v":""}]
["","","","","","","",{"$f":"IF($I319=\"\",\"\",VLOOKUP(L319,入力補助!C:E,3,FALSE))","v":""}]
["","","","","","","",{"$f":"IF($I320=\"\",\"\",VLOOKUP(L320,入力補助!C:E,3,FALSE))","v":""}]
["","","","","","","",{"$f":"IF($I321=\"\",\"\",VLOOKUP(L321,入力補助!C:E,3,FALSE))","v":""}]
["","","","","","","",{"$f":"IF($I322=\"\",\"\",VLOOKUP(L322,入力補助!C:E,3,FALSE))","v":""}]
["","","","","","","",{"$f":"IF($I323=\"\",\"\",VLOOKUP(L323,入力補助!C:E,3,FALSE))","v":""}]
[{"$f":"IF(I324=\"\",\"\",MONTH(I324))","v":""},{"$f":"IF(I324=\"\",\"\",$J$1)","v":""},{"$f":"IF(I324=\"\",\"\",DAY(I324))","v":""},{"$f":"IF($I324=\"\",\"\",$A324&L324)","v":""},{"$f":"IF($I324=\"\",\"\",$A324&M324)","v":""},{"$f":"IF($I324=\"\",\"\",$A324&N324)","v":""},{"$f":"IF($I324=\"\",\"\",$A324&H324)","v":""},{"$f":"IF($I324=\"\",\"\",VLOOKUP(L324,入力補助!C:E,3,FALSE))","v":""}]
["","","","","","","",{"$f":"IF($I325=\"\",\"\",VLOOKUP(L325,入力補助!C:E,3,FALSE))","v":""}]
["","","","","","","",{"$f":"IF($I326=\"\",\"\",VLOOKUP(L326,入力補助!C:E,3,FALSE))","v":""}]
["","","","","","","",{"$f":"IF($I327=\"\",\"\",VLOOKUP(L327,入力補助!C:E,3,FALSE))","v":""}]
["","","","","","","",{"$f":"IF($I328=\"\",\"\",VLOOKUP(L328,入力補助!C:E,3,FALSE))","v":""}]
["","","","","","","",{"$f":"IF($I329=\"\",\"\",VLOOKUP(L329,入力補助!C:E,3,FALSE))","v":""}]
["","","","","","","",{"$f":"IF($I330=\"\",\"\",VLOOKUP(L330,入力補助!C:E,3,FALSE))","v":""}]
["","","","","","","",{"$f":"IF($I331=\"\",\"\",VLOOKUP(L331,入力補助!C:E,3,FALSE))","v":""}]
["","","","","","","",{"$f":"IF($I332=\"\",\"\",VLOOKUP(L332,入力補助!C:E,3,FALSE))","v":""}]
["","","","","","","",{"$f":"IF($I333=\"\",\"\",VLOOKUP(L333,入力補助!C:E,3,FALSE))","v":""}]
["","","","","","","",{"$f":"IF($I334=\"\",\"\",VLOOKUP(L334,入力補助!C:E,3,FALSE))","v":""}]
["","","","","","","",{"$f":"IF($I335=\"\",\"\",VLOOKUP(L335,入力補助!C:E,3,FALSE))","v":""}]
["","","","","","","",{"$f":"IF($I336=\"\",\"\",VLOOKUP(L336,入力補助!C:E,3,FALSE))","v":""}]
["","","","","","","",{"$f":"IF($I337=\"\",\"\",VLOOKUP(L337,入力補助!C:E,3,FALSE))","v":""}]
["","","","","","","",{"$f":"IF($I338=\"\",\"\",VLOOKUP(L338,入力補助!C:E,3,FALSE))","v":""}]
["","","","","","","",{"$f":"IF($I339=\"\",\"\",VLOOKUP(L339,入力補助!C:E,3,FALSE))","v":""}]
["","","","","","","",{"$f":"IF($I340=\"\",\"\",VLOOKUP(L340,入力補助!C:E,3,FALSE))","v":""}]
["","","","","","","",{"$f":"IF($I341=\"\",\"\",VLOOKUP(L341,入力補助!C:E,3,FALSE))","v":""}]
["","","","","","","",{"$f":"IF($I342=\"\",\"\",VLOOKUP(L342,入力補助!C:E,3,FALSE))","v":""}]
["","","","","","","",{"$f":"IF($I343=\"\",\"\",VLOOKUP(L343,入力補助!C:E,3,FALSE))","v":""}]
["","","","","","","",{"$f":"IF($I344=\"\",\"\",VLOOKUP(L344,入力補助!C:E,3,FALSE))","v":""}]
["","","","","","","",{"$f":"IF($I345=\"\",\"\",VLOOKUP(L345,入力補助!C:E,3,FALSE))","v":""}]
["","","","","","","",{"$f":"IF($I346=\"\",\"\",VLOOKUP(L346,入力補助!C:E,3,FALSE))","v":""}]
["","","","","","","",{"$f":"IF($I347=\"\",\"\",VLOOKUP(L347,入力補助!C:E,3,FALSE))","v":""}]
["","","","","","","",{"$f":"IF($I348=\"\",\"\",VLOOKUP(L348,入力補助!C:E,3,FALSE))","v":""}]
["","","","","","","",{"$f":"IF($I349=\"\",\"\",VLOOKUP(L349,入力補助!C:E,3,FALSE))","v":""}]
["","","","","","","",{"$f":"IF($I350=\"\",\"\",VLOOKUP(L350,入力補助!C:E,3,FALSE))","v":""}]
["","","","","","","",{"$f":"IF($I351=\"\",\"\",VLOOKUP(L351,入力補助!C:E,3,FALSE))","v":""}]
["","","","","","","",{"$f":"IF($I352=\"\",\"\",VLOOKUP(L352,入力補助!C:E,3,FALSE))","v":""}]
["","","","","","","",{"$f":"IF($I353=\"\",\"\",VLOOKUP(L353,入力補助!C:E,3,FALSE))","v":""}]
["","","","","","","",{"$f":"IF($I354=\"\",\"\",VLOOKUP(L354,入力補助!C:E,3,FALSE))","v":""}]
["","","","","","","",{"$f":"IF($I355=\"\",\"\",VLOOKUP(L355,入力補助!C:E,3,FALSE))","v":""}]
["","","","","","","",{"$f":"IF($I356=\"\",\"\",VLOOKUP(L356,入力補助!C:E,3,FALSE))","v":""}]
["","","","","","","",{"$f":"IF($I357=\"\",\"\",VLOOKUP(L357,入力補助!C:E,3,FALSE))","v":""}]
["","","","","","","",{"$f":"IF($I358=\"\",\"\",VLOOKUP(L358,入力補助!C:E,3,FALSE))","v":""}]
["","","","","","","",{"$f":"IF($I359=\"\",\"\",VLOOKUP(L359,入力補助!C:E,3,FALSE))","v":""}]
["","","","","","","",{"$f":"IF($I360=\"\",\"\",VLOOKUP(L360,入力補助!C:E,3,FALSE))","v":""}]
["","","","","","","",{"$f":"IF($I361=\"\",\"\",VLOOKUP(L361,入力補助!C:E,3,FALSE))","v":""}]
["","","","","","","",{"$f":"IF($I362=\"\",\"\",VLOOKUP(L362,入力補助!C:E,3,FALSE))","v":""}]
["","","","","","","",{"$f":"IF($I363=\"\",\"\",VLOOKUP(L363,入力補助!C:E,3,FALSE))","v":""}]
["","","","","","","",{"$f":"IF($I364=\"\",\"\",VLOOKUP(L364,入力補助!C:E,3,FALSE))","v":""}]
["","","","","","","",{"$f":"IF($I365=\"\",\"\",VLOOKUP(L365,入力補助!C:E,3,FALSE))","v":""}]
["","","","","","","",{"$f":"IF($I366=\"\",\"\",VLOOKUP(L366,入力補助!C:E,3,FALSE))","v":""}]
["","","","","","","",{"$f":"IF($I367=\"\",\"\",VLOOKUP(L367,入力補助!C:E,3,FALSE))","v":""}]
["","","","","","","",{"$f":"IF($I368=\"\",\"\",VLOOKUP(L368,入力補助!C:E,3,FALSE))","v":""}]
["","","","","","","",{"$f":"IF($I369=\"\",\"\",VLOOKUP(L369,入力補助!C:E,3,FALSE))","v":""}]
["","","","","","","",{"$f":"IF($I370=\"\",\"\",VLOOKUP(L370,入力補助!C:E,3,FALSE))","v":""}]
["","","","","","","",{"$f":"IF($I371=\"\",\"\",VLOOKUP(L371,入力補助!C:E,3,FALSE))","v":""}]
["","","","","","","",{"$f":"IF($I372=\"\",\"\",VLOOKUP(L372,入力補助!C:E,3,FALSE))","v":""}]
["","","","","","","",{"$f":"IF($I373=\"\",\"\",VLOOKUP(L373,入力補助!C:E,3,FALSE))","v":""}]
["","","","","","","",{"$f":"IF($I374=\"\",\"\",VLOOKUP(L374,入力補助!C:E,3,FALSE))","v":""}]
["","","","","","","",{"$f":"IF($I375=\"\",\"\",VLOOKUP(L375,入力補助!C:E,3,FALSE))","v":""}]
["","","","","","","",{"$f":"IF($I376=\"\",\"\",VLOOKUP(L376,入力補助!C:E,3,FALSE))","v":""}]
["","","","","","","",{"$f":"IF($I377=\"\",\"\",VLOOKUP(L377,入力補助!C:E,3,FALSE))","v":""}]
["","","","","","","",{"$f":"IF($I378=\"\",\"\",VLOOKUP(L378,入力補助!C:E,3,FALSE))","v":""}]
["","","","","","","",{"$f":"IF($I379=\"\",\"\",VLOOKUP(L379,入力補助!C:E,3,FALSE))","v":""}]
["","","","","","","",{"$f":"IF($I380=\"\",\"\",VLOOKUP(L380,入力補助!C:E,3,FALSE))","v":""}]
["","","","","","","",{"$f":"IF($I381=\"\",\"\",VLOOKUP(L381,入力補助!C:E,3,FALSE))","v":""}]
["","","","","","","",{"$f":"IF($I382=\"\",\"\",VLOOKUP(L382,入力補助!C:E,3,FALSE))","v":""}]
["","","","","","","",{"$f":"IF($I383=\"\",\"\",VLOOKUP(L383,入力補助!C:E,3,FALSE))","v":""}]
["","","","","","","",{"$f":"IF($I384=\"\",\"\",VLOOKUP(L384,入力補助!C:E,3,FALSE))","v":""}]
["","","","","","","",{"$f":"IF($I385=\"\",\"\",VLOOKUP(L385,入力補助!C:E,3,FALSE))","v":""}]
["","","","","","","",{"$f":"IF($I386=\"\",\"\",VLOOKUP(L386,入力補助!C:E,3,FALSE))","v":""}]
["","","","","","","",{"$f":"IF($I387=\"\",\"\",VLOOKUP(L387,入力補助!C:E,3,FALSE))","v":""}]
[{"$f":"IF(I388=\"\",\"\",MONTH(I388))","v":""},{"$f":"IF(I388=\"\",\"\",$J$1)","v":""},{"$f":"IF(I388=\"\",\"\",DAY(I388))","v":""},{"$f":"IF($I388=\"\",\"\",$A388&L388)","v":""},{"$f":"IF($I388=\"\",\"\",$A388&M388)","v":""},{"$f":"IF($I388=\"\",\"\",$A388&N388)","v":""},{"$f":"IF($I388=\"\",\"\",$A388&H388)","v":""},{"$f":"IF($I388=\"\",\"\",VLOOKUP(L388,入力補助!C:E,3,FALSE))","v":""}]
["","","","","","","",{"$f":"IF($I389=\"\",\"\",VLOOKUP(L389,入力補助!C:E,3,FALSE))","v":""}]
["","","","","","","",{"$f":"IF($I390=\"\",\"\",VLOOKUP(L390,入力補助!C:E,3,FALSE))","v":""}]
["","","","","","","",{"$f":"IF($I391=\"\",\"\",VLOOKUP(L391,入力補助!C:E,3,FALSE))","v":""}]
["","","","","","","",{"$f":"IF($I392=\"\",\"\",VLOOKUP(L392,入力補助!C:E,3,FALSE))","v":""}]
["","","","","","","",{"$f":"IF($I393=\"\",\"\",VLOOKUP(L393,入力補助!C:E,3,FALSE))","v":""}]
["","","","","","","",{"$f":"IF($I394=\"\",\"\",VLOOKUP(L394,入力補助!C:E,3,FALSE))","v":""}]
["","","","","","","",{"$f":"IF($I395=\"\",\"\",VLOOKUP(L395,入力補助!C:E,3,FALSE))","v":""}]
["","","","","","","",{"$f":"IF($I396=\"\",\"\",VLOOKUP(L396,入力補助!C:E,3,FALSE))","v":""}]
["","","","","","","",{"$f":"IF($I397=\"\",\"\",VLOOKUP(L397,入力補助!C:E,3,FALSE))","v":""}]
["","","","","","","",{"$f":"IF($I398=\"\",\"\",VLOOKUP(L398,入力補助!C:E,3,FALSE))","v":""}]
["","","","","","","",{"$f":"IF($I399=\"\",\"\",VLOOKUP(L399,入力補助!C:E,3,FALSE))","v":""}]
["","","","","","","",{"$f":"IF($I400=\"\",\"\",VLOOKUP(L400,入力補助!C:E,3,FALSE))","v":""}]
["","","","","","","",{"$f":"IF($I401=\"\",\"\",VLOOKUP(L401,入力補助!C:E,3,FALSE))","v":""}]
["","","","","","","",{"$f":"IF($I402=\"\",\"\",VLOOKUP(L402,入力補助!C:E,3,FALSE))","v":""}]
["","","","","","","",{"$f":"IF($I403=\"\",\"\",VLOOKUP(L403,入力補助!C:E,3,FALSE))","v":""}]
["","","","","","","",{"$f":"IF($I404=\"\",\"\",VLOOKUP(L404,入力補助!C:E,3,FALSE))","v":""}]
["","","","","","","",{"$f":"IF($I405=\"\",\"\",VLOOKUP(L405,入力補助!C:E,3,FALSE))","v":""}]
["","","","","","","",{"$f":"IF($I406=\"\",\"\",VLOOKUP(L406,入力補助!C:E,3,FALSE))","v":""}]
["","","","","","","",{"$f":"IF($I407=\"\",\"\",VLOOKUP(L407,入力補助!C:E,3,FALSE))","v":""}]
["","","","","","","",{"$f":"IF($I408=\"\",\"\",VLOOKUP(L408,入力補助!C:E,3,FALSE))","v":""}]
["","","","","","","",{"$f":"IF($I409=\"\",\"\",VLOOKUP(L409,入力補助!C:E,3,FALSE))","v":""}]
["","","","","","","",{"$f":"IF($I410=\"\",\"\",VLOOKUP(L410,入力補助!C:E,3,FALSE))","v":""}]
["","","","","","","",{"$f":"IF($I411=\"\",\"\",VLOOKUP(L411,入力補助!C:E,3,FALSE))","v":""}]
["","","","","","","",{"$f":"IF($I412=\"\",\"\",VLOOKUP(L412,入力補助!C:E,3,FALSE))","v":""}]
["","","","","","","",{"$f":"IF($I413=\"\",\"\",VLOOKUP(L413,入力補助!C:E,3,FALSE))","v":""}]
["","","","","","","",{"$f":"IF($I414=\"\",\"\",VLOOKUP(L414,入力補助!C:E,3,FALSE))","v":""}]
["","","","","","","",{"$f":"IF($I415=\"\",\"\",VLOOKUP(L415,入力補助!C:E,3,FALSE))","v":""}]
["","","","","","","",{"$f":"IF($I416=\"\",\"\",VLOOKUP(L416,入力補助!C:E,3,FALSE))","v":""}]
["","","","","","","",{"$f":"IF($I417=\"\",\"\",VLOOKUP(L417,入力補助!C:E,3,FALSE))","v":""}]
["","","","","","","",{"$f":"IF($I418=\"\",\"\",VLOOKUP(L418,入力補助!C:E,3,FALSE))","v":""}]
["","","","","","","",{"$f":"IF($I419=\"\",\"\",VLOOKUP(L419,入力補助!C:E,3,FALSE))","v":""}]
["","","","","","","",{"$f":"IF($I420=\"\",\"\",VLOOKUP(L420,入力補助!C:E,3,FALSE))","v":""}]
["","","","","","","",{"$f":"IF($I421=\"\",\"\",VLOOKUP(L421,入力補助!C:E,3,FALSE))","v":""}]
["","","","","","","",{"$f":"IF($I422=\"\",\"\",VLOOKUP(L422,入力補助!C:E,3,FALSE))","v":""}]
["","","","","","","",{"$f":"IF($I423=\"\",\"\",VLOOKUP(L423,入力補助!C:E,3,FALSE))","v":""}]
["","","","","","","",{"$f":"IF($I424=\"\",\"\",VLOOKUP(L424,入力補助!C:E,3,FALSE))","v":""}]
["","","","","","","",{"$f":"IF($I425=\"\",\"\",VLOOKUP(L425,入力補助!C:E,3,FALSE))","v":""}]
["","","","","","","",{"$f":"IF($I426=\"\",\"\",VLOOKUP(L426,入力補助!C:E,3,FALSE))","v":""}]
["","","","","","","",{"$f":"IF($I427=\"\",\"\",VLOOKUP(L427,入力補助!C:E,3,FALSE))","v":""}]
["","","","","","","",{"$f":"IF($I428=\"\",\"\",VLOOKUP(L428,入力補助!C:E,3,FALSE))","v":""}]
["","","","","","","",{"$f":"IF($I429=\"\",\"\",VLOOKUP(L429,入力補助!C:E,3,FALSE))","v":""}]
["","","","","","","",{"$f":"IF($I430=\"\",\"\",VLOOKUP(L430,入力補助!C:E,3,FALSE))","v":""}]
["","","","","","","",{"$f":"IF($I431=\"\",\"\",VLOOKUP(L431,入力補助!C:E,3,FALSE))","v":""}]
["","","","","","","",{"$f":"IF($I432=\"\",\"\",VLOOKUP(L432,入力補助!C:E,3,FALSE))","v":""}]
["","","","","","","",{"$f":"IF($I433=\"\",\"\",VLOOKUP(L433,入力補助!C:E,3,FALSE))","v":""}]
["","","","","","","",{"$f":"IF($I434=\"\",\"\",VLOOKUP(L434,入力補助!C:E,3,FALSE))","v":""}]
["","","","","","","",{"$f":"IF($I435=\"\",\"\",VLOOKUP(L435,入力補助!C:E,3,FALSE))","v":""}]
["","","","","","","",{"$f":"IF($I436=\"\",\"\",VLOOKUP(L436,入力補助!C:E,3,FALSE))","v":""}]
["","","","","","","",{"$f":"IF($I437=\"\",\"\",VLOOKUP(L437,入力補助!C:E,3,FALSE))","v":""}]
["","","","","","","",{"$f":"IF($I438=\"\",\"\",VLOOKUP(L438,入力補助!C:E,3,FALSE))","v":""}]
["","","","","","","",{"$f":"IF($I439=\"\",\"\",VLOOKUP(L439,入力補助!C:E,3,FALSE))","v":""}]
["","","","","","","",{"$f":"IF($I440=\"\",\"\",VLOOKUP(L440,入力補助!C:E,3,FALSE))","v":""}]
["","","","","","","",{"$f":"IF($I441=\"\",\"\",VLOOKUP(L441,入力補助!C:E,3,FALSE))","v":""}]
["","","","","","","",{"$f":"IF($I442=\"\",\"\",VLOOKUP(L442,入力補助!C:E,3,FALSE))","v":""}]
["","","","","","","",{"$f":"IF($I443=\"\",\"\",VLOOKUP(L443,入力補助!C:E,3,FALSE))","v":""}]
["","","","","","","",{"$f":"IF($I444=\"\",\"\",VLOOKUP(L444,入力補助!C:E,3,FALSE))","v":""}]
["","","","","","","",{"$f":"IF($I445=\"\",\"\",VLOOKUP(L445,入力補助!C:E,3,FALSE))","v":""}]
["","","","","","","",{"$f":"IF($I446=\"\",\"\",VLOOKUP(L446,入力補助!C:E,3,FALSE))","v":""}]
["","","","","","","",{"$f":"IF($I447=\"\",\"\",VLOOKUP(L447,入力補助!C:E,3,FALSE))","v":""}]
["","","","","","","",{"$f":"IF($I448=\"\",\"\",VLOOKUP(L448,入力補助!C:E,3,FALSE))","v":""}]
["","","","","","","",{"$f":"IF($I449=\"\",\"\",VLOOKUP(L449,入力補助!C:E,3,FALSE))","v":""}]
["","","","","","","",{"$f":"IF($I450=\"\",\"\",VLOOKUP(L450,入力補助!C:E,3,FALSE))","v":""}]
["","","","","","","",{"$f":"IF($I451=\"\",\"\",VLOOKUP(L451,入力補助!C:E,3,FALSE))","v":""}]
[{"$f":"IF(I452=\"\",\"\",MONTH(I452))","v":""},{"$f":"IF(I452=\"\",\"\",$J$1)","v":""},{"$f":"IF(I452=\"\",\"\",DAY(I452))","v":""},{"$f":"IF($I452=\"\",\"\",$A452&L452)","v":""},{"$f":"IF($I452=\"\",\"\",$A452&M452)","v":""},{"$f":"IF($I452=\"\",\"\",$A452&N452)","v":""},{"$f":"IF($I452=\"\",\"\",$A452&H452)","v":""},{"$f":"IF($I452=\"\",\"\",VLOOKUP(L452,入力補助!C:E,3,FALSE))","v":""}]
["","","","","","","",{"$f":"IF($I453=\"\",\"\",VLOOKUP(L453,入力補助!C:E,3,FALSE))","v":""}]
["","","","","","","",{"$f":"IF($I454=\"\",\"\",VLOOKUP(L454,入力補助!C:E,3,FALSE))","v":""}]
["","","","","","","",{"$f":"IF($I455=\"\",\"\",VLOOKUP(L455,入力補助!C:E,3,FALSE))","v":""}]
["","","","","","","",{"$f":"IF($I456=\"\",\"\",VLOOKUP(L456,入力補助!C:E,3,FALSE))","v":""}]
["","","","","","","",{"$f":"IF($I457=\"\",\"\",VLOOKUP(L457,入力補助!C:E,3,FALSE))","v":""}]
["","","","","","","",{"$f":"IF($I458=\"\",\"\",VLOOKUP(L458,入力補助!C:E,3,FALSE))","v":""}]
["","","","","","","",{"$f":"IF($I459=\"\",\"\",VLOOKUP(L459,入力補助!C:E,3,FALSE))","v":""}]
["","","","","","","",{"$f":"IF($I460=\"\",\"\",VLOOKUP(L460,入力補助!C:E,3,FALSE))","v":""}]
["","","","","","","",{"$f":"IF($I461=\"\",\"\",VLOOKUP(L461,入力補助!C:E,3,FALSE))","v":""}]
["","","","","","","",{"$f":"IF($I462=\"\",\"\",VLOOKUP(L462,入力補助!C:E,3,FALSE))","v":""}]
["","","","","","","",{"$f":"IF($I463=\"\",\"\",VLOOKUP(L463,入力補助!C:E,3,FALSE))","v":""}]
["","","","","","","",{"$f":"IF($I464=\"\",\"\",VLOOKUP(L464,入力補助!C:E,3,FALSE))","v":""}]
["","","","","","","",{"$f":"IF($I465=\"\",\"\",VLOOKUP(L465,入力補助!C:E,3,FALSE))","v":""}]
["","","","","","","",{"$f":"IF($I466=\"\",\"\",VLOOKUP(L466,入力補助!C:E,3,FALSE))","v":""}]
["","","","","","","",{"$f":"IF($I467=\"\",\"\",VLOOKUP(L467,入力補助!C:E,3,FALSE))","v":""}]
["","","","","","","",{"$f":"IF($I468=\"\",\"\",VLOOKUP(L468,入力補助!C:E,3,FALSE))","v":""}]
["","","","","","","",{"$f":"IF($I469=\"\",\"\",VLOOKUP(L469,入力補助!C:E,3,FALSE))","v":""}]
["","","","","","","",{"$f":"IF($I470=\"\",\"\",VLOOKUP(L470,入力補助!C:E,3,FALSE))","v":""}]
["","","","","","","",{"$f":"IF($I471=\"\",\"\",VLOOKUP(L471,入力補助!C:E,3,FALSE))","v":""}]
["","","","","","","",{"$f":"IF($I472=\"\",\"\",VLOOKUP(L472,入力補助!C:E,3,FALSE))","v":""}]
["","","","","","","",{"$f":"IF($I473=\"\",\"\",VLOOKUP(L473,入力補助!C:E,3,FALSE))","v":""}]
["","","","","","","",{"$f":"IF($I474=\"\",\"\",VLOOKUP(L474,入力補助!C:E,3,FALSE))","v":""}]
["","","","","","","",{"$f":"IF($I475=\"\",\"\",VLOOKUP(L475,入力補助!C:E,3,FALSE))","v":""}]
["","","","","","","",{"$f":"IF($I476=\"\",\"\",VLOOKUP(L476,入力補助!C:E,3,FALSE))","v":""}]
["","","","","","","",{"$f":"IF($I477=\"\",\"\",VLOOKUP(L477,入力補助!C:E,3,FALSE))","v":""}]
["","","","","","","",{"$f":"IF($I478=\"\",\"\",VLOOKUP(L478,入力補助!C:E,3,FALSE))","v":""}]
["","","","","","","",{"$f":"IF($I479=\"\",\"\",VLOOKUP(L479,入力補助!C:E,3,FALSE))","v":""}]
["","","","","","","",{"$f":"IF($I480=\"\",\"\",VLOOKUP(L480,入力補助!C:E,3,FALSE))","v":""}]
["","","","","","","",{"$f":"IF($I481=\"\",\"\",VLOOKUP(L481,入力補助!C:E,3,FALSE))","v":""}]
["","","","","","","",{"$f":"IF($I482=\"\",\"\",VLOOKUP(L482,入力補助!C:E,3,FALSE))","v":""}]
["","","","","","","",{"$f":"IF($I483=\"\",\"\",VLOOKUP(L483,入力補助!C:E,3,FALSE))","v":""}]
["","","","","","","",{"$f":"IF($I484=\"\",\"\",VLOOKUP(L484,入力補助!C:E,3,FALSE))","v":""}]
["","","","","","","",{"$f":"IF($I485=\"\",\"\",VLOOKUP(L485,入力補助!C:E,3,FALSE))","v":""}]
["","","","","","","",{"$f":"IF($I486=\"\",\"\",VLOOKUP(L486,入力補助!C:E,3,FALSE))","v":""}]
["","","","","","","",{"$f":"IF($I487=\"\",\"\",VLOOKUP(L487,入力補助!C:E,3,FALSE))","v":""}]
["","","","","","","",{"$f":"IF($I488=\"\",\"\",VLOOKUP(L488,入力補助!C:E,3,FALSE))","v":""}]
["","","","","","","",{"$f":"IF($I489=\"\",\"\",VLOOKUP(L489,入力補助!C:E,3,FALSE))","v":""}]
["","","","","","","",{"$f":"IF($I490=\"\",\"\",VLOOKUP(L490,入力補助!C:E,3,FALSE))","v":""}]
["","","","","","","",{"$f":"IF($I491=\"\",\"\",VLOOKUP(L491,入力補助!C:E,3,FALSE))","v":""}]
["","","","","","","",{"$f":"IF($I492=\"\",\"\",VLOOKUP(L492,入力補助!C:E,3,FALSE))","v":""}]
["","","","","","","",{"$f":"IF($I493=\"\",\"\",VLOOKUP(L493,入力補助!C:E,3,FALSE))","v":""}]
["","","","","","","",{"$f":"IF($I494=\"\",\"\",VLOOKUP(L494,入力補助!C:E,3,FALSE))","v":""}]
["","","","","","","",{"$f":"IF($I495=\"\",\"\",VLOOKUP(L495,入力補助!C:E,3,FALSE))","v":""}]
["","","","","","","",{"$f":"IF($I496=\"\",\"\",VLOOKUP(L496,入力補助!C:E,3,FALSE))","v":""}]
["","","","","","","",{"$f":"IF($I497=\"\",\"\",VLOOKUP(L497,入力補助!C:E,3,FALSE))","v":""}]
["","","","","","","",{"$f":"IF($I498=\"\",\"\",VLOOKUP(L498,入力補助!C:E,3,FALSE))","v":""}]
["","","","","","","",{"$f":"IF($I499=\"\",\"\",VLOOKUP(L499,入力補助!C:E,3,FALSE))","v":""}]
["","","","","","","",{"$f":"IF($I500=\"\",\"\",VLOOKUP(L500,入力補助!C:E,3,FALSE))","v":""}]
["","","","","","","",{"$f":"IF($I501=\"\",\"\",VLOOKUP(L501,入力補助!C:E,3,FALSE))","v":""}]
["","","","","","","",{"$f":"IF($I502=\"\",\"\",VLOOKUP(L502,入力補助!C:E,3,FALSE))","v":""}]
["","","","","","","",{"$f":"IF($I503=\"\",\"\",VLOOKUP(L503,入力補助!C:E,3,FALSE))","v":""}]
["","","","","","","",{"$f":"IF($I504=\"\",\"\",VLOOKUP(L504,入力補助!C:E,3,FALSE))","v":""}]
["","","","","","","",{"$f":"IF($I505=\"\",\"\",VLOOKUP(L505,入力補助!C:E,3,FALSE))","v":""}]
["","","","","","","",{"$f":"IF($I506=\"\",\"\",VLOOKUP(L506,入力補助!C:E,3,FALSE))","v":""}]
["","","","","","","",{"$f":"IF($I507=\"\",\"\",VLOOKUP(L507,入力補助!C:E,3,FALSE))","v":""}]
["","","","","","","",{"$f":"IF($I508=\"\",\"\",VLOOKUP(L508,入力補助!C:E,3,FALSE))","v":""}]
["","","","","","","",{"$f":"IF($I509=\"\",\"\",VLOOKUP(L509,入力補助!C:E,3,FALSE))","v":""}]
["","","","","","","",{"$f":"IF($I510=\"\",\"\",VLOOKUP(L510,入力補助!C:E,3,FALSE))","v":""}]
["","","","","","","",{"$f":"IF($I511=\"\",\"\",VLOOKUP(L511,入力補助!C:E,3,FALSE))","v":""}]
["","","","","","","",{"$f":"IF($I512=\"\",\"\",VLOOKUP(L512,入力補助!C:E,3,FALSE))","v":""}]
["","","","","","","",{"$f":"IF($I513=\"\",\"\",VLOOKUP(L513,入力補助!C:E,3,FALSE))","v":""}]
["","","","","","","",{"$f":"IF($I514=\"\",\"\",VLOOKUP(L514,入力補助!C:E,3,FALSE))","v":""}]
["","","","","","","",{"$f":"IF($I515=\"\",\"\",VLOOKUP(L515,入力補助!C:E,3,FALSE))","v":""}]
[{"$f":"IF(I516=\"\",\"\",MONTH(I516))","v":""},{"$f":"IF(I516=\"\",\"\",$J$1)","v":""},{"$f":"IF(I516=\"\",\"\",DAY(I516))","v":""},{"$f":"IF($I516=\"\",\"\",$A516&L516)","v":""},{"$f":"IF($I516=\"\",\"\",$A516&M516)","v":""},{"$f":"IF($I516=\"\",\"\",$A516&N516)","v":""},{"$f":"IF($I516=\"\",\"\",$A516&H516)","v":""},{"$f":"IF($I516=\"\",\"\",VLOOKUP(L516,入力補助!C:E,3,FALSE))","v":""}]
["","","","","","","",{"$f":"IF($I517=\"\",\"\",VLOOKUP(L517,入力補助!C:E,3,FALSE))","v":""}]
["","","","","","","",{"$f":"IF($I518=\"\",\"\",VLOOKUP(L518,入力補助!C:E,3,FALSE))","v":""}]
["","","","","","","",{"$f":"IF($I519=\"\",\"\",VLOOKUP(L519,入力補助!C:E,3,FALSE))","v":""}]
["","","","","","","",{"$f":"IF($I520=\"\",\"\",VLOOKUP(L520,入力補助!C:E,3,FALSE))","v":""}]
["","","","","","","",{"$f":"IF($I521=\"\",\"\",VLOOKUP(L521,入力補助!C:E,3,FALSE))","v":""}]
["","","","","","","",{"$f":"IF($I522=\"\",\"\",VLOOKUP(L522,入力補助!C:E,3,FALSE))","v":""}]
["","","","","","","",{"$f":"IF($I523=\"\",\"\",VLOOKUP(L523,入力補助!C:E,3,FALSE))","v":""}]
["","","","","","","",{"$f":"IF($I524=\"\",\"\",VLOOKUP(L524,入力補助!C:E,3,FALSE))","v":""}]
["","","","","","","",{"$f":"IF($I525=\"\",\"\",VLOOKUP(L525,入力補助!C:E,3,FALSE))","v":""}]
["","","","","","","",{"$f":"IF($I526=\"\",\"\",VLOOKUP(L526,入力補助!C:E,3,FALSE))","v":""}]
["","","","","","","",{"$f":"IF($I527=\"\",\"\",VLOOKUP(L527,入力補助!C:E,3,FALSE))","v":""}]
["","","","","","","",{"$f":"IF($I528=\"\",\"\",VLOOKUP(L528,入力補助!C:E,3,FALSE))","v":""}]
["","","","","","","",{"$f":"IF($I529=\"\",\"\",VLOOKUP(L529,入力補助!C:E,3,FALSE))","v":""}]
["","","","","","","",{"$f":"IF($I530=\"\",\"\",VLOOKUP(L530,入力補助!C:E,3,FALSE))","v":""}]
["","","","","","","",{"$f":"IF($I531=\"\",\"\",VLOOKUP(L531,入力補助!C:E,3,FALSE))","v":""}]
["","","","","","","",{"$f":"IF($I532=\"\",\"\",VLOOKUP(L532,入力補助!C:E,3,FALSE))","v":""}]
["","","","","","","",{"$f":"IF($I533=\"\",\"\",VLOOKUP(L533,入力補助!C:E,3,FALSE))","v":""}]
["","","","","","","",{"$f":"IF($I534=\"\",\"\",VLOOKUP(L534,入力補助!C:E,3,FALSE))","v":""}]
["","","","","","","",{"$f":"IF($I535=\"\",\"\",VLOOKUP(L535,入力補助!C:E,3,FALSE))","v":""}]
["","","","","","","",{"$f":"IF($I536=\"\",\"\",VLOOKUP(L536,入力補助!C:E,3,FALSE))","v":""}]
["","","","","","","",{"$f":"IF($I537=\"\",\"\",VLOOKUP(L537,入力補助!C:E,3,FALSE))","v":""}]
["","","","","","","",{"$f":"IF($I538=\"\",\"\",VLOOKUP(L538,入力補助!C:E,3,FALSE))","v":""}]
["","","","","","","",{"$f":"IF($I539=\"\",\"\",VLOOKUP(L539,入力補助!C:E,3,FALSE))","v":""}]
["","","","","","","",{"$f":"IF($I540=\"\",\"\",VLOOKUP(L540,入力補助!C:E,3,FALSE))","v":""}]
["","","","","","","",{"$f":"IF($I541=\"\",\"\",VLOOKUP(L541,入力補助!C:E,3,FALSE))","v":""}]
["","","","","","","",{"$f":"IF($I542=\"\",\"\",VLOOKUP(L542,入力補助!C:E,3,FALSE))","v":""}]
["","","","","","","",{"$f":"IF($I543=\"\",\"\",VLOOKUP(L543,入力補助!C:E,3,FALSE))","v":""}]
["","","","","","","",{"$f":"IF($I544=\"\",\"\",VLOOKUP(L544,入力補助!C:E,3,FALSE))","v":""}]
["","","","","","","",{"$f":"IF($I545=\"\",\"\",VLOOKUP(L545,入力補助!C:E,3,FALSE))","v":""}]
["","","","","","","",{"$f":"IF($I546=\"\",\"\",VLOOKUP(L546,入力補助!C:E,3,FALSE))","v":""}]
["","","","","","","",{"$f":"IF($I547=\"\",\"\",VLOOKUP(L547,入力補助!C:E,3,FALSE))","v":""}]
["","","","","","","",{"$f":"IF($I548=\"\",\"\",VLOOKUP(L548,入力補助!C:E,3,FALSE))","v":""}]
["","","","","","","",{"$f":"IF($I549=\"\",\"\",VLOOKUP(L549,入力補助!C:E,3,FALSE))","v":""}]
["","","","","","","",{"$f":"IF($I550=\"\",\"\",VLOOKUP(L550,入力補助!C:E,3,FALSE))","v":""}]
["","","","","","","",{"$f":"IF($I551=\"\",\"\",VLOOKUP(L551,入力補助!C:E,3,FALSE))","v":""}]
["","","","","","","",{"$f":"IF($I552=\"\",\"\",VLOOKUP(L552,入力補助!C:E,3,FALSE))","v":""}]
["","","","","","","",{"$f":"IF($I553=\"\",\"\",VLOOKUP(L553,入力補助!C:E,3,FALSE))","v":""}]
["","","","","","","",{"$f":"IF($I554=\"\",\"\",VLOOKUP(L554,入力補助!C:E,3,FALSE))","v":""}]
["","","","","","","",{"$f":"IF($I555=\"\",\"\",VLOOKUP(L555,入力補助!C:E,3,FALSE))","v":""}]
["","","","","","","",{"$f":"IF($I556=\"\",\"\",VLOOKUP(L556,入力補助!C:E,3,FALSE))","v":""}]
["","","","","","","",{"$f":"IF($I557=\"\",\"\",VLOOKUP(L557,入力補助!C:E,3,FALSE))","v":""}]
["","","","","","","",{"$f":"IF($I558=\"\",\"\",VLOOKUP(L558,入力補助!C:E,3,FALSE))","v":""}]
["","","","","","","",{"$f":"IF($I559=\"\",\"\",VLOOKUP(L559,入力補助!C:E,3,FALSE))","v":""}]
["","","","","","","",{"$f":"IF($I560=\"\",\"\",VLOOKUP(L560,入力補助!C:E,3,FALSE))","v":""}]
["","","","","","","",{"$f":"IF($I561=\"\",\"\",VLOOKUP(L561,入力補助!C:E,3,FALSE))","v":""}]
["","","","","","","",{"$f":"IF($I562=\"\",\"\",VLOOKUP(L562,入力補助!C:E,3,FALSE))","v":""}]
["","","","","","","",{"$f":"IF($I563=\"\",\"\",VLOOKUP(L563,入力補助!C:E,3,FALSE))","v":""}]
["","","","","","","",{"$f":"IF($I564=\"\",\"\",VLOOKUP(L564,入力補助!C:E,3,FALSE))","v":""}]
["","","","","","","",{"$f":"IF($I565=\"\",\"\",VLOOKUP(L565,入力補助!C:E,3,FALSE))","v":""}]
["","","","","","","",{"$f":"IF($I566=\"\",\"\",VLOOKUP(L566,入力補助!C:E,3,FALSE))","v":""}]
["","","","","","","",{"$f":"IF($I567=\"\",\"\",VLOOKUP(L567,入力補助!C:E,3,FALSE))","v":""}]
["","","","","","","",{"$f":"IF($I568=\"\",\"\",VLOOKUP(L568,入力補助!C:E,3,FALSE))","v":""}]
["","","","","","","",{"$f":"IF($I569=\"\",\"\",VLOOKUP(L569,入力補助!C:E,3,FALSE))","v":""}]
["","","","","","","",{"$f":"IF($I570=\"\",\"\",VLOOKUP(L570,入力補助!C:E,3,FALSE))","v":""}]
["","","","","","","",{"$f":"IF($I571=\"\",\"\",VLOOKUP(L571,入力補助!C:E,3,FALSE))","v":""}]
["","","","","","","",{"$f":"IF($I572=\"\",\"\",VLOOKUP(L572,入力補助!C:E,3,FALSE))","v":""}]
["","","","","","","",{"$f":"IF($I573=\"\",\"\",VLOOKUP(L573,入力補助!C:E,3,FALSE))","v":""}]
["","","","","","","",{"$f":"IF($I574=\"\",\"\",VLOOKUP(L574,入力補助!C:E,3,FALSE))","v":""}]
["","","","","","","",{"$f":"IF($I575=\"\",\"\",VLOOKUP(L575,入力補助!C:E,3,FALSE))","v":""}]
["","","","","","","",{"$f":"IF($I576=\"\",\"\",VLOOKUP(L576,入力補助!C:E,3,FALSE))","v":""}]
["","","","","","","",{"$f":"IF($I577=\"\",\"\",VLOOKUP(L577,入力補助!C:E,3,FALSE))","v":""}]
["","","","","","","",{"$f":"IF($I578=\"\",\"\",VLOOKUP(L578,入力補助!C:E,3,FALSE))","v":""}]
["","","","","","","",{"$f":"IF($I579=\"\",\"\",VLOOKUP(L579,入力補助!C:E,3,FALSE))","v":""}]
[{"$f":"IF(I580=\"\",\"\",MONTH(I580))","v":""},{"$f":"IF(I580=\"\",\"\",$J$1)","v":""},{"$f":"IF(I580=\"\",\"\",DAY(I580))","v":""},{"$f":"IF($I580=\"\",\"\",$A580&L580)","v":""},{"$f":"IF($I580=\"\",\"\",$A580&M580)","v":""},{"$f":"IF($I580=\"\",\"\",$A580&N580)","v":""},{"$f":"IF($I580=\"\",\"\",$A580&H580)","v":""},{"$f":"IF($I580=\"\",\"\",VLOOKUP(L580,入力補助!C:E,3,FALSE))","v":""}]
["","","","","","","",{"$f":"IF($I581=\"\",\"\",VLOOKUP(L581,入力補助!C:E,3,FALSE))","v":""}]
["","","","","","","",{"$f":"IF($I582=\"\",\"\",VLOOKUP(L582,入力補助!C:E,3,FALSE))","v":""}]
["","","","","","","",{"$f":"IF($I583=\"\",\"\",VLOOKUP(L583,入力補助!C:E,3,FALSE))","v":""}]
["","","","","","","",{"$f":"IF($I584=\"\",\"\",VLOOKUP(L584,入力補助!C:E,3,FALSE))","v":""}]
["","","","","","","",{"$f":"IF($I585=\"\",\"\",VLOOKUP(L585,入力補助!C:E,3,FALSE))","v":""}]
["","","","","","","",{"$f":"IF($I586=\"\",\"\",VLOOKUP(L586,入力補助!C:E,3,FALSE))","v":""}]
["","","","","","","",{"$f":"IF($I587=\"\",\"\",VLOOKUP(L587,入力補助!C:E,3,FALSE))","v":""}]
["","","","","","","",{"$f":"IF($I588=\"\",\"\",VLOOKUP(L588,入力補助!C:E,3,FALSE))","v":""}]
["","","","","","","",{"$f":"IF($I589=\"\",\"\",VLOOKUP(L589,入力補助!C:E,3,FALSE))","v":""}]
["","","","","","","",{"$f":"IF($I590=\"\",\"\",VLOOKUP(L590,入力補助!C:E,3,FALSE))","v":""}]
["","","","","","","",{"$f":"IF($I591=\"\",\"\",VLOOKUP(L591,入力補助!C:E,3,FALSE))","v":""}]
["","","","","","","",{"$f":"IF($I592=\"\",\"\",VLOOKUP(L592,入力補助!C:E,3,FALSE))","v":""}]
["","","","","","","",{"$f":"IF($I593=\"\",\"\",VLOOKUP(L593,入力補助!C:E,3,FALSE))","v":""}]
["","","","","","","",{"$f":"IF($I594=\"\",\"\",VLOOKUP(L594,入力補助!C:E,3,FALSE))","v":""}]
["","","","","","","",{"$f":"IF($I595=\"\",\"\",VLOOKUP(L595,入力補助!C:E,3,FALSE))","v":""}]
["","","","","","","",{"$f":"IF($I596=\"\",\"\",VLOOKUP(L596,入力補助!C:E,3,FALSE))","v":""}]
["","","","","","","",{"$f":"IF($I597=\"\",\"\",VLOOKUP(L597,入力補助!C:E,3,FALSE))","v":""}]
["","","","","","","",{"$f":"IF($I598=\"\",\"\",VLOOKUP(L598,入力補助!C:E,3,FALSE))","v":""}]
["","","","","","","",{"$f":"IF($I599=\"\",\"\",VLOOKUP(L599,入力補助!C:E,3,FALSE))","v":""}]
["","","","","","","",{"$f":"IF($I600=\"\",\"\",VLOOKUP(L600,入力補助!C:E,3,FALSE))","v":""}]
["","","","","","","",{"$f":"IF($I601=\"\",\"\",VLOOKUP(L601,入力補助!C:E,3,FALSE))","v":""}]
["","","","","","","",{"$f":"IF($I602=\"\",\"\",VLOOKUP(L602,入力補助!C:E,3,FALSE))","v":""}]
["","","","","","","",{"$f":"IF($I603=\"\",\"\",VLOOKUP(L603,入力補助!C:E,3,FALSE))","v":""}]
["","","","","","","",{"$f":"IF($I604=\"\",\"\",VLOOKUP(L604,入力補助!C:E,3,FALSE))","v":""}]
["","","","","","","",{"$f":"IF($I605=\"\",\"\",VLOOKUP(L605,入力補助!C:E,3,FALSE))","v":""}]
["","","","","","","",{"$f":"IF($I606=\"\",\"\",VLOOKUP(L606,入力補助!C:E,3,FALSE))","v":""}]
["","","","","","","",{"$f":"IF($I607=\"\",\"\",VLOOKUP(L607,入力補助!C:E,3,FALSE))","v":""}]
["","","","","","","",{"$f":"IF($I608=\"\",\"\",VLOOKUP(L608,入力補助!C:E,3,FALSE))","v":""}]
["","","","","","","",{"$f":"IF($I609=\"\",\"\",VLOOKUP(L609,入力補助!C:E,3,FALSE))","v":""}]
["","","","","","","",{"$f":"IF($I610=\"\",\"\",VLOOKUP(L610,入力補助!C:E,3,FALSE))","v":""}]
["","","","","","","",{"$f":"IF($I611=\"\",\"\",VLOOKUP(L611,入力補助!C:E,3,FALSE))","v":""}]
["","","","","","","",{"$f":"IF($I612=\"\",\"\",VLOOKUP(L612,入力補助!C:E,3,FALSE))","v":""}]
["","","","","","","",{"$f":"IF($I613=\"\",\"\",VLOOKUP(L613,入力補助!C:E,3,FALSE))","v":""}]
["","","","","","","",{"$f":"IF($I614=\"\",\"\",VLOOKUP(L614,入力補助!C:E,3,FALSE))","v":""}]
["","","","","","","",{"$f":"IF($I615=\"\",\"\",VLOOKUP(L615,入力補助!C:E,3,FALSE))","v":""}]
["","","","","","","",{"$f":"IF($I616=\"\",\"\",VLOOKUP(L616,入力補助!C:E,3,FALSE))","v":""}]
["","","","","","","",{"$f":"IF($I617=\"\",\"\",VLOOKUP(L617,入力補助!C:E,3,FALSE))","v":""}]
["","","","","","","",{"$f":"IF($I618=\"\",\"\",VLOOKUP(L618,入力補助!C:E,3,FALSE))","v":""}]
["","","","","","","",{"$f":"IF($I619=\"\",\"\",VLOOKUP(L619,入力補助!C:E,3,FALSE))","v":""}]
["","","","","","","",{"$f":"IF($I620=\"\",\"\",VLOOKUP(L620,入力補助!C:E,3,FALSE))","v":""}]
["","","","","","","",{"$f":"IF($I621=\"\",\"\",VLOOKUP(L621,入力補助!C:E,3,FALSE))","v":""}]
["","","","","","","",{"$f":"IF($I622=\"\",\"\",VLOOKUP(L622,入力補助!C:E,3,FALSE))","v":""}]
["","","","","","","",{"$f":"IF($I623=\"\",\"\",VLOOKUP(L623,入力補助!C:E,3,FALSE))","v":""}]
["","","","","","","",{"$f":"IF($I624=\"\",\"\",VLOOKUP(L624,入力補助!C:E,3,FALSE))","v":""}]
["","","","","","","",{"$f":"IF($I625=\"\",\"\",VLOOKUP(L625,入力補助!C:E,3,FALSE))","v":""}]
["","","","","","","",{"$f":"IF($I626=\"\",\"\",VLOOKUP(L626,入力補助!C:E,3,FALSE))","v":""}]
["","","","","","","",{"$f":"IF($I627=\"\",\"\",VLOOKUP(L627,入力補助!C:E,3,FALSE))","v":""}]
["","","","","","","",{"$f":"IF($I628=\"\",\"\",VLOOKUP(L628,入力補助!C:E,3,FALSE))","v":""}]
["","","","","","","",{"$f":"IF($I629=\"\",\"\",VLOOKUP(L629,入力補助!C:E,3,FALSE))","v":""}]
["","","","","","","",{"$f":"IF($I630=\"\",\"\",VLOOKUP(L630,入力補助!C:E,3,FALSE))","v":""}]
["","","","","","","",{"$f":"IF($I631=\"\",\"\",VLOOKUP(L631,入力補助!C:E,3,FALSE))","v":""}]
["","","","","","","",{"$f":"IF($I632=\"\",\"\",VLOOKUP(L632,入力補助!C:E,3,FALSE))","v":""}]
["","","","","","","",{"$f":"IF($I633=\"\",\"\",VLOOKUP(L633,入力補助!C:E,3,FALSE))","v":""}]
["","","","","","","",{"$f":"IF($I634=\"\",\"\",VLOOKUP(L634,入力補助!C:E,3,FALSE))","v":""}]
["","","","","","","",{"$f":"IF($I635=\"\",\"\",VLOOKUP(L635,入力補助!C:E,3,FALSE))","v":""}]
["","","","","","","",{"$f":"IF($I636=\"\",\"\",VLOOKUP(L636,入力補助!C:E,3,FALSE))","v":""}]
["","","","","","","",{"$f":"IF($I637=\"\",\"\",VLOOKUP(L637,入力補助!C:E,3,FALSE))","v":""}]
["","","","","","","",{"$f":"IF($I638=\"\",\"\",VLOOKUP(L638,入力補助!C:E,3,FALSE))","v":""}]
["","","","","","","",{"$f":"IF($I639=\"\",\"\",VLOOKUP(L639,入力補助!C:E,3,FALSE))","v":""}]
["","","","","","","",{"$f":"IF($I640=\"\",\"\",VLOOKUP(L640,入力補助!C:E,3,FALSE))","v":""}]
["","","","","","","",{"$f":"IF($I641=\"\",\"\",VLOOKUP(L641,入力補助!C:E,3,FALSE))","v":""}]
["","","","","","","",{"$f":"IF($I642=\"\",\"\",VLOOKUP(L642,入力補助!C:E,3,FALSE))","v":""}]
["","","","","","","",{"$f":"IF($I643=\"\",\"\",VLOOKUP(L643,入力補助!C:E,3,FALSE))","v":""}]
[{"$f":"IF(I644=\"\",\"\",MONTH(I644))","v":""},{"$f":"IF(I644=\"\",\"\",$J$1)","v":""},{"$f":"IF(I644=\"\",\"\",DAY(I644))","v":""},{"$f":"IF($I644=\"\",\"\",$A644&L644)","v":""},{"$f":"IF($I644=\"\",\"\",$A644&M644)","v":""},{"$f":"IF($I644=\"\",\"\",$A644&N644)","v":""},{"$f":"IF($I644=\"\",\"\",$A644&H644)","v":""},{"$f":"IF($I644=\"\",\"\",VLOOKUP(L644,入力補助!C:E,3,FALSE))","v":""}]
["","","","","","","",{"$f":"IF($I645=\"\",\"\",VLOOKUP(L645,入力補助!C:E,3,FALSE))","v":""}]
["","","","","","","",{"$f":"IF($I646=\"\",\"\",VLOOKUP(L646,入力補助!C:E,3,FALSE))","v":""}]
["","","","","","","",{"$f":"IF($I647=\"\",\"\",VLOOKUP(L647,入力補助!C:E,3,FALSE))","v":""}]
["","","","","","","",{"$f":"IF($I648=\"\",\"\",VLOOKUP(L648,入力補助!C:E,3,FALSE))","v":""}]
["","","","","","","",{"$f":"IF($I649=\"\",\"\",VLOOKUP(L649,入力補助!C:E,3,FALSE))","v":""}]
["","","","","","","",{"$f":"IF($I650=\"\",\"\",VLOOKUP(L650,入力補助!C:E,3,FALSE))","v":""}]
["","","","","","","",{"$f":"IF($I651=\"\",\"\",VLOOKUP(L651,入力補助!C:E,3,FALSE))","v":""}]
["","","","","","","",{"$f":"IF($I652=\"\",\"\",VLOOKUP(L652,入力補助!C:E,3,FALSE))","v":""}]
["","","","","","","",{"$f":"IF($I653=\"\",\"\",VLOOKUP(L653,入力補助!C:E,3,FALSE))","v":""}]
["","","","","","","",{"$f":"IF($I654=\"\",\"\",VLOOKUP(L654,入力補助!C:E,3,FALSE))","v":""}]
["","","","","","","",{"$f":"IF($I655=\"\",\"\",VLOOKUP(L655,入力補助!C:E,3,FALSE))","v":""}]
["","","","","","","",{"$f":"IF($I656=\"\",\"\",VLOOKUP(L656,入力補助!C:E,3,FALSE))","v":""}]
["","","","","","","",{"$f":"IF($I657=\"\",\"\",VLOOKUP(L657,入力補助!C:E,3,FALSE))","v":""}]
["","","","","","","",{"$f":"IF($I658=\"\",\"\",VLOOKUP(L658,入力補助!C:E,3,FALSE))","v":""}]
["","","","","","","",{"$f":"IF($I659=\"\",\"\",VLOOKUP(L659,入力補助!C:E,3,FALSE))","v":""}]
["","","","","","","",{"$f":"IF($I660=\"\",\"\",VLOOKUP(L660,入力補助!C:E,3,FALSE))","v":""}]
["","","","","","","",{"$f":"IF($I661=\"\",\"\",VLOOKUP(L661,入力補助!C:E,3,FALSE))","v":""}]
["","","","","","","",{"$f":"IF($I662=\"\",\"\",VLOOKUP(L662,入力補助!C:E,3,FALSE))","v":""}]
["","","","","","","",{"$f":"IF($I663=\"\",\"\",VLOOKUP(L663,入力補助!C:E,3,FALSE))","v":""}]
["","","","","","","",{"$f":"IF($I664=\"\",\"\",VLOOKUP(L664,入力補助!C:E,3,FALSE))","v":""}]
["","","","","","","",{"$f":"IF($I665=\"\",\"\",VLOOKUP(L665,入力補助!C:E,3,FALSE))","v":""}]
["","","","","","","",{"$f":"IF($I666=\"\",\"\",VLOOKUP(L666,入力補助!C:E,3,FALSE))","v":""}]
["","","","","","","",{"$f":"IF($I667=\"\",\"\",VLOOKUP(L667,入力補助!C:E,3,FALSE))","v":""}]
["","","","","","","",{"$f":"IF($I668=\"\",\"\",VLOOKUP(L668,入力補助!C:E,3,FALSE))","v":""}]
["","","","","","","",{"$f":"IF($I669=\"\",\"\",VLOOKUP(L669,入力補助!C:E,3,FALSE))","v":""}]
["","","","","","","",{"$f":"IF($I670=\"\",\"\",VLOOKUP(L670,入力補助!C:E,3,FALSE))","v":""}]
["","","","","","","",{"$f":"IF($I671=\"\",\"\",VLOOKUP(L671,入力補助!C:E,3,FALSE))","v":""}]
["","","","","","","",{"$f":"IF($I672=\"\",\"\",VLOOKUP(L672,入力補助!C:E,3,FALSE))","v":""}]
["","","","","","","",{"$f":"IF($I673=\"\",\"\",VLOOKUP(L673,入力補助!C:E,3,FALSE))","v":""}]
["","","","","","","",{"$f":"IF($I674=\"\",\"\",VLOOKUP(L674,入力補助!C:E,3,FALSE))","v":""}]
["","","","","","","",{"$f":"IF($I675=\"\",\"\",VLOOKUP(L675,入力補助!C:E,3,FALSE))","v":""}]
["","","","","","","",{"$f":"IF($I676=\"\",\"\",VLOOKUP(L676,入力補助!C:E,3,FALSE))","v":""}]
["","","","","","","",{"$f":"IF($I677=\"\",\"\",VLOOKUP(L677,入力補助!C:E,3,FALSE))","v":""}]
["","","","","","","",{"$f":"IF($I678=\"\",\"\",VLOOKUP(L678,入力補助!C:E,3,FALSE))","v":""}]
["","","","","","","",{"$f":"IF($I679=\"\",\"\",VLOOKUP(L679,入力補助!C:E,3,FALSE))","v":""}]
["","","","","","","",{"$f":"IF($I680=\"\",\"\",VLOOKUP(L680,入力補助!C:E,3,FALSE))","v":""}]
["","","","","","","",{"$f":"IF($I681=\"\",\"\",VLOOKUP(L681,入力補助!C:E,3,FALSE))","v":""}]
["","","","","","","",{"$f":"IF($I682=\"\",\"\",VLOOKUP(L682,入力補助!C:E,3,FALSE))","v":""}]
["","","","","","","",{"$f":"IF($I683=\"\",\"\",VLOOKUP(L683,入力補助!C:E,3,FALSE))","v":""}]
["","","","","","","",{"$f":"IF($I684=\"\",\"\",VLOOKUP(L684,入力補助!C:E,3,FALSE))","v":""}]
["","","","","","","",{"$f":"IF($I685=\"\",\"\",VLOOKUP(L685,入力補助!C:E,3,FALSE))","v":""}]
["","","","","","","",{"$f":"IF($I686=\"\",\"\",VLOOKUP(L686,入力補助!C:E,3,FALSE))","v":""}]
["","","","","","","",{"$f":"IF($I687=\"\",\"\",VLOOKUP(L687,入力補助!C:E,3,FALSE))","v":""}]
["","","","","","","",{"$f":"IF($I688=\"\",\"\",VLOOKUP(L688,入力補助!C:E,3,FALSE))","v":""}]
["","","","","","","",{"$f":"IF($I689=\"\",\"\",VLOOKUP(L689,入力補助!C:E,3,FALSE))","v":""}]
["","","","","","","",{"$f":"IF($I690=\"\",\"\",VLOOKUP(L690,入力補助!C:E,3,FALSE))","v":""}]
["","","","","","","",{"$f":"IF($I691=\"\",\"\",VLOOKUP(L691,入力補助!C:E,3,FALSE))","v":""}]
["","","","","","","",{"$f":"IF($I692=\"\",\"\",VLOOKUP(L692,入力補助!C:E,3,FALSE))","v":""}]
["","","","","","","",{"$f":"IF($I693=\"\",\"\",VLOOKUP(L693,入力補助!C:E,3,FALSE))","v":""}]
["","","","","","","",{"$f":"IF($I694=\"\",\"\",VLOOKUP(L694,入力補助!C:E,3,FALSE))","v":""}]
["","","","","","","",{"$f":"IF($I695=\"\",\"\",VLOOKUP(L695,入力補助!C:E,3,FALSE))","v":""}]
["","","","","","","",{"$f":"IF($I696=\"\",\"\",VLOOKUP(L696,入力補助!C:E,3,FALSE))","v":""}]
["","","","","","","",{"$f":"IF($I697=\"\",\"\",VLOOKUP(L697,入力補助!C:E,3,FALSE))","v":""}]
["","","","","","","",{"$f":"IF($I698=\"\",\"\",VLOOKUP(L698,入力補助!C:E,3,FALSE))","v":""}]
["","","","","","","",{"$f":"IF($I699=\"\",\"\",VLOOKUP(L699,入力補助!C:E,3,FALSE))","v":""}]
["","","","","","","",{"$f":"IF($I700=\"\",\"\",VLOOKUP(L700,入力補助!C:E,3,FALSE))","v":""}]
["","","","","","","",{"$f":"IF($I701=\"\",\"\",VLOOKUP(L701,入力補助!C:E,3,FALSE))","v":""}]
["","","","","","","",{"$f":"IF($I702=\"\",\"\",VLOOKUP(L702,入力補助!C:E,3,FALSE))","v":""}]
["","","","","","","",{"$f":"IF($I703=\"\",\"\",VLOOKUP(L703,入力補助!C:E,3,FALSE))","v":""}]
["","","","","","","",{"$f":"IF($I704=\"\",\"\",VLOOKUP(L704,入力補助!C:E,3,FALSE))","v":""}]
["","","","","","","",{"$f":"IF($I705=\"\",\"\",VLOOKUP(L705,入力補助!C:E,3,FALSE))","v":""}]
["","","","","","","",{"$f":"IF($I706=\"\",\"\",VLOOKUP(L706,入力補助!C:E,3,FALSE))","v":""}]
["","","","","","","",{"$f":"IF($I707=\"\",\"\",VLOOKUP(L707,入力補助!C:E,3,FALSE))","v":""}]
[{"$f":"IF(I708=\"\",\"\",MONTH(I708))","v":""},{"$f":"IF(I708=\"\",\"\",$J$1)","v":""},{"$f":"IF(I708=\"\",\"\",DAY(I708))","v":""},{"$f":"IF($I708=\"\",\"\",$A708&L708)","v":""},{"$f":"IF($I708=\"\",\"\",$A708&M708)","v":""},{"$f":"IF($I708=\"\",\"\",$A708&N708)","v":""},{"$f":"IF($I708=\"\",\"\",$A708&H708)","v":""},{"$f":"IF($I708=\"\",\"\",VLOOKUP(L708,入力補助!C:E,3,FALSE))","v":""}]
["","","","","","","",{"$f":"IF($I709=\"\",\"\",VLOOKUP(L709,入力補助!C:E,3,FALSE))","v":""}]
["","","","","","","",{"$f":"IF($I710=\"\",\"\",VLOOKUP(L710,入力補助!C:E,3,FALSE))","v":""}]
["","","","","","","",{"$f":"IF($I711=\"\",\"\",VLOOKUP(L711,入力補助!C:E,3,FALSE))","v":""}]
["","","","","","","",{"$f":"IF($I712=\"\",\"\",VLOOKUP(L712,入力補助!C:E,3,FALSE))","v":""}]
["","","","","","","",{"$f":"IF($I713=\"\",\"\",VLOOKUP(L713,入力補助!C:E,3,FALSE))","v":""}]
["","","","","","","",{"$f":"IF($I714=\"\",\"\",VLOOKUP(L714,入力補助!C:E,3,FALSE))","v":""}]
["","","","","","","",{"$f":"IF($I715=\"\",\"\",VLOOKUP(L715,入力補助!C:E,3,FALSE))","v":""}]
["","","","","","","",{"$f":"IF($I716=\"\",\"\",VLOOKUP(L716,入力補助!C:E,3,FALSE))","v":""}]
["","","","","","","",{"$f":"IF($I717=\"\",\"\",VLOOKUP(L717,入力補助!C:E,3,FALSE))","v":""}]
["","","","","","","",{"$f":"IF($I718=\"\",\"\",VLOOKUP(L718,入力補助!C:E,3,FALSE))","v":""}]
["","","","","","","",{"$f":"IF($I719=\"\",\"\",VLOOKUP(L719,入力補助!C:E,3,FALSE))","v":""}]
["","","","","","","",{"$f":"IF($I720=\"\",\"\",VLOOKUP(L720,入力補助!C:E,3,FALSE))","v":""}]
["","","","","","","",{"$f":"IF($I721=\"\",\"\",VLOOKUP(L721,入力補助!C:E,3,FALSE))","v":""}]
["","","","","","","",{"$f":"IF($I722=\"\",\"\",VLOOKUP(L722,入力補助!C:E,3,FALSE))","v":""}]
["","","","","","","",{"$f":"IF($I723=\"\",\"\",VLOOKUP(L723,入力補助!C:E,3,FALSE))","v":""}]
["","","","","","","",{"$f":"IF($I724=\"\",\"\",VLOOKUP(L724,入力補助!C:E,3,FALSE))","v":""}]
["","","","","","","",{"$f":"IF($I725=\"\",\"\",VLOOKUP(L725,入力補助!C:E,3,FALSE))","v":""}]
["","","","","","","",{"$f":"IF($I726=\"\",\"\",VLOOKUP(L726,入力補助!C:E,3,FALSE))","v":""}]
["","","","","","","",{"$f":"IF($I727=\"\",\"\",VLOOKUP(L727,入力補助!C:E,3,FALSE))","v":""}]
["","","","","","","",{"$f":"IF($I728=\"\",\"\",VLOOKUP(L728,入力補助!C:E,3,FALSE))","v":""}]
["","","","","","","",{"$f":"IF($I729=\"\",\"\",VLOOKUP(L729,入力補助!C:E,3,FALSE))","v":""}]
["","","","","","","",{"$f":"IF($I730=\"\",\"\",VLOOKUP(L730,入力補助!C:E,3,FALSE))","v":""}]
["","","","","","","",{"$f":"IF($I731=\"\",\"\",VLOOKUP(L731,入力補助!C:E,3,FALSE))","v":""}]
["","","","","","","",{"$f":"IF($I732=\"\",\"\",VLOOKUP(L732,入力補助!C:E,3,FALSE))","v":""}]
["","","","","","","",{"$f":"IF($I733=\"\",\"\",VLOOKUP(L733,入力補助!C:E,3,FALSE))","v":""}]
["","","","","","","",{"$f":"IF($I734=\"\",\"\",VLOOKUP(L734,入力補助!C:E,3,FALSE))","v":""}]
["","","","","","","",{"$f":"IF($I735=\"\",\"\",VLOOKUP(L735,入力補助!C:E,3,FALSE))","v":""}]
["","","","","","","",{"$f":"IF($I736=\"\",\"\",VLOOKUP(L736,入力補助!C:E,3,FALSE))","v":""}]
["","","","","","","",{"$f":"IF($I737=\"\",\"\",VLOOKUP(L737,入力補助!C:E,3,FALSE))","v":""}]
["","","","","","","",{"$f":"IF($I738=\"\",\"\",VLOOKUP(L738,入力補助!C:E,3,FALSE))","v":""}]
["","","","","","","",{"$f":"IF($I739=\"\",\"\",VLOOKUP(L739,入力補助!C:E,3,FALSE))","v":""}]
["","","","","","","",{"$f":"IF($I740=\"\",\"\",VLOOKUP(L740,入力補助!C:E,3,FALSE))","v":""}]
["","","","","","","",{"$f":"IF($I741=\"\",\"\",VLOOKUP(L741,入力補助!C:E,3,FALSE))","v":""}]
["","","","","","","",{"$f":"IF($I742=\"\",\"\",VLOOKUP(L742,入力補助!C:E,3,FALSE))","v":""}]
["","","","","","","",{"$f":"IF($I743=\"\",\"\",VLOOKUP(L743,入力補助!C:E,3,FALSE))","v":""}]
["","","","","","","",{"$f":"IF($I744=\"\",\"\",VLOOKUP(L744,入力補助!C:E,3,FALSE))","v":""}]
["","","","","","","",{"$f":"IF($I745=\"\",\"\",VLOOKUP(L745,入力補助!C:E,3,FALSE))","v":""}]
["","","","","","","",{"$f":"IF($I746=\"\",\"\",VLOOKUP(L746,入力補助!C:E,3,FALSE))","v":""}]
["","","","","","","",{"$f":"IF($I747=\"\",\"\",VLOOKUP(L747,入力補助!C:E,3,FALSE))","v":""}]
["","","","","","","",{"$f":"IF($I748=\"\",\"\",VLOOKUP(L748,入力補助!C:E,3,FALSE))","v":""}]
["","","","","","","",{"$f":"IF($I749=\"\",\"\",VLOOKUP(L749,入力補助!C:E,3,FALSE))","v":""}]
["","","","","","","",{"$f":"IF($I750=\"\",\"\",VLOOKUP(L750,入力補助!C:E,3,FALSE))","v":""}]
["","","","","","","",{"$f":"IF($I751=\"\",\"\",VLOOKUP(L751,入力補助!C:E,3,FALSE))","v":""}]
["","","","","","","",{"$f":"IF($I752=\"\",\"\",VLOOKUP(L752,入力補助!C:E,3,FALSE))","v":""}]
["","","","","","","",{"$f":"IF($I753=\"\",\"\",VLOOKUP(L753,入力補助!C:E,3,FALSE))","v":""}]
["","","","","","","",{"$f":"IF($I754=\"\",\"\",VLOOKUP(L754,入力補助!C:E,3,FALSE))","v":""}]
["","","","","","","",{"$f":"IF($I755=\"\",\"\",VLOOKUP(L755,入力補助!C:E,3,FALSE))","v":""}]
["","","","","","","",{"$f":"IF($I756=\"\",\"\",VLOOKUP(L756,入力補助!C:E,3,FALSE))","v":""}]
["","","","","","","",{"$f":"IF($I757=\"\",\"\",VLOOKUP(L757,入力補助!C:E,3,FALSE))","v":""}]
["","","","","","","",{"$f":"IF($I758=\"\",\"\",VLOOKUP(L758,入力補助!C:E,3,FALSE))","v":""}]
["","","","","","","",{"$f":"IF($I759=\"\",\"\",VLOOKUP(L759,入力補助!C:E,3,FALSE))","v":""}]
["","","","","","","",{"$f":"IF($I760=\"\",\"\",VLOOKUP(L760,入力補助!C:E,3,FALSE))","v":""}]
["","","","","","","",{"$f":"IF($I761=\"\",\"\",VLOOKUP(L761,入力補助!C:E,3,FALSE))","v":""}]
["","","","","","","",{"$f":"IF($I762=\"\",\"\",VLOOKUP(L762,入力補助!C:E,3,FALSE))","v":""}]
["","","","","","","",{"$f":"IF($I763=\"\",\"\",VLOOKUP(L763,入力補助!C:E,3,FALSE))","v":""}]
["","","","","","","",{"$f":"IF($I764=\"\",\"\",VLOOKUP(L764,入力補助!C:E,3,FALSE))","v":""}]
["","","","","","","",{"$f":"IF($I765=\"\",\"\",VLOOKUP(L765,入力補助!C:E,3,FALSE))","v":""}]
["","","","","","","",{"$f":"IF($I766=\"\",\"\",VLOOKUP(L766,入力補助!C:E,3,FALSE))","v":""}]
["","","","","","","",{"$f":"IF($I767=\"\",\"\",VLOOKUP(L767,入力補助!C:E,3,FALSE))","v":""}]
["","","","","","","",{"$f":"IF($I768=\"\",\"\",VLOOKUP(L768,入力補助!C:E,3,FALSE))","v":""}]
["","","","","","","",{"$f":"IF($I769=\"\",\"\",VLOOKUP(L769,入力補助!C:E,3,FALSE))","v":""}]
["","","","","","","",{"$f":"IF($I770=\"\",\"\",VLOOKUP(L770,入力補助!C:E,3,FALSE))","v":""}]
["","","","","","","",{"$f":"IF($I771=\"\",\"\",VLOOKUP(L771,入力補助!C:E,3,FALSE))","v":""}]
[{"$f":"IF(I772=\"\",\"\",MONTH(I772))","v":""},{"$f":"IF(I772=\"\",\"\",$J$1)","v":""},{"$f":"IF(I772=\"\",\"\",DAY(I772))","v":""},{"$f":"IF($I772=\"\",\"\",$A772&L772)","v":""},{"$f":"IF($I772=\"\",\"\",$A772&M772)","v":""},{"$f":"IF($I772=\"\",\"\",$A772&N772)","v":""},{"$f":"IF($I772=\"\",\"\",$A772&H772)","v":""},{"$f":"IF($I772=\"\",\"\",VLOOKUP(L772,入力補助!C:E,3,FALSE))","v":""}]
["","","","","","","",{"$f":"IF($I773=\"\",\"\",VLOOKUP(L773,入力補助!C:E,3,FALSE))","v":""}]
["","","","","","","",{"$f":"IF($I774=\"\",\"\",VLOOKUP(L774,入力補助!C:E,3,FALSE))","v":""}]
["","","","","","","",{"$f":"IF($I775=\"\",\"\",VLOOKUP(L775,入力補助!C:E,3,FALSE))","v":""}]
["","","","","","","",{"$f":"IF($I776=\"\",\"\",VLOOKUP(L776,入力補助!C:E,3,FALSE))","v":""}]
["","","","","","","",{"$f":"IF($I777=\"\",\"\",VLOOKUP(L777,入力補助!C:E,3,FALSE))","v":""}]
["","","","","","","",{"$f":"IF($I778=\"\",\"\",VLOOKUP(L778,入力補助!C:E,3,FALSE))","v":""}]
["","","","","","","",{"$f":"IF($I779=\"\",\"\",VLOOKUP(L779,入力補助!C:E,3,FALSE))","v":""}]
["","","","","","","",{"$f":"IF($I780=\"\",\"\",VLOOKUP(L780,入力補助!C:E,3,FALSE))","v":""}]
["","","","","","","",{"$f":"IF($I781=\"\",\"\",VLOOKUP(L781,入力補助!C:E,3,FALSE))","v":""}]
["","","","","","","",{"$f":"IF($I782=\"\",\"\",VLOOKUP(L782,入力補助!C:E,3,FALSE))","v":""}]
["","","","","","","",{"$f":"IF($I783=\"\",\"\",VLOOKUP(L783,入力補助!C:E,3,FALSE))","v":""}]
["","","","","","","",{"$f":"IF($I784=\"\",\"\",VLOOKUP(L784,入力補助!C:E,3,FALSE))","v":""}]
["","","","","","","",{"$f":"IF($I785=\"\",\"\",VLOOKUP(L785,入力補助!C:E,3,FALSE))","v":""}]
["","","","","","","",{"$f":"IF($I786=\"\",\"\",VLOOKUP(L786,入力補助!C:E,3,FALSE))","v":""}]
["","","","","","","",{"$f":"IF($I787=\"\",\"\",VLOOKUP(L787,入力補助!C:E,3,FALSE))","v":""}]
["","","","","","","",{"$f":"IF($I788=\"\",\"\",VLOOKUP(L788,入力補助!C:E,3,FALSE))","v":""}]
["","","","","","","",{"$f":"IF($I789=\"\",\"\",VLOOKUP(L789,入力補助!C:E,3,FALSE))","v":""}]
["","","","","","","",{"$f":"IF($I790=\"\",\"\",VLOOKUP(L790,入力補助!C:E,3,FALSE))","v":""}]
["","","","","","","",{"$f":"IF($I791=\"\",\"\",VLOOKUP(L791,入力補助!C:E,3,FALSE))","v":""}]
["","","","","","","",{"$f":"IF($I792=\"\",\"\",VLOOKUP(L792,入力補助!C:E,3,FALSE))","v":""}]
["","","","","","","",{"$f":"IF($I793=\"\",\"\",VLOOKUP(L793,入力補助!C:E,3,FALSE))","v":""}]
["","","","","","","",{"$f":"IF($I794=\"\",\"\",VLOOKUP(L794,入力補助!C:E,3,FALSE))","v":""}]
["","","","","","","",{"$f":"IF($I795=\"\",\"\",VLOOKUP(L795,入力補助!C:E,3,FALSE))","v":""}]
["","","","","","","",{"$f":"IF($I796=\"\",\"\",VLOOKUP(L796,入力補助!C:E,3,FALSE))","v":""}]
["","","","","","","",{"$f":"IF($I797=\"\",\"\",VLOOKUP(L797,入力補助!C:E,3,FALSE))","v":""}]
["","","","","","","",{"$f":"IF($I798=\"\",\"\",VLOOKUP(L798,入力補助!C:E,3,FALSE))","v":""}]
["","","","","","","",{"$f":"IF($I799=\"\",\"\",VLOOKUP(L799,入力補助!C:E,3,FALSE))","v":""}]
["","","","","","","",{"$f":"IF($I800=\"\",\"\",VLOOKUP(L800,入力補助!C:E,3,FALSE))","v":""}]
["","","","","","","",{"$f":"IF($I801=\"\",\"\",VLOOKUP(L801,入力補助!C:E,3,FALSE))","v":""}]
["","","","","","","",{"$f":"IF($I802=\"\",\"\",VLOOKUP(L802,入力補助!C:E,3,FALSE))","v":""}]
["","","","","","","",{"$f":"IF($I803=\"\",\"\",VLOOKUP(L803,入力補助!C:E,3,FALSE))","v":""}]
["","","","","","","",{"$f":"IF($I804=\"\",\"\",VLOOKUP(L804,入力補助!C:E,3,FALSE))","v":""}]
["","","","","","","",{"$f":"IF($I805=\"\",\"\",VLOOKUP(L805,入力補助!C:E,3,FALSE))","v":""}]
["","","","","","","",{"$f":"IF($I806=\"\",\"\",VLOOKUP(L806,入力補助!C:E,3,FALSE))","v":""}]
["","","","","","","",{"$f":"IF($I807=\"\",\"\",VLOOKUP(L807,入力補助!C:E,3,FALSE))","v":""}]
["","","","","","","",{"$f":"IF($I808=\"\",\"\",VLOOKUP(L808,入力補助!C:E,3,FALSE))","v":""}]
["","","","","","","",{"$f":"IF($I809=\"\",\"\",VLOOKUP(L809,入力補助!C:E,3,FALSE))","v":""}]
["","","","","","","",{"$f":"IF($I810=\"\",\"\",VLOOKUP(L810,入力補助!C:E,3,FALSE))","v":""}]
["","","","","","","",{"$f":"IF($I811=\"\",\"\",VLOOKUP(L811,入力補助!C:E,3,FALSE))","v":""}]
["","","","","","","",{"$f":"IF($I812=\"\",\"\",VLOOKUP(L812,入力補助!C:E,3,FALSE))","v":""}]
["","","","","","","",{"$f":"IF($I813=\"\",\"\",VLOOKUP(L813,入力補助!C:E,3,FALSE))","v":""}]
["","","","","","","",{"$f":"IF($I814=\"\",\"\",VLOOKUP(L814,入力補助!C:E,3,FALSE))","v":""}]
["","","","","","","",{"$f":"IF($I815=\"\",\"\",VLOOKUP(L815,入力補助!C:E,3,FALSE))","v":""}]
["","","","","","","",{"$f":"IF($I816=\"\",\"\",VLOOKUP(L816,入力補助!C:E,3,FALSE))","v":""}]
["","","","","","","",{"$f":"IF($I817=\"\",\"\",VLOOKUP(L817,入力補助!C:E,3,FALSE))","v":""}]
["","","","","","","",{"$f":"IF($I818=\"\",\"\",VLOOKUP(L818,入力補助!C:E,3,FALSE))","v":""}]
["","","","","","","",{"$f":"IF($I819=\"\",\"\",VLOOKUP(L819,入力補助!C:E,3,FALSE))","v":""}]
["","","","","","","",{"$f":"IF($I820=\"\",\"\",VLOOKUP(L820,入力補助!C:E,3,FALSE))","v":""}]
["","","","","","","",{"$f":"IF($I821=\"\",\"\",VLOOKUP(L821,入力補助!C:E,3,FALSE))","v":""}]
["","","","","","","",{"$f":"IF($I822=\"\",\"\",VLOOKUP(L822,入力補助!C:E,3,FALSE))","v":""}]
["","","","","","","",{"$f":"IF($I823=\"\",\"\",VLOOKUP(L823,入力補助!C:E,3,FALSE))","v":""}]
["","","","","","","",{"$f":"IF($I824=\"\",\"\",VLOOKUP(L824,入力補助!C:E,3,FALSE))","v":""}]
["","","","","","","",{"$f":"IF($I825=\"\",\"\",VLOOKUP(L825,入力補助!C:E,3,FALSE))","v":""}]
["","","","","","","",{"$f":"IF($I826=\"\",\"\",VLOOKUP(L826,入力補助!C:E,3,FALSE))","v":""}]
["","","","","","","",{"$f":"IF($I827=\"\",\"\",VLOOKUP(L827,入力補助!C:E,3,FALSE))","v":""}]
["","","","","","","",{"$f":"IF($I828=\"\",\"\",VLOOKUP(L828,入力補助!C:E,3,FALSE))","v":""}]
["","","","","","","",{"$f":"IF($I829=\"\",\"\",VLOOKUP(L829,入力補助!C:E,3,FALSE))","v":""}]
["","","","","","","",{"$f":"IF($I830=\"\",\"\",VLOOKUP(L830,入力補助!C:E,3,FALSE))","v":""}]
["","","","","","","",{"$f":"IF($I831=\"\",\"\",VLOOKUP(L831,入力補助!C:E,3,FALSE))","v":""}]
["","","","","","","",{"$f":"IF($I832=\"\",\"\",VLOOKUP(L832,入力補助!C:E,3,FALSE))","v":""}]
["","","","","","","",{"$f":"IF($I833=\"\",\"\",VLOOKUP(L833,入力補助!C:E,3,FALSE))","v":""}]
["","","","","","","",{"$f":"IF($I834=\"\",\"\",VLOOKUP(L834,入力補助!C:E,3,FALSE))","v":""}]
["","","","","","","",{"$f":"IF($I835=\"\",\"\",VLOOKUP(L835,入力補助!C:E,3,FALSE))","v":""}]
[{"$f":"IF(I836=\"\",\"\",MONTH(I836))","v":""},{"$f":"IF(I836=\"\",\"\",$J$1)","v":""},{"$f":"IF(I836=\"\",\"\",DAY(I836))","v":""},{"$f":"IF($I836=\"\",\"\",$A836&L836)","v":""},{"$f":"IF($I836=\"\",\"\",$A836&M836)","v":""},{"$f":"IF($I836=\"\",\"\",$A836&N836)","v":""},{"$f":"IF($I836=\"\",\"\",$A836&H836)","v":""},{"$f":"IF($I836=\"\",\"\",VLOOKUP(L836,入力補助!C:E,3,FALSE))","v":""}]
["","","","","","","",{"$f":"IF($I837=\"\",\"\",VLOOKUP(L837,入力補助!C:E,3,FALSE))","v":""}]
["","","","","","","",{"$f":"IF($I838=\"\",\"\",VLOOKUP(L838,入力補助!C:E,3,FALSE))","v":""}]
["","","","","","","",{"$f":"IF($I839=\"\",\"\",VLOOKUP(L839,入力補助!C:E,3,FALSE))","v":""}]
["","","","","","","",{"$f":"IF($I840=\"\",\"\",VLOOKUP(L840,入力補助!C:E,3,FALSE))","v":""}]
["","","","","","","",{"$f":"IF($I841=\"\",\"\",VLOOKUP(L841,入力補助!C:E,3,FALSE))","v":""}]
["","","","","","","",{"$f":"IF($I842=\"\",\"\",VLOOKUP(L842,入力補助!C:E,3,FALSE))","v":""}]
["","","","","","","",{"$f":"IF($I843=\"\",\"\",VLOOKUP(L843,入力補助!C:E,3,FALSE))","v":""}]
["","","","","","","",{"$f":"IF($I844=\"\",\"\",VLOOKUP(L844,入力補助!C:E,3,FALSE))","v":""}]
["","","","","","","",{"$f":"IF($I845=\"\",\"\",VLOOKUP(L845,入力補助!C:E,3,FALSE))","v":""}]
["","","","","","","",{"$f":"IF($I846=\"\",\"\",VLOOKUP(L846,入力補助!C:E,3,FALSE))","v":""}]
["","","","","","","",{"$f":"IF($I847=\"\",\"\",VLOOKUP(L847,入力補助!C:E,3,FALSE))","v":""}]
["","","","","","","",{"$f":"IF($I848=\"\",\"\",VLOOKUP(L848,入力補助!C:E,3,FALSE))","v":""}]
["","","","","","","",{"$f":"IF($I849=\"\",\"\",VLOOKUP(L849,入力補助!C:E,3,FALSE))","v":""}]
["","","","","","","",{"$f":"IF($I850=\"\",\"\",VLOOKUP(L850,入力補助!C:E,3,FALSE))","v":""}]
["","","","","","","",{"$f":"IF($I851=\"\",\"\",VLOOKUP(L851,入力補助!C:E,3,FALSE))","v":""}]
["","","","","","","",{"$f":"IF($I852=\"\",\"\",VLOOKUP(L852,入力補助!C:E,3,FALSE))","v":""}]
["","","","","","","",{"$f":"IF($I853=\"\",\"\",VLOOKUP(L853,入力補助!C:E,3,FALSE))","v":""}]
["","","","","","","",{"$f":"IF($I854=\"\",\"\",VLOOKUP(L854,入力補助!C:E,3,FALSE))","v":""}]
["","","","","","","",{"$f":"IF($I855=\"\",\"\",VLOOKUP(L855,入力補助!C:E,3,FALSE))","v":""}]
["","","","","","","",{"$f":"IF($I856=\"\",\"\",VLOOKUP(L856,入力補助!C:E,3,FALSE))","v":""}]
["","","","","","","",{"$f":"IF($I857=\"\",\"\",VLOOKUP(L857,入力補助!C:E,3,FALSE))","v":""}]
["","","","","","","",{"$f":"IF($I858=\"\",\"\",VLOOKUP(L858,入力補助!C:E,3,FALSE))","v":""}]
["","","","","","","",{"$f":"IF($I859=\"\",\"\",VLOOKUP(L859,入力補助!C:E,3,FALSE))","v":""}]
["","","","","","","",{"$f":"IF($I860=\"\",\"\",VLOOKUP(L860,入力補助!C:E,3,FALSE))","v":""}]
["","","","","","","",{"$f":"IF($I861=\"\",\"\",VLOOKUP(L861,入力補助!C:E,3,FALSE))","v":""}]
["","","","","","","",{"$f":"IF($I862=\"\",\"\",VLOOKUP(L862,入力補助!C:E,3,FALSE))","v":""}]
["","","","","","","",{"$f":"IF($I863=\"\",\"\",VLOOKUP(L863,入力補助!C:E,3,FALSE))","v":""}]
["","","","","","","",{"$f":"IF($I864=\"\",\"\",VLOOKUP(L864,入力補助!C:E,3,FALSE))","v":""}]
["","","","","","","",{"$f":"IF($I865=\"\",\"\",VLOOKUP(L865,入力補助!C:E,3,FALSE))","v":""}]
["","","","","","","",{"$f":"IF($I866=\"\",\"\",VLOOKUP(L866,入力補助!C:E,3,FALSE))","v":""}]
["","","","","","","",{"$f":"IF($I867=\"\",\"\",VLOOKUP(L867,入力補助!C:E,3,FALSE))","v":""}]
["","","","","","","",{"$f":"IF($I868=\"\",\"\",VLOOKUP(L868,入力補助!C:E,3,FALSE))","v":""}]
["","","","","","","",{"$f":"IF($I869=\"\",\"\",VLOOKUP(L869,入力補助!C:E,3,FALSE))","v":""}]
["","","","","","","",{"$f":"IF($I870=\"\",\"\",VLOOKUP(L870,入力補助!C:E,3,FALSE))","v":""}]
["","","","","","","",{"$f":"IF($I871=\"\",\"\",VLOOKUP(L871,入力補助!C:E,3,FALSE))","v":""}]
["","","","","","","",{"$f":"IF($I872=\"\",\"\",VLOOKUP(L872,入力補助!C:E,3,FALSE))","v":""}]
["","","","","","","",{"$f":"IF($I873=\"\",\"\",VLOOKUP(L873,入力補助!C:E,3,FALSE))","v":""}]
["","","","","","","",{"$f":"IF($I874=\"\",\"\",VLOOKUP(L874,入力補助!C:E,3,FALSE))","v":""}]
["","","","","","","",{"$f":"IF($I875=\"\",\"\",VLOOKUP(L875,入力補助!C:E,3,FALSE))","v":""}]
["","","","","","","",{"$f":"IF($I876=\"\",\"\",VLOOKUP(L876,入力補助!C:E,3,FALSE))","v":""}]
["","","","","","","",{"$f":"IF($I877=\"\",\"\",VLOOKUP(L877,入力補助!C:E,3,FALSE))","v":""}]
["","","","","","","",{"$f":"IF($I878=\"\",\"\",VLOOKUP(L878,入力補助!C:E,3,FALSE))","v":""}]
["","","","","","","",{"$f":"IF($I879=\"\",\"\",VLOOKUP(L879,入力補助!C:E,3,FALSE))","v":""}]
["","","","","","","",{"$f":"IF($I880=\"\",\"\",VLOOKUP(L880,入力補助!C:E,3,FALSE))","v":""}]
["","","","","","","",{"$f":"IF($I881=\"\",\"\",VLOOKUP(L881,入力補助!C:E,3,FALSE))","v":""}]
["","","","","","","",{"$f":"IF($I882=\"\",\"\",VLOOKUP(L882,入力補助!C:E,3,FALSE))","v":""}]
["","","","","","","",{"$f":"IF($I883=\"\",\"\",VLOOKUP(L883,入力補助!C:E,3,FALSE))","v":""}]
["","","","","","","",{"$f":"IF($I884=\"\",\"\",VLOOKUP(L884,入力補助!C:E,3,FALSE))","v":""}]
["","","","","","","",{"$f":"IF($I885=\"\",\"\",VLOOKUP(L885,入力補助!C:E,3,FALSE))","v":""}]
["","","","","","","",{"$f":"IF($I886=\"\",\"\",VLOOKUP(L886,入力補助!C:E,3,FALSE))","v":""}]
["","","","","","","",{"$f":"IF($I887=\"\",\"\",VLOOKUP(L887,入力補助!C:E,3,FALSE))","v":""}]
["","","","","","","",{"$f":"IF($I888=\"\",\"\",VLOOKUP(L888,入力補助!C:E,3,FALSE))","v":""}]
["","","","","","","",{"$f":"IF($I889=\"\",\"\",VLOOKUP(L889,入力補助!C:E,3,FALSE))","v":""}]
["","","","","","","",{"$f":"IF($I890=\"\",\"\",VLOOKUP(L890,入力補助!C:E,3,FALSE))","v":""}]
["","","","","","","",{"$f":"IF($I891=\"\",\"\",VLOOKUP(L891,入力補助!C:E,3,FALSE))","v":""}]
["","","","","","","",{"$f":"IF($I892=\"\",\"\",VLOOKUP(L892,入力補助!C:E,3,FALSE))","v":""}]
["","","","","","","",{"$f":"IF($I893=\"\",\"\",VLOOKUP(L893,入力補助!C:E,3,FALSE))","v":""}]
["","","","","","","",{"$f":"IF($I894=\"\",\"\",VLOOKUP(L894,入力補助!C:E,3,FALSE))","v":""}]
["","","","","","","",{"$f":"IF($I895=\"\",\"\",VLOOKUP(L895,入力補助!C:E,3,FALSE))","v":""}]
["","","","","","","",{"$f":"IF($I896=\"\",\"\",VLOOKUP(L896,入力補助!C:E,3,FALSE))","v":""}]
["","","","","","","",{"$f":"IF($I897=\"\",\"\",VLOOKUP(L897,入力補助!C:E,3,FALSE))","v":""}]
["","","","","","","",{"$f":"IF($I898=\"\",\"\",VLOOKUP(L898,入力補助!C:E,3,FALSE))","v":""}]
["","","","","","","",{"$f":"IF($I899=\"\",\"\",VLOOKUP(L899,入力補助!C:E,3,FALSE))","v":""}]
[{"$f":"IF(I900=\"\",\"\",MONTH(I900))","v":""},{"$f":"IF(I900=\"\",\"\",$J$1)","v":""},{"$f":"IF(I900=\"\",\"\",DAY(I900))","v":""},{"$f":"IF($I900=\"\",\"\",$A900&L900)","v":""},{"$f":"IF($I900=\"\",\"\",$A900&M900)","v":""},{"$f":"IF($I900=\"\",\"\",$A900&N900)","v":""},{"$f":"IF($I900=\"\",\"\",$A900&H900)","v":""},{"$f":"IF($I900=\"\",\"\",VLOOKUP(L900,入力補助!C:E,3,FALSE))","v":""}]
["","","","","","","",{"$f":"IF($I901=\"\",\"\",VLOOKUP(L901,入力補助!C:E,3,FALSE))","v":""}]
["","","","","","","",{"$f":"IF($I902=\"\",\"\",VLOOKUP(L902,入力補助!C:E,3,FALSE))","v":""}]
["","","","","","","",{"$f":"IF($I903=\"\",\"\",VLOOKUP(L903,入力補助!C:E,3,FALSE))","v":""}]
["","","","","","","",{"$f":"IF($I904=\"\",\"\",VLOOKUP(L904,入力補助!C:E,3,FALSE))","v":""}]
["","","","","","","",{"$f":"IF($I905=\"\",\"\",VLOOKUP(L905,入力補助!C:E,3,FALSE))","v":""}]
["","","","","","","",{"$f":"IF($I906=\"\",\"\",VLOOKUP(L906,入力補助!C:E,3,FALSE))","v":""}]
["","","","","","","",{"$f":"IF($I907=\"\",\"\",VLOOKUP(L907,入力補助!C:E,3,FALSE))","v":""}]
["","","","","","","",{"$f":"IF($I908=\"\",\"\",VLOOKUP(L908,入力補助!C:E,3,FALSE))","v":""}]
["","","","","","","",{"$f":"IF($I909=\"\",\"\",VLOOKUP(L909,入力補助!C:E,3,FALSE))","v":""}]
["","","","","","","",{"$f":"IF($I910=\"\",\"\",VLOOKUP(L910,入力補助!C:E,3,FALSE))","v":""}]
["","","","","","","",{"$f":"IF($I911=\"\",\"\",VLOOKUP(L911,入力補助!C:E,3,FALSE))","v":""}]
["","","","","","","",{"$f":"IF($I912=\"\",\"\",VLOOKUP(L912,入力補助!C:E,3,FALSE))","v":""}]
["","","","","","","",{"$f":"IF($I913=\"\",\"\",VLOOKUP(L913,入力補助!C:E,3,FALSE))","v":""}]
["","","","","","","",{"$f":"IF($I914=\"\",\"\",VLOOKUP(L914,入力補助!C:E,3,FALSE))","v":""}]
["","","","","","","",{"$f":"IF($I915=\"\",\"\",VLOOKUP(L915,入力補助!C:E,3,FALSE))","v":""}]
["","","","","","","",{"$f":"IF($I916=\"\",\"\",VLOOKUP(L916,入力補助!C:E,3,FALSE))","v":""}]
["","","","","","","",{"$f":"IF($I917=\"\",\"\",VLOOKUP(L917,入力補助!C:E,3,FALSE))","v":""}]
["","","","","","","",{"$f":"IF($I918=\"\",\"\",VLOOKUP(L918,入力補助!C:E,3,FALSE))","v":""}]
["","","","","","","",{"$f":"IF($I919=\"\",\"\",VLOOKUP(L919,入力補助!C:E,3,FALSE))","v":""}]
["","","","","","","",{"$f":"IF($I920=\"\",\"\",VLOOKUP(L920,入力補助!C:E,3,FALSE))","v":""}]
["","","","","","","",{"$f":"IF($I921=\"\",\"\",VLOOKUP(L921,入力補助!C:E,3,FALSE))","v":""}]
["","","","","","","",{"$f":"IF($I922=\"\",\"\",VLOOKUP(L922,入力補助!C:E,3,FALSE))","v":""}]
["","","","","","","",{"$f":"IF($I923=\"\",\"\",VLOOKUP(L923,入力補助!C:E,3,FALSE))","v":""}]
["","","","","","","",{"$f":"IF($I924=\"\",\"\",VLOOKUP(L924,入力補助!C:E,3,FALSE))","v":""}]
["","","","","","","",{"$f":"IF($I925=\"\",\"\",VLOOKUP(L925,入力補助!C:E,3,FALSE))","v":""}]
["","","","","","","",{"$f":"IF($I926=\"\",\"\",VLOOKUP(L926,入力補助!C:E,3,FALSE))","v":""}]
["","","","","","","",{"$f":"IF($I927=\"\",\"\",VLOOKUP(L927,入力補助!C:E,3,FALSE))","v":""}]
["","","","","","","",{"$f":"IF($I928=\"\",\"\",VLOOKUP(L928,入力補助!C:E,3,FALSE))","v":""}]
["","","","","","","",{"$f":"IF($I929=\"\",\"\",VLOOKUP(L929,入力補助!C:E,3,FALSE))","v":""}]
["","","","","","","",{"$f":"IF($I930=\"\",\"\",VLOOKUP(L930,入力補助!C:E,3,FALSE))","v":""}]
["","","","","","","",{"$f":"IF($I931=\"\",\"\",VLOOKUP(L931,入力補助!C:E,3,FALSE))","v":""}]
["","","","","","","",{"$f":"IF($I932=\"\",\"\",VLOOKUP(L932,入力補助!C:E,3,FALSE))","v":""}]
["","","","","","","",{"$f":"IF($I933=\"\",\"\",VLOOKUP(L933,入力補助!C:E,3,FALSE))","v":""}]
["","","","","","","",{"$f":"IF($I934=\"\",\"\",VLOOKUP(L934,入力補助!C:E,3,FALSE))","v":""}]
["","","","","","","",{"$f":"IF($I935=\"\",\"\",VLOOKUP(L935,入力補助!C:E,3,FALSE))","v":""}]
["","","","","","","",{"$f":"IF($I936=\"\",\"\",VLOOKUP(L936,入力補助!C:E,3,FALSE))","v":""}]
["","","","","","","",{"$f":"IF($I937=\"\",\"\",VLOOKUP(L937,入力補助!C:E,3,FALSE))","v":""}]
["","","","","","","",{"$f":"IF($I938=\"\",\"\",VLOOKUP(L938,入力補助!C:E,3,FALSE))","v":""}]
["","","","","","","",{"$f":"IF($I939=\"\",\"\",VLOOKUP(L939,入力補助!C:E,3,FALSE))","v":""}]
["","","","","","","",{"$f":"IF($I940=\"\",\"\",VLOOKUP(L940,入力補助!C:E,3,FALSE))","v":""}]
["","","","","","","",{"$f":"IF($I941=\"\",\"\",VLOOKUP(L941,入力補助!C:E,3,FALSE))","v":""}]
["","","","","","","",{"$f":"IF($I942=\"\",\"\",VLOOKUP(L942,入力補助!C:E,3,FALSE))","v":""}]
["","","","","","","",{"$f":"IF($I943=\"\",\"\",VLOOKUP(L943,入力補助!C:E,3,FALSE))","v":""}]
["","","","","","","",{"$f":"IF($I944=\"\",\"\",VLOOKUP(L944,入力補助!C:E,3,FALSE))","v":""}]
["","","","","","","",{"$f":"IF($I945=\"\",\"\",VLOOKUP(L945,入力補助!C:E,3,FALSE))","v":""}]
["","","","","","","",{"$f":"IF($I946=\"\",\"\",VLOOKUP(L946,入力補助!C:E,3,FALSE))","v":""}]
["","","","","","","",{"$f":"IF($I947=\"\",\"\",VLOOKUP(L947,入力補助!C:E,3,FALSE))","v":""}]
["","","","","","","",{"$f":"IF($I948=\"\",\"\",VLOOKUP(L948,入力補助!C:E,3,FALSE))","v":""}]
["","","","","","","",{"$f":"IF($I949=\"\",\"\",VLOOKUP(L949,入力補助!C:E,3,FALSE))","v":""}]
["","","","","","","",{"$f":"IF($I950=\"\",\"\",VLOOKUP(L950,入力補助!C:E,3,FALSE))","v":""}]
["","","","","","","",{"$f":"IF($I951=\"\",\"\",VLOOKUP(L951,入力補助!C:E,3,FALSE))","v":""}]
["","","","","","","",{"$f":"IF($I952=\"\",\"\",VLOOKUP(L952,入力補助!C:E,3,FALSE))","v":""}]
["","","","","","","",{"$f":"IF($I953=\"\",\"\",VLOOKUP(L953,入力補助!C:E,3,FALSE))","v":""}]
["","","","","","","",{"$f":"IF($I954=\"\",\"\",VLOOKUP(L954,入力補助!C:E,3,FALSE))","v":""}]
["","","","","","","",{"$f":"IF($I955=\"\",\"\",VLOOKUP(L955,入力補助!C:E,3,FALSE))","v":""}]
["","","","","","","",{"$f":"IF($I956=\"\",\"\",VLOOKUP(L956,入力補助!C:E,3,FALSE))","v":""}]
["","","","","","","",{"$f":"IF($I957=\"\",\"\",VLOOKUP(L957,入力補助!C:E,3,FALSE))","v":""}]
["","","","","","","",{"$f":"IF($I958=\"\",\"\",VLOOKUP(L958,入力補助!C:E,3,FALSE))","v":""}]
["","","","","","","",{"$f":"IF($I959=\"\",\"\",VLOOKUP(L959,入力補助!C:E,3,FALSE))","v":""}]
["","","","","","","",{"$f":"IF($I960=\"\",\"\",VLOOKUP(L960,入力補助!C:E,3,FALSE))","v":""}]
["","","","","","","",{"$f":"IF($I961=\"\",\"\",VLOOKUP(L961,入力補助!C:E,3,FALSE))","v":""}]
["","","","","","","",{"$f":"IF($I962=\"\",\"\",VLOOKUP(L962,入力補助!C:E,3,FALSE))","v":""}]
["","","","","","","",{"$f":"IF($I963=\"\",\"\",VLOOKUP(L963,入力補助!C:E,3,FALSE))","v":""}]
[{"$f":"IF(I964=\"\",\"\",MONTH(I964))","v":""},{"$f":"IF(I964=\"\",\"\",$J$1)","v":""},{"$f":"IF(I964=\"\",\"\",DAY(I964))","v":""},{"$f":"IF($I964=\"\",\"\",$A964&L964)","v":""},{"$f":"IF($I964=\"\",\"\",$A964&M964)","v":""},{"$f":"IF($I964=\"\",\"\",$A964&N964)","v":""},{"$f":"IF($I964=\"\",\"\",$A964&H964)","v":""},{"$f":"IF($I964=\"\",\"\",VLOOKUP(L964,入力補助!C:E,3,FALSE))","v":""}]
["","","","","","","",{"$f":"IF($I965=\"\",\"\",VLOOKUP(L965,入力補助!C:E,3,FALSE))","v":""}]
["","","","","","","",{"$f":"IF($I966=\"\",\"\",VLOOKUP(L966,入力補助!C:E,3,FALSE))","v":""}]
["","","","","","","",{"$f":"IF($I967=\"\",\"\",VLOOKUP(L967,入力補助!C:E,3,FALSE))","v":""}]
["","","","","","","",{"$f":"IF($I968=\"\",\"\",VLOOKUP(L968,入力補助!C:E,3,FALSE))","v":""}]
["","","","","","","",{"$f":"IF($I969=\"\",\"\",VLOOKUP(L969,入力補助!C:E,3,FALSE))","v":""}]
["","","","","","","",{"$f":"IF($I970=\"\",\"\",VLOOKUP(L970,入力補助!C:E,3,FALSE))","v":""}]
["","","","","","","",{"$f":"IF($I971=\"\",\"\",VLOOKUP(L971,入力補助!C:E,3,FALSE))","v":""}]
["","","","","","","",{"$f":"IF($I972=\"\",\"\",VLOOKUP(L972,入力補助!C:E,3,FALSE))","v":""}]
["","","","","","","",{"$f":"IF($I973=\"\",\"\",VLOOKUP(L973,入力補助!C:E,3,FALSE))","v":""}]
["","","","","","","",{"$f":"IF($I974=\"\",\"\",VLOOKUP(L974,入力補助!C:E,3,FALSE))","v":""}]
["","","","","","","",{"$f":"IF($I975=\"\",\"\",VLOOKUP(L975,入力補助!C:E,3,FALSE))","v":""}]
["","","","","","","",{"$f":"IF($I976=\"\",\"\",VLOOKUP(L976,入力補助!C:E,3,FALSE))","v":""}]
["","","","","","","",{"$f":"IF($I977=\"\",\"\",VLOOKUP(L977,入力補助!C:E,3,FALSE))","v":""}]
["","","","","","","",{"$f":"IF($I978=\"\",\"\",VLOOKUP(L978,入力補助!C:E,3,FALSE))","v":""}]
["","","","","","","",{"$f":"IF($I979=\"\",\"\",VLOOKUP(L979,入力補助!C:E,3,FALSE))","v":""}]
["","","","","","","",{"$f":"IF($I980=\"\",\"\",VLOOKUP(L980,入力補助!C:E,3,FALSE))","v":""}]
["","","","","","","",{"$f":"IF($I981=\"\",\"\",VLOOKUP(L981,入力補助!C:E,3,FALSE))","v":""}]
["","","","","","","",{"$f":"IF($I982=\"\",\"\",VLOOKUP(L982,入力補助!C:E,3,FALSE))","v":""}]
["","","","","","","",{"$f":"IF($I983=\"\",\"\",VLOOKUP(L983,入力補助!C:E,3,FALSE))","v":""}]
["","","","","","","",{"$f":"IF($I984=\"\",\"\",VLOOKUP(L984,入力補助!C:E,3,FALSE))","v":""}]
["","","","","","","",{"$f":"IF($I985=\"\",\"\",VLOOKUP(L985,入力補助!C:E,3,FALSE))","v":""}]
["","","","","","","",{"$f":"IF($I986=\"\",\"\",VLOOKUP(L986,入力補助!C:E,3,FALSE))","v":""}]
["","","","","","","",{"$f":"IF($I987=\"\",\"\",VLOOKUP(L987,入力補助!C:E,3,FALSE))","v":""}]
["","","","","","","",{"$f":"IF($I988=\"\",\"\",VLOOKUP(L988,入力補助!C:E,3,FALSE))","v":""}]
["","","","","","","",{"$f":"IF($I989=\"\",\"\",VLOOKUP(L989,入力補助!C:E,3,FALSE))","v":""}]
["","","","","","","",{"$f":"IF($I990=\"\",\"\",VLOOKUP(L990,入力補助!C:E,3,FALSE))","v":""}]
["","","","","","","",{"$f":"IF($I991=\"\",\"\",VLOOKUP(L991,入力補助!C:E,3,FALSE))","v":""}]
["","","","","","","",{"$f":"IF($I992=\"\",\"\",VLOOKUP(L992,入力補助!C:E,3,FALSE))","v":""}]
["","","","","","","",{"$f":"IF($I993=\"\",\"\",VLOOKUP(L993,入力補助!C:E,3,FALSE))","v":""}]
["","","","","","","",{"$f":"IF($I994=\"\",\"\",VLOOKUP(L994,入力補助!C:E,3,FALSE))","v":""}]
["","","","","","","",{"$f":"IF($I995=\"\",\"\",VLOOKUP(L995,入力補助!C:E,3,FALSE))","v":""}]
["","","","","","","",{"$f":"IF($I996=\"\",\"\",VLOOKUP(L996,入力補助!C:E,3,FALSE))","v":""}]
["","","","","","","",{"$f":"IF($I997=\"\",\"\",VLOOKUP(L997,入力補助!C:E,3,FALSE))","v":""}]
["","","","","","","",{"$f":"IF($I998=\"\",\"\",VLOOKUP(L998,入力補助!C:E,3,FALSE))","v":""}]
["","","","","","","",{"$f":"IF($I999=\"\",\"\",VLOOKUP(L999,入力補助!C:E,3,FALSE))","v":""}]
["","","","","","","",{"$f":"IF($I1000=\"\",\"\",VLOOKUP(L1000,入力補助!C:E,3,FALSE))","v":""}]

{"sheet":"当月集計","index":1,"n_rows":176,"n_cols":9,"rows_kept":176,"cut":false,"hidden":false,"merged":[]}
[{"$f":"勘定入力!L3","v":"勘定科目"},"年間合計",null,{"$f":"IF(MONTH(TODAY())=1,\"－\",MONTH(TODAY())-1)&\"月\"","v":"2月"},null,{"$f":"IF(MONTH(TODAY())=12,\"－\",MONTH(TODAY()))&\"月\"","v":"3月"},null,{"$f":"IF(MONTH(TODAY())=12,\"－\",MONTH(TODAY())+1)&\"月\"","v":"4月"}]
[null,"入金","支払","入金","支払","入金","支払","入金","支払"]
[{"$f":"入力補助!C3","v":"○○"},{"$f":"VLOOKUP($A3,検索範囲A,年間入金,FALSE)","v":30000},{"$f":"VLOOKUP($A3,検索範囲A,年間支払,FALSE)","v":0},{"$f":"VLOOKUP($A3,検索範囲A,先月入金,FALSE)","v":5000},{"$f":"VLOOKUP($A3,検索範囲A,先月支払,FALSE)","v":0},{"$f":"VLOOKUP($A3,検索範囲A,当月入金,FALSE)","v":5000},{"$f":"VLOOKUP($A3,検索範囲A,当月支払,FALSE)","v":0},{"$f":"VLOOKUP($A3,検索範囲A,来月入金,FALSE)","v":0},{"$f":"VLOOKUP($A3,検索範囲A,来月支払,FALSE)","v":0}]
[{"$f":"入力補助!C4","v":"△△"},500,0,0,0,0,0,0,0]
[{"$f":"入力補助!C5","v":"基礎工事"},0,2000,0,0,0,1000,0,0]
[{"$f":"入力補助!C6","v":"屋根工事"},0,4000,0,0,0,0,0,0]
[{"$f":"入力補助!C7","v":"外構工事"},0,0,0,0,0,0,0,0]
[{"$f":"入力補助!C8","v":"外壁工事"},0,6000,0,0,0,0,0,0]
[{"$f":"入力補助!C9","v":"左官工事"},0,0,0,0,0,0,0,0]
[{"$f":"入力補助!C10","v":"電気工事"},0,6000,0,0,0,0,0,0]
[{"$f":"入力補助!C11","v":"木工事"},0,4000,0,0,0,0,0,2000]
[{"$f":"入力補助!C12","v":"内装工事"},0,0,0,0,0,0,0,0]
[{"$f":"入力補助!C13","v":"住宅設備工事"},0,0,0,0,0,0,0,0]
[{"$f":"入力補助!C14","v":"サッシ工事"},0,0,0,0,0,0,0,0]
[{"$f":"入力補助!C15","v":"衛生設備工事"},0,0,0,0,0,0,0,0]
[{"$f":"入力補助!C16","v":"内部建具工事"},0,0,0,0,0,0,0,0]
[{"$f":"入力補助!C17","v":"板金工事"},0,0,0,0,0,0,0,0]
[{"$f":"入力補助!C18","v":"付帯工事"},0,0,0,0,0,0,0,0]
[{"$f":"入力補助!C19","v":"仮設工事"},0,0,0,0,0,0,0,0]
[{"$f":"入力補助!C20","v":"申請手続き"},0,0,0,0,0,0,0,0]
[{"$f":"入力補助!C21","v":"諸費用"},0,0,0,0,0,0,0,0]
[{"$f":"入力補助!C22","v":0},0,0,0,0,0,0,0,0]
[{"$f":"入力補助!C23","v":"-----"},0,0,0,0,0,0,0,0]
[{"$f":"入力補助!C24","v":"繰越金"},10000,0,0,0,0,0,0,0]
[{"$f":"入力補助!C25","v":"給料・手当"},0,12000,0,1000,0,1000,0,1000]
[{"$f":"入力補助!C26","v":"車両費"},0,1200,0,100,0,100,0,100]
[{"$f":"入力補助!C27","v":"燃料"},0,0,0,0,0,0,0,0]
[{"$f":"入力補助!C28","v":"水道"},0,0,0,0,0,0,0,0]
[{"$f":"入力補助!C29","v":"電気"},0,0,0,0,0,0,0,0]
[{"$f":"入力補助!C30","v":"ガス"},0,0,0,0,0,0,0,0]
[{"$f":"入力補助!C31","v":"通信費"},0,0,0,0,0,0,0,0]
[{"$f":"入力補助!C32","v":"事務用品費"},0,0,0,0,0,0,0,0]
[{"$f":"入力補助!C33","v":"保険料"},0,0,0,0,0,0,0,0]
[{"$f":"入力補助!C34","v":"リース料"},0,0,0,0,0,0,0,0]
[{"$f":"入力補助!C35","v":0},{"$f":"VLOOKUP($A35,検索範囲A,年間入金,FALSE)","v":0},{"$f":"VLOOKUP($A35,検索範囲A,年間支払,FALSE)","v":0},{"$f":"VLOOKUP($A35,検索範囲A,先月入金,FALSE)","v":0},{"$f":"VLOOKUP($A35,検索範囲A,先月支払,FALSE)","v":0},{"$f":"VLOOKUP($A35,検索範囲A,当月入金,FALSE)","v":0},{"$f":"VLOOKUP($A35,検索範囲A,当月支払,FALSE)","v":0},{"$f":"VLOOKUP($A35,検索範囲A,来月入金,FALSE)","v":0},{"$f":"VLOOKUP($A35,検索範囲A,来月支払,FALSE)","v":0}]
[{"$f":"入力補助!C36","v":0},0,0,0,0,0,0,0,0]
[{"$f":"入力補助!C37","v":0},0,0,0,0,0,0,0,0]
[{"$f":"入力補助!C38","v":0},0,0,0,0,0,0,0,0]
[{"$f":"入力補助!C39","v":0},0,0,0,0,0,0,0,0]
[{"$f":"入力補助!C40","v":0},0,0,0,0,0,0,0,0]
[{"$f":"入力補助!C41","v":0},0,0,0,0,0,0,0,0]
[{"$f":"入力補助!C42","v":0},0,0,0,0,0,0,0,0]
[{"$f":"入力補助!C43","v":0},0,0,0,0,0,0,0,0]
[{"$f":"入力補助!C44","v":0},0,0,0,0,0,0,0,0]
[{"$f":"入力補助!C45","v":0},0,0,0,0,0,0,0,0]
[{"$f":"入力補助!C46","v":0},0,0,0,0,0,0,0,0]
[{"$f":"入力補助!C47","v":0},0,0,0,0,0,0,0,0]
[{"$f":"入力補助!C48","v":0},0,0,0,0,0,0,0,0]
[{"$f":"入力補助!C49","v":0},0,0,0,0,0,0,0,0]
[{"$f":"入力補助!C50","v":0},0,0,0,0,0,0,0,0]
[{"$f":"入力補助!C51","v":0},0,0,0,0,0,0,0,0]
[{"$f":"入力補助!C52","v":0},0,0,0,0,0,0,0,0]
[{"$f":"入力補助!C53","v":0},0,0,0,0,0,0,0,0]
[{"$f":"入力補助!C54","v":0},0,0,0,0,0,0,0,0]
[{"$f":"入力補助!C55","v":0},0,0,0,0,0,0,0,0]
[{"$f":"入力補助!C56","v":0},0,0,0,0,0,0,0,0]
[{"$f":"入力補助!C57","v":0},0,0,0,0,0,0,0,0]
["合計",{"$f":"SUM(B3:B57)","v":40500},35200,5000,1100,5000,2100,0,3100]
[]
[{"$f":"勘定入力!M3","v":"施工先"},"年間合計",null,{"$f":"IF(MONTH(TODAY())=1,\"－\",MONTH(TODAY())-1)&\"月\"","v":"2月"},null,"今月",null,{"$f":"IF(MONTH(TODAY())=12,\"－\",MONTH(TODAY())+1)&\"月\"","v":"4月"}]
[null,"入金","支払","入金","支払","入金","支払","入金","支払"]
[{"$f":"入力補助!J3","v":"○○会社"},{"$f":"VLOOKUP($A62,検索範囲B,年間入金,FALSE)","v":0},{"$f":"VLOOKUP($A62,検索範囲B,年間支払,FALSE)","v":1200},{"$f":"VLOOKUP($A62,検索範囲B,先月入金,FALSE)","v":0},{"$f":"VLOOKUP($A62,検索範囲B,先月支払,FALSE)","v":100},{"$f":"VLOOKUP($A62,検索範囲B,当月入金,FALSE)","v":0},{"$f":"VLOOKUP($A62,検索範囲B,当月支払,FALSE)","v":100},{"$f":"VLOOKUP($A62,検索範囲B,来月入金,FALSE)","v":0},{"$f":"VLOOKUP($A62,検索範囲B,来月支払,FALSE)","v":100}]
[{"$f":"入力補助!J4","v":"従業員（固定費）"},0,12000,0,1000,0,1000,0,1000]
[{"$f":"入力補助!J5","v":"一般ユーザ"},500,0,0,0,0,0,0,0]
[{"$f":"入力補助!J6","v":"A1邸"},15000,11000,5000,0,0,1000,0,2000]
[{"$f":"入力補助!J7","v":"A2邸"},15000,11000,0,0,5000,0,0,0]
[{"$f":"入力補助!J8","v":"A3邸"},0,0,0,0,0,0,0,0]
[{"$f":"入力補助!J9","v":"A4邸"},0,0,0,0,0,0,0,0]
[{"$f":"入力補助!J10","v":"A5邸"},0,0,0,0,0,0,0,0]
[{"$f":"入力補助!J11","v":"A6邸"},0,0,0,0,0,0,0,0]
[{"$f":"入力補助!J12","v":"A7邸"},0,0,0,0,0,0,0,0]
[{"$f":"入力補助!J13","v":"A8邸"},0,0,0,0,0,0,0,0]
[{"$f":"入力補助!J14","v":"A9邸"},0,0,0,0,0,0,0,0]
[{"$f":"入力補助!J15","v":"A10邸"},0,0,0,0,0,0,0,0]
[{"$f":"入力補助!J16","v":"A11邸"},0,0,0,0,0,0,0,0]
[{"$f":"入力補助!J17","v":"A12邸"},0,0,0,0,0,0,0,0]
[{"$f":"入力補助!J18","v":"A13邸"},0,0,0,0,0,0,0,0]
[{"$f":"入力補助!J19","v":"A14邸"},0,0,0,0,0,0,0,0]
[{"$f":"入力補助!J20","v":"A15邸"},0,0,0,0,0,0,0,0]
[{"$f":"入力補助!J21","v":0},0,0,0,0,0,0,0,0]
[{"$f":"入力補助!J22","v":0},0,0,0,0,0,0,0,0]
[{"$f":"入力補助!J23","v":0},0,0,0,0,0,0,0,0]
[{"$f":"入力補助!J24","v":0},0,0,0,0,0,0,0,0]
[{"$f":"入力補助!J25","v":0},0,0,0,0,0,0,0,0]
[{"$f":"入力補助!J26","v":0},0,0,0,0,0,0,0,0]
[{"$f":"入力補助!J27","v":0},0,0,0,0,0,0,0,0]
[{"$f":"入力補助!J28","v":0},0,0,0,0,0,0,0,0]
[{"$f":"入力補助!J29","v":0},0,0,0,0,0,0,0,0]
[{"$f":"入力補助!J30","v":0},0,0,0,0,0,0,0,0]
[{"$f":"入力補助!J31","v":0},0,0,0,0,0,0,0,0]
[{"$f":"入力補助!J32","v":0},0,0,0,0,0,0,0,0]
[{"$f":"入力補助!J33","v":0},0,0,0,0,0,0,0,0]
[{"$f":"入力補助!J34","v":0},0,0,0,0,0,0,0,0]
[{"$f":"入力補助!J35","v":0},{"$f":"VLOOKUP($A94,検索範囲B,年間入金,FALSE)","v":0},{"$f":"VLOOKUP($A94,検索範囲B,年間支払,FALSE)","v":0},{"$f":"VLOOKUP($A94,検索範囲B,先月入金,FALSE)","v":0},{"$f":"VLOOKUP($A94,検索範囲B,先月支払,FALSE)","v":0},{"$f":"VLOOKUP($A94,検索範囲B,当月入金,FALSE)","v":0},{"$f":"VLOOKUP($A94,検索範囲B,当月支払,FALSE)","v":0},{"$f":"VLOOKUP($A94,検索範囲B,来月入金,FALSE)","v":0},{"$f":"VLOOKUP($A94,検索範囲B,来月支払,FALSE)","v":0}]
[{"$f":"入力補助!J36","v":0},0,0,0,0,0,0,0,0]
[{"$f":"入力補助!J37","v":0},0,0,0,0,0,0,0,0]
[{"$f":"入力補助!J38","v":0},0,0,0,0,0,0,0,0]
[{"$f":"入力補助!J39","v":0},0,0,0,0,0,0,0,0]
[{"$f":"入力補助!J40","v":0},0,0,0,0,0,0,0,0]
[{"$f":"入力補助!J41","v":0},0,0,0,0,0,0,0,0]
[{"$f":"入力補助!J42","v":0},0,0,0,0,0,0,0,0]
[{"$f":"入力補助!J43","v":0},0,0,0,0,0,0,0,0]
[{"$f":"入力補助!J44","v":0},0,0,0,0,0,0,0,0]
[{"$f":"入力補助!J45","v":0},0,0,0,0,0,0,0,0]
[{"$f":"入力補助!J46","v":0},0,0,0,0,0,0,0,0]
[{"$f":"入力補助!J47","v":0},0,0,0,0,0,0,0,0]
[{"$f":"入力補助!J48","v":0},0,0,0,0,0,0,0,0]
[{"$f":"入力補助!J49","v":0},0,0,0,0,0,0,0,0]
[{"$f":"入力補助!J50","v":0},0,0,0,0,0,0,0,0]
[{"$f":"入力補助!J51","v":0},0,0,0,0,0,0,0,0]
[{"$f":"入力補助!J52","v":0},0,0,0,0,0,0,0,0]
[{"$f":"入力補助!J53","v":0},0,0,0,0,0,0,0,0]
[{"$f":"入力補助!J54","v":0},0,0,0,0,0,0,0,0]
[{"$f":"入力補助!J55","v":0},0,0,0,0,0,0,0,0]
[{"$f":"入力補助!J56","v":"その他"},0,0,0,0,0,0,0,0]
[{"$f":"入力補助!J57","v":"該当無"},10000,0,0,0,0,0,0,0]
["合計",{"$f":"SUM(B62:B116)","v":40500},35200,5000,1100,5000,2100,0,3100]
[]
[{"$f":"勘定入力!N3","v":"施工者・メーカ"},"年間合計",null,{"$f":"IF(MONTH(TODAY())=1,\"－\",MONTH(TODAY())-1)&\"月\"","v":"2月"},null,"今月",null,{"$f":"IF(MONTH(TODAY())=12,\"－\",MONTH(TODAY())+1)&\"月\"","v":"4月"}]
[null,"入金","支払","入金","支払","入金","支払","入金","支払"]
[{"$f":"入力補助!M3","v":"○○会社"},{"$f":"VLOOKUP($A121,検索範囲C,年間入金,FALSE)","v":30500},{"$f":"VLOOKUP($A121,検索範囲C,年間支払,FALSE)","v":1200},{"$f":"VLOOKUP($A121,検索範囲C,先月入金,FALSE)","v":5000},{"$f":"VLOOKUP($A121,検索範囲C,先月支払,FALSE)","v":100},{"$f":"VLOOKUP($A121,検索範囲C,当月入金,FALSE)","v":5000},{"$f":"VLOOKUP($A121,検索範囲C,当月支払,FALSE)","v":100},{"$f":"VLOOKUP($A121,検索範囲C,来月入金,FALSE)","v":0},{"$f":"VLOOKUP($A121,検索範囲C,来月支払,FALSE)","v":100}]
[{"$f":"入力補助!M4","v":"会社（固定費）"},0,12000,0,1000,0,1000,0,1000]
[{"$f":"入力補助!M5","v":"その他協力会社"},0,0,0,0,0,0,0,0]
[{"$f":"入力補助!M6","v":"自社施工"},0,2000,0,0,0,1000,0,0]
[{"$f":"入力補助!M7","v":"B1社"},0,4000,0,0,0,0,0,0]
[{"$f":"入力補助!M8","v":"B2社"},0,0,0,0,0,0,0,0]
[{"$f":"入力補助!M9","v":"B3社"},0,6000,0,0,0,0,0,0]
[{"$f":"入力補助!M10","v":"B4社"},0,6000,0,0,0,0,0,0]
[{"$f":"入力補助!M11","v":"B5社"},0,4000,0,0,0,0,0,2000]
[{"$f":"入力補助!M12","v":"B6社"},0,0,0,0,0,0,0,0]
[{"$f":"入力補助!M13","v":"B7社"},0,0,0,0,0,0,0,0]
[{"$f":"入力補助!M14","v":"B8社"},0,0,0,0,0,0,0,0]
[{"$f":"入力補助!M15","v":"B9社"},0,0,0,0,0,0,0,0]
[{"$f":"入力補助!M16","v":"B10社"},0,0,0,0,0,0,0,0]
[{"$f":"入力補助!M17","v":"B11社"},0,0,0,0,0,0,0,0]
[{"$f":"入力補助!M18","v":"B12社"},0,0,0,0,0,0,0,0]
[{"$f":"入力補助!M19","v":"B13社"},0,0,0,0,0,0,0,0]
[{"$f":"入力補助!M20","v":"B14社"},0,0,0,0,0,0,0,0]
[{"$f":"入力補助!M21","v":"B15社"},0,0,0,0,0,0,0,0]
[{"$f":"入力補助!M22","v":"B16社"},0,0,0,0,0,0,0,0]
[{"$f":"入力補助!M23","v":0},0,0,0,0,0,0,0,0]
[{"$f":"入力補助!M24","v":0},0,0,0,0,0,0,0,0]
[{"$f":"入力補助!M25","v":0},0,0,0,0,0,0,0,0]
[{"$f":"入力補助!M26","v":0},0,0,0,0,0,0,0,0]
[{"$f":"入力補助!M27","v":0},0,0,0,0,0,0,0,0]
[{"$f":"入力補助!M28","v":0},0,0,0,0,0,0,0,0]
[{"$f":"入力補助!M29","v":0},0,0,0,0,0,0,0,0]
[{"$f":"入力補助!M30","v":0},0,0,0,0,0,0,0,0]
[{"$f":"入力補助!M31","v":0},0,0,0,0,0,0,0,0]
[{"$f":"入力補助!M32","v":0},0,0,0,0,0,0,0,0]
[{"$f":"入力補助!M33","v":0},0,0,0,0,0,0,0,0]
[{"$f":"入力補助!M34","v":0},0,0,0,0,0,0,0,0]
[{"$f":"入力補助!M35","v":0},{"$f":"VLOOKUP($A153,検索範囲C,年間入金,FALSE)","v":0},{"$f":"VLOOKUP($A153,検索範囲C,年間支払,FALSE)","v":0},{"$f":"VLOOKUP($A153,検索範囲C,先月入金,FALSE)","v":0},{"$f":"VLOOKUP($A153,検索範囲C,先月支払,FALSE)","v":0},{"$f":"VLOOKUP($A153,検索範囲C,当月入金,FALSE)","v":0},{"$f":"VLOOKUP($A153,検索範囲C,当月支払,FALSE)","v":0},{"$f":"VLOOKUP($A153,検索範囲C,来月入金,FALSE)","v":0},{"$f":"VLOOKUP($A153,検索範囲C,来月支払,FALSE)","v":0}]
[{"$f":"入力補助!M36","v":0},0,0,0,0,0,0,0,0]
[{"$f":"入力補助!M37","v":0},0,0,0,0,0,0,0,0]
[{"$f":"入力補助!M38","v":0},0,0,0,0,0,0,0,0]
[{"$f":"入力補助!M39","v":0},0,0,0,0,0,0,0,0]
[{"$f":"入力補助!M40","v":0},0,0,0,0,0,0,0,0]
[{"$f":"入力補助!M41","v":0},0,0,0,0,0,0,0,0]
[{"$f":"入力補助!M42","v":0},0,0,0,0,0,0,0,0]
[{"$f":"入力補助!M43","v":0},0,0,0,0,0,0,0,0]
[{"$f":"入力補助!M44","v":0},0,0,0,0,0,0,0,0]
[{"$f":"入力補助!M45","v":0},0,0,0,0,0,0,0,0]
[{"$f":"入力補助!M46","v":0},0,0,0,0,0,0,0,0]
[{"$f":"入力補助!M47","v":0},0,0,0,0,0,0,0,0]
[{"$f":"入力補助!M48","v":0},0,0,0,0,0,0,0,0]
[{"$f":"入力補助!M49","v":0},0,0,0,0,0,0,0,0]
[{"$f":"入力補助!M50","v":0},0,0,0,0,0,0,0,0]
[{"$f":"入力補助!M51","v":0},0,0,0,0,0,0,0,0]
[{"$f":"入力補助!M52","v":0},0,0,0,0,0,0,0,0]
[{"$f":"入力補助!M53","v":0},0,0,0,0,0,0,0,0]
[{"$f":"入力補助!M54","v":0},0,0,0,0,0,0,0,0]
[{"$f":"入力補助!M55","v":0},0,0,0,0,0,0,0,0]
[{"$f":"入力補助!M56","v":"その他"},0,0,0,0,0,0,0,0]
[{"$f":"入力補助!M57","v":"該当無"},10000,0,0,0,0,0,0,0]
["合計",{"$f":"SUM(B121:B175)","v":40500},35200,5000,1100,5000,2100,0,3100]

{"sheet":"大分類集計","index":2,"n_rows":23,"n_cols":27,"rows_kept":23,"cut":false,"hidden":false,"merged":[]}
["月別","年間合計",null,"１月",null,"２月",null,"３月",null,"４月",null,"５月",null,"６月",null,"７月",null,"８月",null,"９月",null,"１０月",null,"１１月",null,"１２月"]
["単位千円","入金","支払","入金","支払","入金","支払","入金","支払","入金","支払","入金","支払","入金","支払","入金","支払","入金","支払","入金","支払","入金","支払","入金","支払","入金","支払"]
["合計",{"$f":"D3+F3+H3+J3+L3+N3+P3+R3+T3+V3+X3+Z3","v":40500},{"$f":"E3+G3+I3+K3+M3+O3+Q3+S3+U3+W3+Y3+AA3","v":35200},{"$f":"SUMIF(勘定入力!$A:$A,1,勘定入力!$J:$J)","v":10000},{"$f":"SUMIF(勘定入力!$A:$A,1,勘定入力!$K:$K)","v":1100},{"$f":"SUMIF(勘定入力!$A:$A,2,勘定入力!$J:$J)","v":5000},{"$f":"SUMIF(勘定入力!$A:$A,2,勘定入力!$K:$K)","v":1100},{"$f":"SUMIF(勘定入力!$A:$A,3,勘定入力!$J:$J)","v":5000},{"$f":"SUMIF(勘定入力!$A:$A,3,勘定入力!$K:$K)","v":2100},{"$f":"SUMIF(勘定入力!$A:$A,4,勘定入力!$J:$J)","v":0},{"$f":"SUMIF(勘定入力!$A:$A,4,勘定入力!$K:$K)","v":3100},{"$f":"SUMIF(勘定入力!$A:$A,5,勘定入力!$J:$J)","v":0},{"$f":"SUMIF(勘定入力!$A:$A,5,勘定入力!$K:$K)","v":4100},{"$f":"SUMIF(勘定入力!$A:$A,6,勘定入力!$J:$J)","v":200},{"$f":"SUMIF(勘定入力!$A:$A,6,勘定入力!$K:$K)","v":3100},{"$f":"SUMIF(勘定入力!$A:$A,7,勘定入力!$J:$J)","v":0},{"$f":"SUMIF(勘定入力!$A:$A,7,勘定入力!$K:$K)","v":6100},{"$f":"SUMIF(勘定入力!$A:$A,8,勘定入力!$J:$J)","v":5000},{"$f":"SUMIF(勘定入力!$A:$A,8,勘定入力!$K:$K)","v":4100},{"$f":"SUMIF(勘定入力!$A:$A,9,勘定入力!$J:$J)","v":5300},{"$f":"SUMIF(勘定入力!$A:$A,9,勘定入力!$K:$K)","v":4100},{"$f":"SUMIF(勘定入力!$A:$A,10,勘定入力!$J:$J)","v":0},{"$f":"SUMIF(勘定入力!$A:$A,10,勘定入力!$K:$K)","v":4100},{"$f":"SUMIF(勘定入力!$A:$A,11,勘定入力!$J:$J)","v":5000},{"$f":"SUMIF(勘定入力!$A:$A,11,勘定入力!$K:$K)","v":1100},{"$f":"SUMIF(勘定入力!$A:$A,12,勘定入力!$J:$J)","v":5000},{"$f":"SUMIF(勘定入力!$A:$A,12,勘定入力!$K:$K)","v":1100}]
[]
[{"$f":"入力補助!E1","v":"大分類選択"},"年間合計",null,"１月",null,"２月",null,"３月",null,"４月",null,"５月",null,"６月",null,"７月",null,"８月",null,"９月",null,"１０月",null,"１１月",null,"１２月"]
[{"$f":"IF(B3=B23,\"\",\"入力確認要\")","v":""},"入金","支払","入金","支払","入金","支払","入金","支払","入金","支払","入金","支払","入金","支払","入金","支払","入金","支払","入金","支払","入金","支払","入金","支払","入金","支払"]
[{"$f":"入力補助!G3","v":"○○販売"},{"$f":"D7+F7+H7+J7+L7+N7+P7+R7+T7+V7+X7+Z7","v":30000},{"$f":"E7+G7+I7+K7+M7+O7+Q7+S7+U7+W7+Y7+AA7","v":0},{"$f":"IF($A7=\"\",0,SUMIF(勘定入力!$G:$G,1&$A7,勘定入力!$J:$J))","v":0},{"$f":"IF($A7=\"\",0,SUMIF(勘定入力!$G:$G,1&$A7,勘定入力!$K:$K))","v":0},{"$f":"IF($A7=\"\",0,SUMIF(勘定入力!$G:$G,2&$A7,勘定入力!$J:$J))","v":5000},{"$f":"IF($A7=\"\",0,SUMIF(勘定入力!$G:$G,2&$A7,勘定入力!$K:$K))","v":0},{"$f":"IF($A7=\"\",0,SUMIF(勘定入力!$G:$G,3&$A7,勘定入力!$J:$J))","v":5000},{"$f":"IF($A7=\"\",0,SUMIF(勘定入力!$G:$G,3&$A7,勘定入力!$K:$K))","v":0},{"$f":"IF($A7=\"\",0,SUMIF(勘定入力!$G:$G,4&$A7,勘定入力!$J:$J))","v":0},{"$f":"IF($A7=\"\",0,SUMIF(勘定入力!$G:$G,4&$A7,勘定入力!$K:$K))","v":0},{"$f":"IF($A7=\"\",0,SUMIF(勘定入力!$G:$G,5&$A7,勘定入力!$J:$J))","v":0},{"$f":"IF($A7=\"\",0,SUMIF(勘定入力!$G:$G,5&$A7,勘定入力!$K:$K))","v":0},{"$f":"IF($A7=\"\",0,SUMIF(勘定入力!$G:$G,6&$A7,勘定入力!$J:$J))","v":0},{"$f":"IF($A7=\"\",0,SUMIF(勘定入力!$G:$G,6&$A7,勘定入力!$K:$K))","v":0},{"$f":"IF($A7=\"\",0,SUMIF(勘定入力!$G:$G,7&$A7,勘定入力!$J:$J))","v":0},{"$f":"IF($A7=\"\",0,SUMIF(勘定入力!$G:$G,7&$A7,勘定入力!$K:$K))","v":0},{"$f":"IF($A7=\"\",0,SUMIF(勘定入力!$G:$G,8&$A7,勘定入力!$J:$J))","v":5000},{"$f":"IF($A7=\"\",0,SUMIF(勘定入力!$G:$G,8&$A7,勘定入力!$K:$K))","v":0},{"$f":"IF($A7=\"\",0,SUMIF(勘定入力!$G:$G,9&$A7,勘定入力!$J:$J))","v":5000},{"$f":"IF($A7=\"\",0,SUMIF(勘定入力!$G:$G,9&$A7,勘定入力!$K:$K))","v":0},{"$f":"IF($A7=\"\",0,SUMIF(勘定入力!$G:$G,10&$A7,勘定入力!$J:$J))","v":0},{"$f":"IF($A7=\"\",0,SUMIF(勘定入力!$G:$G,10&$A7,勘定入力!$K:$K))","v":0},{"$f":"IF($A7=\"\",0,SUMIF(勘定入力!$G:$G,11&$A7,勘定入力!$J:$J))","v":5000},{"$f":"IF($A7=\"\",0,SUMIF(勘定入力!$G:$G,11&$A7,勘定入力!$K:$K))","v":0},{"$f":"IF($A7=\"\",0,SUMIF(勘定入力!$G:$G,12&$A7,勘定入力!$J:$J))","v":5000},{"$f":"IF($A7=\"\",0,SUMIF(勘定入力!$G:$G,12&$A7,勘定入力!$K:$K))","v":0}]
[{"$f":"入力補助!G4","v":"△△販売"},{"$f":"D8+F8+H8+J8+L8+N8+P8+R8+T8+V8+X8+Z8","v":500},0,{"$f":"IF($A8=\"\",0,SUMIF(勘定入力!$G:$G,1&$A8,勘定入力!$J:$J))","v":0},{"$f":"IF($A8=\"\",0,SUMIF(勘定入力!$G:$G,1&$A8,勘定入力!$K:$K))","v":0},{"$f":"IF($A8=\"\",0,SUMIF(勘定入力!$G:$G,2&$A8,勘定入力!$J:$J))","v":0},{"$f":"IF($A8=\"\",0,SUMIF(勘定入力!$G:$G,2&$A8,勘定入力!$K:$K))","v":0},{"$f":"IF($A8=\"\",0,SUMIF(勘定入力!$G:$G,3&$A8,勘定入力!$J:$J))","v":0},{"$f":"IF($A8=\"\",0,SUMIF(勘定入力!$G:$G,3&$A8,勘定入力!$K:$K))","v":0},{"$f":"IF($A8=\"\",0,SUMIF(勘定入力!$G:$G,4&$A8,勘定入力!$J:$J))","v":0},{"$f":"IF($A8=\"\",0,SUMIF(勘定入力!$G:$G,4&$A8,勘定入力!$K:$K))","v":0},{"$f":"IF($A8=\"\",0,SUMIF(勘定入力!$G:$G,5&$A8,勘定入力!$J:$J))","v":0},{"$f":"IF($A8=\"\",0,SUMIF(勘定入力!$G:$G,5&$A8,勘定入力!$K:$K))","v":0},{"$f":"IF($A8=\"\",0,SUMIF(勘定入力!$G:$G,6&$A8,勘定入力!$J:$J))","v":200},{"$f":"IF($A8=\"\",0,SUMIF(勘定入力!$G:$G,6&$A8,勘定入力!$K:$K))","v":0},{"$f":"IF($A8=\"\",0,SUMIF(勘定入力!$G:$G,7&$A8,勘定入力!$J:$J))","v":0},{"$f":"IF($A8=\"\",0,SUMIF(勘定入力!$G:$G,7&$A8,勘定入力!$K:$K))","v":0},{"$f":"IF($A8=\"\",0,SUMIF(勘定入力!$G:$G,8&$A8,勘定入力!$J:$J))","v":0},{"$f":"IF($A8=\"\",0,SUMIF(勘定入力!$G:$G,8&$A8,勘定入力!$K:$K))","v":0},{"$f":"IF($A8=\"\",0,SUMIF(勘定入力!$G:$G,9&$A8,勘定入力!$J:$J))","v":300},{"$f":"IF($A8=\"\",0,SUMIF(勘定入力!$G:$G,9&$A8,勘定入力!$K:$K))","v":0},{"$f":"IF($A8=\"\",0,SUMIF(勘定入力!$G:$G,10&$A8,勘定入力!$J:$J))","v":0},{"$f":"IF($A8=\"\",0,SUMIF(勘定入力!$G:$G,10&$A8,勘定入力!$K:$K))","v":0},{"$f":"IF($A8=\"\",0,SUMIF(勘定入力!$G:$G,11&$A8,勘定入力!$J:$J))","v":0},{"$f":"IF($A8=\"\",0,SUMIF(勘定入力!$G:$G,11&$A8,勘定入力!$K:$K))","v":0},{"$f":"IF($A8=\"\",0,SUMIF(勘定入力!$G:$G,12&$A8,勘定入力!$J:$J))","v":0},{"$f":"IF($A8=\"\",0,SUMIF(勘定入力!$G:$G,12&$A8,勘定入力!$K:$K))","v":0}]
[{"$f":"入力補助!G5","v":"○○工事"},0,22000,{"$f":"IF($A9=\"\",0,SUMIF(勘定入力!$G:$G,1&$A9,勘定入力!$J:$J))","v":0},{"$f":"IF($A9=\"\",0,SUMIF(勘定入力!$G:$G,1&$A9,勘定入力!$K:$K))","v":0},{"$f":"IF($A9=\"\",0,SUMIF(勘定入力!$G:$G,2&$A9,勘定入力!$J:$J))","v":0},{"$f":"IF($A9=\"\",0,SUMIF(勘定入力!$G:$G,2&$A9,勘定入力!$K:$K))","v":0},{"$f":"IF($A9=\"\",0,SUMIF(勘定入力!$G:$G,3&$A9,勘定入力!$J:$J))","v":0},{"$f":"IF($A9=\"\",0,SUMIF(勘定入力!$G:$G,3&$A9,勘定入力!$K:$K))","v":1000},{"$f":"IF($A9=\"\",0,SUMIF(勘定入力!$G:$G,4&$A9,勘定入力!$J:$J))","v":0},{"$f":"IF($A9=\"\",0,SUMIF(勘定入力!$G:$G,4&$A9,勘定入力!$K:$K))","v":2000},{"$f":"IF($A9=\"\",0,SUMIF(勘定入力!$G:$G,5&$A9,勘定入力!$J:$J))","v":0},{"$f":"IF($A9=\"\",0,SUMIF(勘定入力!$G:$G,5&$A9,勘定入力!$K:$K))","v":3000},{"$f":"IF($A9=\"\",0,SUMIF(勘定入力!$G:$G,6&$A9,勘定入力!$J:$J))","v":0},{"$f":"IF($A9=\"\",0,SUMIF(勘定入力!$G:$G,6&$A9,勘定入力!$K:$K))","v":2000},{"$f":"IF($A9=\"\",0,SUMIF(勘定入力!$G:$G,7&$A9,勘定入力!$J:$J))","v":0},{"$f":"IF($A9=\"\",0,SUMIF(勘定入力!$G:$G,7&$A9,勘定入力!$K:$K))","v":5000},{"$f":"IF($A9=\"\",0,SUMIF(勘定入力!$G:$G,8&$A9,勘定入力!$J:$J))","v":0},{"$f":"IF($A9=\"\",0,SUMIF(勘定入力!$G:$G,8&$A9,勘定入力!$K:$K))","v":3000},{"$f":"IF($A9=\"\",0,SUMIF(勘定入力!$G:$G,9&$A9,勘定入力!$J:$J))","v":0},{"$f":"IF($A9=\"\",0,SUMIF(勘定入力!$G:$G,9&$A9,勘定入力!$K:$K))","v":3000},{"$f":"IF($A9=\"\",0,SUMIF(勘定入力!$G:$G,10&$A9,勘定入力!$J:$J))","v":0},{"$f":"IF($A9=\"\",0,SUMIF(勘定入力!$G:$G,10&$A9,勘定入力!$K:$K))","v":3000},{"$f":"IF($A9=\"\",0,SUMIF(勘定入力!$G:$G,11&$A9,勘定入力!$J:$J))","v":0},{"$f":"IF($A9=\"\",0,SUMIF(勘定入力!$G:$G,11&$A9,勘定入力!$K:$K))","v":0},{"$f":"IF($A9=\"\",0,SUMIF(勘定入力!$G:$G,12&$A9,勘定入力!$J:$J))","v":0},{"$f":"IF($A9=\"\",0,SUMIF(勘定入力!$G:$G,12&$A9,勘定入力!$K:$K))","v":0}]
[{"$f":"入力補助!G6","v":"○○諸費用"},0,0,{"$f":"IF($A10=\"\",0,SUMIF(勘定入力!$G:$G,1&$A10,勘定入力!$J:$J))","v":0},{"$f":"IF($A10=\"\",0,SUMIF(勘定入力!$G:$G,1&$A10,勘定入力!$K:$K))","v":0},{"$f":"IF($A10=\"\",0,SUMIF(勘定入力!$G:$G,2&$A10,勘定入力!$J:$J))","v":0},{"$f":"IF($A10=\"\",0,SUMIF(勘定入力!$G:$G,2&$A10,勘定入力!$K:$K))","v":0},{"$f":"IF($A10=\"\",0,SUMIF(勘定入力!$G:$G,3&$A10,勘定入力!$J:$J))","v":0},{"$f":"IF($A10=\"\",0,SUMIF(勘定入力!$G:$G,3&$A10,勘定入力!$K:$K))","v":0},{"$f":"IF($A10=\"\",0,SUMIF(勘定入力!$G:$G,4&$A10,勘定入力!$J:$J))","v":0},{"$f":"IF($A10=\"\",0,SUMIF(勘定入力!$G:$G,4&$A10,勘定入力!$K:$K))","v":0},{"$f":"IF($A10=\"\",0,SUMIF(勘定入力!$G:$G,5&$A10,勘定入力!$J:$J))","v":0},{"$f":"IF($A10=\"\",0,SUMIF(勘定入力!$G:$G,5&$A10,勘定入力!$K:$K))","v":0},{"$f":"IF($A10=\"\",0,SUMIF(勘定入力!$G:$G,6&$A10,勘定入力!$J:$J))","v":0},{"$f":"IF($A10=\"\",0,SUMIF(勘定入力!$G:$G,6&$A10,勘定入力!$K:$K))","v":0},{"$f":"IF($A10=\"\",0,SUMIF(勘定入力!$G:$G,7&$A10,勘定入力!$J:$J))","v":0},{"$f":"IF($A10=\"\",0,SUMIF(勘定入力!$G:$G,7&$A10,勘定入力!$K:$K))","v":0},{"$f":"IF($A10=\"\",0,SUMIF(勘定入力!$G:$G,8&$A10,勘定入力!$J:$J))","v":0},{"$f":"IF($A10=\"\",0,SUMIF(勘定入力!$G:$G,8&$A10,勘定入力!$K:$K))","v":0},{"$f":"IF($A10=\"\",0,SUMIF(勘定入力!$G:$G,9&$A10,勘定入力!$J:$J))","v":0},{"$f":"IF($A10=\"\",0,SUMIF(勘定入力!$G:$G,9&$A10,勘定入力!$K:$K))","v":0},{"$f":"IF($A10=\"\",0,SUMIF(勘定入力!$G:$G,10&$A10,勘定入力!$J:$J))","v":0},{"$f":"IF($A10=\"\",0,SUMIF(勘定入力!$G:$G,10&$A10,勘定入力!$K:$K))","v":0},{"$f":"IF($A10=\"\",0,SUMIF(勘定入力!$G:$G,11&$A10,勘定入力!$J:$J))","v":0},{"$f":"IF($A10=\"\",0,SUMIF(勘定入力!$G:$G,11&$A10,勘定入力!$K:$K))","v":0},{"$f":"IF($A10=\"\",0,SUMIF(勘定入力!$G:$G,12&$A10,勘定入力!$J:$J))","v":0},{"$f":"IF($A10=\"\",0,SUMIF(勘定入力!$G:$G,12&$A10,勘定入力!$K:$K))","v":0}]
[{"$f":"入力補助!G7","v":0},0,0,{"$f":"IF($A11=\"\",0,SUMIF(勘定入力!$G:$G,1&$A11,勘定入力!$J:$J))","v":0},{"$f":"IF($A11=\"\",0,SUMIF(勘定入力!$G:$G,1&$A11,勘定入力!$K:$K))","v":0},{"$f":"IF($A11=\"\",0,SUMIF(勘定入力!$G:$G,2&$A11,勘定入力!$J:$J))","v":0},{"$f":"IF($A11=\"\",0,SUMIF(勘定入力!$G:$G,2&$A11,勘定入力!$K:$K))","v":0},{"$f":"IF($A11=\"\",0,SUMIF(勘定入力!$G:$G,3&$A11,勘定入力!$J:$J))","v":0},{"$f":"IF($A11=\"\",0,SUMIF(勘定入力!$G:$G,3&$A11,勘定入力!$K:$K))","v":0},{"$f":"IF($A11=\"\",0,SUMIF(勘定入力!$G:$G,4&$A11,勘定入力!$J:$J))","v":0},{"$f":"IF($A11=\"\",0,SUMIF(勘定入力!$G:$G,4&$A11,勘定入力!$K:$K))","v":0},{"$f":"IF($A11=\"\",0,SUMIF(勘定入力!$G:$G,5&$A11,勘定入力!$J:$J))","v":0},{"$f":"IF($A11=\"\",0,SUMIF(勘定入力!$G:$G,5&$A11,勘定入力!$K:$K))","v":0},{"$f":"IF($A11=\"\",0,SUMIF(勘定入力!$G:$G,6&$A11,勘定入力!$J:$J))","v":0},{"$f":"IF($A11=\"\",0,SUMIF(勘定入力!$G:$G,6&$A11,勘定入力!$K:$K))","v":0},{"$f":"IF($A11=\"\",0,SUMIF(勘定入力!$G:$G,7&$A11,勘定入力!$J:$J))","v":0},{"$f":"IF($A11=\"\",0,SUMIF(勘定入力!$G:$G,7&$A11,勘定入力!$K:$K))","v":0},{"$f":"IF($A11=\"\",0,SUMIF(勘定入力!$G:$G,8&$A11,勘定入力!$J:$J))","v":0},{"$f":"IF($A11=\"\",0,SUMIF(勘定入力!$G:$G,8&$A11,勘定入力!$K:$K))","v":0},{"$f":"IF($A11=\"\",0,SUMIF(勘定入力!$G:$G,9&$A11,勘定入力!$J:$J))","v":0},{"$f":"IF($A11=\"\",0,SUMIF(勘定入力!$G:$G,9&$A11,勘定入力!$K:$K))","v":0},{"$f":"IF($A11=\"\",0,SUMIF(勘定入力!$G:$G,10&$A11,勘定入力!$J:$J))","v":0},{"$f":"IF($A11=\"\",0,SUMIF(勘定入力!$G:$G,10&$A11,勘定入力!$K:$K))","v":0},{"$f":"IF($A11=\"\",0,SUMIF(勘定入力!$G:$G,11&$A11,勘定入力!$J:$J))","v":0},{"$f":"IF($A11=\"\",0,SUMIF(勘定入力!$G:$G,11&$A11,勘定入力!$K:$K))","v":0},{"$f":"IF($A11=\"\",0,SUMIF(勘定入力!$G:$G,12&$A11,勘定入力!$J:$J))","v":0},{"$f":"IF($A11=\"\",0,SUMIF(勘定入力!$G:$G,12&$A11,勘定入力!$K:$K))","v":0}]
[{"$f":"入力補助!G8","v":"固定費"},10000,13200,{"$f":"IF($A12=\"\",0,SUMIF(勘定入力!$G:$G,1&$A12,勘定入力!$J:$J))","v":10000},{"$f":"IF($A12=\"\",0,SUMIF(勘定入力!$G:$G,1&$A12,勘定入力!$K:$K))","v":1100},{"$f":"IF($A12=\"\",0,SUMIF(勘定入力!$G:$G,2&$A12,勘定入力!$J:$J))","v":0},{"$f":"IF($A12=\"\",0,SUMIF(勘定入力!$G:$G,2&$A12,勘定入力!$K:$K))","v":1100},{"$f":"IF($A12=\"\",0,SUMIF(勘定入力!$G:$G,3&$A12,勘定入力!$J:$J))","v":0},{"$f":"IF($A12=\"\",0,SUMIF(勘定入力!$G:$G,3&$A12,勘定入力!$K:$K))","v":1100},{"$f":"IF($A12=\"\",0,SUMIF(勘定入力!$G:$G,4&$A12,勘定入力!$J:$J))","v":0},{"$f":"IF($A12=\"\",0,SUMIF(勘定入力!$G:$G,4&$A12,勘定入力!$K:$K))","v":1100},{"$f":"IF($A12=\"\",0,SUMIF(勘定入力!$G:$G,5&$A12,勘定入力!$J:$J))","v":0},{"$f":"IF($A12=\"\",0,SUMIF(勘定入力!$G:$G,5&$A12,勘定入力!$K:$K))","v":1100},{"$f":"IF($A12=\"\",0,SUMIF(勘定入力!$G:$G,6&$A12,勘定入力!$J:$J))","v":0},{"$f":"IF($A12=\"\",0,SUMIF(勘定入力!$G:$G,6&$A12,勘定入力!$K:$K))","v":1100},{"$f":"IF($A12=\"\",0,SUMIF(勘定入力!$G:$G,7&$A12,勘定入力!$J:$J))","v":0},{"$f":"IF($A12=\"\",0,SUMIF(勘定入力!$G:$G,7&$A12,勘定入力!$K:$K))","v":1100},{"$f":"IF($A12=\"\",0,SUMIF(勘定入力!$G:$G,8&$A12,勘定入力!$J:$J))","v":0},{"$f":"IF($A12=\"\",0,SUMIF(勘定入力!$G:$G,8&$A12,勘定入力!$K:$K))","v":1100},{"$f":"IF($A12=\"\",0,SUMIF(勘定入力!$G:$G,9&$A12,勘定入力!$J:$J))","v":0},{"$f":"IF($A12=\"\",0,SUMIF(勘定入力!$G:$G,9&$A12,勘定入力!$K:$K))","v":1100},{"$f":"IF($A12=\"\",0,SUMIF(勘定入力!$G:$G,10&$A12,勘定入力!$J:$J))","v":0},{"$f":"IF($A12=\"\",0,SUMIF(勘定入力!$G:$G,10&$A12,勘定入力!$K:$K))","v":1100},{"$f":"IF($A12=\"\",0,SUMIF(勘定入力!$G:$G,11&$A12,勘定入力!$J:$J))","v":0},{"$f":"IF($A12=\"\",0,SUMIF(勘定入力!$G:$G,11&$A12,勘定入力!$K:$K))","v":1100},{"$f":"IF($A12=\"\",0,SUMIF(勘定入力!$G:$G,12&$A12,勘定入力!$J:$J))","v":0},{"$f":"IF($A12=\"\",0,SUMIF(勘定入力!$G:$G,12&$A12,勘定入力!$K:$K))","v":1100}]
[{"$f":"入力補助!G9","v":0},0,0,{"$f":"IF($A13=\"\",0,SUMIF(勘定入力!$G:$G,1&$A13,勘定入力!$J:$J))","v":0},{"$f":"IF($A13=\"\",0,SUMIF(勘定入力!$G:$G,1&$A13,勘定入力!$K:$K))","v":0},{"$f":"IF($A13=\"\",0,SUMIF(勘定入力!$G:$G,2&$A13,勘定入力!$J:$J))","v":0},{"$f":"IF($A13=\"\",0,SUMIF(勘定入力!$G:$G,2&$A13,勘定入力!$K:$K))","v":0},{"$f":"IF($A13=\"\",0,SUMIF(勘定入力!$G:$G,3&$A13,勘定入力!$J:$J))","v":0},{"$f":"IF($A13=\"\",0,SUMIF(勘定入力!$G:$G,3&$A13,勘定入力!$K:$K))","v":0},{"$f":"IF($A13=\"\",0,SUMIF(勘定入力!$G:$G,4&$A13,勘定入力!$J:$J))","v":0},{"$f":"IF($A13=\"\",0,SUMIF(勘定入力!$G:$G,4&$A13,勘定入力!$K:$K))","v":0},{"$f":"IF($A13=\"\",0,SUMIF(勘定入力!$G:$G,5&$A13,勘定入力!$J:$J))","v":0},{"$f":"IF($A13=\"\",0,SUMIF(勘定入力!$G:$G,5&$A13,勘定入力!$K:$K))","v":0},{"$f":"IF($A13=\"\",0,SUMIF(勘定入力!$G:$G,6&$A13,勘定入力!$J:$J))","v":0},{"$f":"IF($A13=\"\",0,SUMIF(勘定入力!$G:$G,6&$A13,勘定入力!$K:$K))","v":0},{"$f":"IF($A13=\"\",0,SUMIF(勘定入力!$G:$G,7&$A13,勘定入力!$J:$J))","v":0},{"$f":"IF($A13=\"\",0,SUMIF(勘定入力!$G:$G,7&$A13,勘定入力!$K:$K))","v":0},{"$f":"IF($A13=\"\",0,SUMIF(勘定入力!$G:$G,8&$A13,勘定入力!$J:$J))","v":0},{"$f":"IF($A13=\"\",0,SUMIF(勘定入力!$G:$G,8&$A13,勘定入力!$K:$K))","v":0},{"$f":"IF($A13=\"\",0,SUMIF(勘定入力!$G:$G,9&$A13,勘定入力!$J:$J))","v":0},{"$f":"IF($A13=\"\",0,SUMIF(勘定入力!$G:$G,9&$A13,勘定入力!$K:$K))","v":0},{"$f":"IF($A13=\"\",0,SUMIF(勘定入力!$G:$G,10&$A13,勘定入力!$J:$J))","v":0},{"$f":"IF($A13=\"\",0,SUMIF(勘定入力!$G:$G,10&$A13,勘定入力!$K:$K))","v":0},{"$f":"IF($A13=\"\",0,SUMIF(勘定入力!$G:$G,11&$A13,勘定入力!$J:$J))","v":0},{"$f":"IF($A13=\"\",0,SUMIF(勘定入力!$G:$G,11&$A13,勘定入力!$K:$K))","v":0},{"$f":"IF($A13=\"\",0,SUMIF(勘定入力!$G:$G,12&$A13,勘定入力!$J:$J))","v":0},{"$f":"IF($A13=\"\",0,SUMIF(勘定入力!$G:$G,12&$A13,勘定入力!$K:$K))","v":0}]
[{"$f":"入力補助!G10","v":0},0,0,{"$f":"IF($A14=\"\",0,SUMIF(勘定入力!$G:$G,1&$A14,勘定入力!$J:$J))","v":0},{"$f":"IF($A14=\"\",0,SUMIF(勘定入力!$G:$G,1&$A14,勘定入力!$K:$K))","v":0},{"$f":"IF($A14=\"\",0,SUMIF(勘定入力!$G:$G,2&$A14,勘定入力!$J:$J))","v":0},{"$f":"IF($A14=\"\",0,SUMIF(勘定入力!$G:$G,2&$A14,勘定入力!$K:$K))","v":0},{"$f":"IF($A14=\"\",0,SUMIF(勘定入力!$G:$G,3&$A14,勘定入力!$J:$J))","v":0},{"$f":"IF($A14=\"\",0,SUMIF(勘定入力!$G:$G,3&$A14,勘定入力!$K:$K))","v":0},{"$f":"IF($A14=\"\",0,SUMIF(勘定入力!$G:$G,4&$A14,勘定入力!$J:$J))","v":0},{"$f":"IF($A14=\"\",0,SUMIF(勘定入力!$G:$G,4&$A14,勘定入力!$K:$K))","v":0},{"$f":"IF($A14=\"\",0,SUMIF(勘定入力!$G:$G,5&$A14,勘定入力!$J:$J))","v":0},{"$f":"IF($A14=\"\",0,SUMIF(勘定入力!$G:$G,5&$A14,勘定入力!$K:$K))","v":0},{"$f":"IF($A14=\"\",0,SUMIF(勘定入力!$G:$G,6&$A14,勘定入力!$J:$J))","v":0},{"$f":"IF($A14=\"\",0,SUMIF(勘定入力!$G:$G,6&$A14,勘定入力!$K:$K))","v":0},{"$f":"IF($A14=\"\",0,SUMIF(勘定入力!$G:$G,7&$A14,勘定入力!$J:$J))","v":0},{"$f":"IF($A14=\"\",0,SUMIF(勘定入力!$G:$G,7&$A14,勘定入力!$K:$K))","v":0},{"$f":"IF($A14=\"\",0,SUMIF(勘定入力!$G:$G,8&$A14,勘定入力!$J:$J))","v":0},{"$f":"IF($A14=\"\",0,SUMIF(勘定入力!$G:$G,8&$A14,勘定入力!$K:$K))","v":0},{"$f":"IF($A14=\"\",0,SUMIF(勘定入力!$G:$G,9&$A14,勘定入力!$J:$J))","v":0},{"$f":"IF($A14=\"\",0,SUMIF(勘定入力!$G:$G,9&$A14,勘定入力!$K:$K))","v":0},{"$f":"IF($A14=\"\",0,SUMIF(勘定入力!$G:$G,10&$A14,勘定入力!$J:$J))","v":0},{"$f":"IF($A14=\"\",0,SUMIF(勘定入力!$G:$G,10&$A14,勘定入力!$K:$K))","v":0},{"$f":"IF($A14=\"\",0,SUMIF(勘定入力!$G:$G,11&$A14,勘定入力!$J:$J))","v":0},{"$f":"IF($A14=\"\",0,SUMIF(勘定入力!$G:$G,11&$A14,勘定入力!$K:$K))","v":0},{"$f":"IF($A14=\"\",0,SUMIF(勘定入力!$G:$G,12&$A14,勘定入力!$J:$J))","v":0},{"$f":"IF($A14=\"\",0,SUMIF(勘定入力!$G:$G,12&$A14,勘定入力!$K:$K))","v":0}]
[{"$f":"入力補助!G11","v":0},0,0,{"$f":"IF($A15=\"\",0,SUMIF(勘定入力!$G:$G,1&$A15,勘定入力!$J:$J))","v":0},{"$f":"IF($A15=\"\",0,SUMIF(勘定入力!$G:$G,1&$A15,勘定入力!$K:$K))","v":0},{"$f":"IF($A15=\"\",0,SUMIF(勘定入力!$G:$G,2&$A15,勘定入力!$J:$J))","v":0},{"$f":"IF($A15=\"\",0,SUMIF(勘定入力!$G:$G,2&$A15,勘定入力!$K:$K))","v":0},{"$f":"IF($A15=\"\",0,SUMIF(勘定入力!$G:$G,3&$A15,勘定入力!$J:$J))","v":0},{"$f":"IF($A15=\"\",0,SUMIF(勘定入力!$G:$G,3&$A15,勘定入力!$K:$K))","v":0},{"$f":"IF($A15=\"\",0,SUMIF(勘定入力!$G:$G,4&$A15,勘定入力!$J:$J))","v":0},{"$f":"IF($A15=\"\",0,SUMIF(勘定入力!$G:$G,4&$A15,勘定入力!$K:$K))","v":0},{"$f":"IF($A15=\"\",0,SUMIF(勘定入力!$G:$G,5&$A15,勘定入力!$J:$J))","v":0},{"$f":"IF($A15=\"\",0,SUMIF(勘定入力!$G:$G,5&$A15,勘定入力!$K:$K))","v":0},{"$f":"IF($A15=\"\",0,SUMIF(勘定入力!$G:$G,6&$A15,勘定入力!$J:$J))","v":0},{"$f":"IF($A15=\"\",0,SUMIF(勘定入力!$G:$G,6&$A15,勘定入力!$K:$K))","v":0},{"$f":"IF($A15=\"\",0,SUMIF(勘定入力!$G:$G,7&$A15,勘定入力!$J:$J))","v":0},{"$f":"IF($A15=\"\",0,SUMIF(勘定入力!$G:$G,7&$A15,勘定入力!$K:$K))","v":0},{"$f":"IF($A15=\"\",0,SUMIF(勘定入力!$G:$G,8&$A15,勘定入力!$J:$J))","v":0},{"$f":"IF($A15=\"\",0,SUMIF(勘定入力!$G:$G,8&$A15,勘定入力!$K:$K))","v":0},{"$f":"IF($A15=\"\",0,SUMIF(勘定入力!$G:$G,9&$A15,勘定入力!$J:$J))","v":0},{"$f":"IF($A15=\"\",0,SUMIF(勘定入力!$G:$G,9&$A15,勘定入力!$K:$K))","v":0},{"$f":"IF($A15=\"\",0,SUMIF(勘定入力!$G:$G,10&$A15,勘定入力!$J:$J))","v":0},{"$f":"IF($A15=\"\",0,SUMIF(勘定入力!$G:$G,10&$A15,勘定入力!$K:$K))","v":0},{"$f":"IF($A15=\"\",0,SUMIF(勘定入力!$G:$G,11&$A15,勘定入力!$J:$J))","v":0},{"$f":"IF($A15=\"\",0,SUMIF(勘定入力!$G:$G,11&$A15,勘定入力!$K:$K))","v":0},{"$f":"IF($A15=\"\",0,SUMIF(勘定入力!$G:$G,12&$A15,勘定入力!$J:$J))","v":0},{"$f":"IF($A15=\"\",0,SUMIF(勘定入力!$G:$G,12&$A15,勘定入力!$K:$K))","v":0}]
[{"$f":"入力補助!G12","v":0},0,0,{"$f":"IF($A16=\"\",0,SUMIF(勘定入力!$G:$G,1&$A16,勘定入力!$J:$J))","v":0},{"$f":"IF($A16=\"\",0,SUMIF(勘定入力!$G:$G,1&$A16,勘定入力!$K:$K))","v":0},{"$f":"IF($A16=\"\",0,SUMIF(勘定入力!$G:$G,2&$A16,勘定入力!$J:$J))","v":0},{"$f":"IF($A16=\"\",0,SUMIF(勘定入力!$G:$G,2&$A16,勘定入力!$K:$K))","v":0},{"$f":"IF($A16=\"\",0,SUMIF(勘定入力!$G:$G,3&$A16,勘定入力!$J:$J))","v":0},{"$f":"IF($A16=\"\",0,SUMIF(勘定入力!$G:$G,3&$A16,勘定入力!$K:$K))","v":0},{"$f":"IF($A16=\"\",0,SUMIF(勘定入力!$G:$G,4&$A16,勘定入力!$J:$J))","v":0},{"$f":"IF($A16=\"\",0,SUMIF(勘定入力!$G:$G,4&$A16,勘定入力!$K:$K))","v":0},{"$f":"IF($A16=\"\",0,SUMIF(勘定入力!$G:$G,5&$A16,勘定入力!$J:$J))","v":0},{"$f":"IF($A16=\"\",0,SUMIF(勘定入力!$G:$G,5&$A16,勘定入力!$K:$K))","v":0},{"$f":"IF($A16=\"\",0,SUMIF(勘定入力!$G:$G,6&$A16,勘定入力!$J:$J))","v":0},{"$f":"IF($A16=\"\",0,SUMIF(勘定入力!$G:$G,6&$A16,勘定入力!$K:$K))","v":0},{"$f":"IF($A16=\"\",0,SUMIF(勘定入力!$G:$G,7&$A16,勘定入力!$J:$J))","v":0},{"$f":"IF($A16=\"\",0,SUMIF(勘定入力!$G:$G,7&$A16,勘定入力!$K:$K))","v":0},{"$f":"IF($A16=\"\",0,SUMIF(勘定入力!$G:$G,8&$A16,勘定入力!$J:$J))","v":0},{"$f":"IF($A16=\"\",0,SUMIF(勘定入力!$G:$G,8&$A16,勘定入力!$K:$K))","v":0},{"$f":"IF($A16=\"\",0,SUMIF(勘定入力!$G:$G,9&$A16,勘定入力!$J:$J))","v":0},{"$f":"IF($A16=\"\",0,SUMIF(勘定入力!$G:$G,9&$A16,勘定入力!$K:$K))","v":0},{"$f":"IF($A16=\"\",0,SUMIF(勘定入力!$G:$G,10&$A16,勘定入力!$J:$J))","v":0},{"$f":"IF($A16=\"\",0,SUMIF(勘定入力!$G:$G,10&$A16,勘定入力!$K:$K))","v":0},{"$f":"IF($A16=\"\",0,SUMIF(勘定入力!$G:$G,11&$A16,勘定入力!$J:$J))","v":0},{"$f":"IF($A16=\"\",0,SUMIF(勘定入力!$G:$G,11&$A16,勘定入力!$K:$K))","v":0},{"$f":"IF($A16=\"\",0,SUMIF(勘定入力!$G:$G,12&$A16,勘定入力!$J:$J))","v":0},{"$f":"IF($A16=\"\",0,SUMIF(勘定入力!$G:$G,12&$A16,勘定入力!$K:$K))","v":0}]
[{"$f":"入力補助!G13","v":0},0,0,{"$f":"IF($A17=\"\",0,SUMIF(勘定入力!$G:$G,1&$A17,勘定入力!$J:$J))","v":0},{"$f":"IF($A17=\"\",0,SUMIF(勘定入力!$G:$G,1&$A17,勘定入力!$K:$K))","v":0},{"$f":"IF($A17=\"\",0,SUMIF(勘定入力!$G:$G,2&$A17,勘定入力!$J:$J))","v":0},{"$f":"IF($A17=\"\",0,SUMIF(勘定入力!$G:$G,2&$A17,勘定入力!$K:$K))","v":0},{"$f":"IF($A17=\"\",0,SUMIF(勘定入力!$G:$G,3&$A17,勘定入力!$J:$J))","v":0},{"$f":"IF($A17=\"\",0,SUMIF(勘定入力!$G:$G,3&$A17,勘定入力!$K:$K))","v":0},{"$f":"IF($A17=\"\",0,SUMIF(勘定入力!$G:$G,4&$A17,勘定入力!$J:$J))","v":0},{"$f":"IF($A17=\"\",0,SUMIF(勘定入力!$G:$G,4&$A17,勘定入力!$K:$K))","v":0},{"$f":"IF($A17=\"\",0,SUMIF(勘定入力!$G:$G,5&$A17,勘定入力!$J:$J))","v":0},{"$f":"IF($A17=\"\",0,SUMIF(勘定入力!$G:$G,5&$A17,勘定入力!$K:$K))","v":0},{"$f":"IF($A17=\"\",0,SUMIF(勘定入力!$G:$G,6&$A17,勘定入力!$J:$J))","v":0},{"$f":"IF($A17=\"\",0,SUMIF(勘定入力!$G:$G,6&$A17,勘定入力!$K:$K))","v":0},{"$f":"IF($A17=\"\",0,SUMIF(勘定入力!$G:$G,7&$A17,勘定入力!$J:$J))","v":0},{"$f":"IF($A17=\"\",0,SUMIF(勘定入力!$G:$G,7&$A17,勘定入力!$K:$K))","v":0},{"$f":"IF($A17=\"\",0,SUMIF(勘定入力!$G:$G,8&$A17,勘定入力!$J:$J))","v":0},{"$f":"IF($A17=\"\",0,SUMIF(勘定入力!$G:$G,8&$A17,勘定入力!$K:$K))","v":0},{"$f":"IF($A17=\"\",0,SUMIF(勘定入力!$G:$G,9&$A17,勘定入力!$J:$J))","v":0},{"$f":"IF($A17=\"\",0,SUMIF(勘定入力!$G:$G,9&$A17,勘定入力!$K:$K))","v":0},{"$f":"IF($A17=\"\",0,SUMIF(勘定入力!$G:$G,10&$A17,勘定入力!$J:$J))","v":0},{"$f":"IF($A17=\"\",0,SUMIF(勘定入力!$G:$G,10&$A17,勘定入力!$K:$K))","v":0},{"$f":"IF($A17=\"\",0,SUMIF(勘定入力!$G:$G,11&$A17,勘定入力!$J:$J))","v":0},{"$f":"IF($A17=\"\",0,SUMIF(勘定入力!$G:$G,11&$A17,勘定入力!$K:$K))","v":0},{"$f":"IF($A17=\"\",0,SUMIF(勘定入力!$G:$G,12&$A17,勘定入力!$J:$J))","v":0},{"$f":"IF($A17=\"\",0,SUMIF(勘定入力!$G:$G,12&$A17,勘定入力!$K:$K))","v":0}]
[{"$f":"入力補助!G14","v":0},0,0,{"$f":"IF($A18=\"\",0,SUMIF(勘定入力!$G:$G,1&$A18,勘定入力!$J:$J))","v":0},{"$f":"IF($A18=\"\",0,SUMIF(勘定入力!$G:$G,1&$A18,勘定入力!$K:$K))","v":0},{"$f":"IF($A18=\"\",0,SUMIF(勘定入力!$G:$G,2&$A18,勘定入力!$J:$J))","v":0},{"$f":"IF($A18=\"\",0,SUMIF(勘定入力!$G:$G,2&$A18,勘定入力!$K:$K))","v":0},{"$f":"IF($A18=\"\",0,SUMIF(勘定入力!$G:$G,3&$A18,勘定入力!$J:$J))","v":0},{"$f":"IF($A18=\"\",0,SUMIF(勘定入力!$G:$G,3&$A18,勘定入力!$K:$K))","v":0},{"$f":"IF($A18=\"\",0,SUMIF(勘定入力!$G:$G,4&$A18,勘定入力!$J:$J))","v":0},{"$f":"IF($A18=\"\",0,SUMIF(勘定入力!$G:$G,4&$A18,勘定入力!$K:$K))","v":0},{"$f":"IF($A18=\"\",0,SUMIF(勘定入力!$G:$G,5&$A18,勘定入力!$J:$J))","v":0},{"$f":"IF($A18=\"\",0,SUMIF(勘定入力!$G:$G,5&$A18,勘定入力!$K:$K))","v":0},{"$f":"IF($A18=\"\",0,SUMIF(勘定入力!$G:$G,6&$A18,勘定入力!$J:$J))","v":0},{"$f":"IF($A18=\"\",0,SUMIF(勘定入力!$G:$G,6&$A18,勘定入力!$K:$K))","v":0},{"$f":"IF($A18=\"\",0,SUMIF(勘定入力!$G:$G,7&$A18,勘定入力!$J:$J))","v":0},{"$f":"IF($A18=\"\",0,SUMIF(勘定入力!$G:$G,7&$A18,勘定入力!$K:$K))","v":0},{"$f":"IF($A18=\"\",0,SUMIF(勘定入力!$G:$G,8&$A18,勘定入力!$J:$J))","v":0},{"$f":"IF($A18=\"\",0,SUMIF(勘定入力!$G:$G,8&$A18,勘定入力!$K:$K))","v":0},{"$f":"IF($A18=\"\",0,SUMIF(勘定入力!$G:$G,9&$A18,勘定入力!$J:$J))","v":0},{"$f":"IF($A18=\"\",0,SUMIF(勘定入力!$G:$G,9&$A18,勘定入力!$K:$K))","v":0},{"$f":"IF($A18=\"\",0,SUMIF(勘定入力!$G:$G,10&$A18,勘定入力!$J:$J))","v":0},{"$f":"IF($A18=\"\",0,SUMIF(勘定入力!$G:$G,10&$A18,勘定入力!$K:$K))","v":0},{"$f":"IF($A18=\"\",0,SUMIF(勘定入力!$G:$G,11&$A18,勘定入力!$J:$J))","v":0},{"$f":"IF($A18=\"\",0,SUMIF(勘定入力!$G:$G,11&$A18,勘定入力!$K:$K))","v":0},{"$f":"IF($A18=\"\",0,SUMIF(勘定入力!$G:$G,12&$A18,勘定入力!$J:$J))","v":0},{"$f":"IF($A18=\"\",0,SUMIF(勘定入力!$G:$G,12&$A18,勘定入力!$K:$K))","v":0}]
[{"$f":"入力補助!G15","v":0},0,0,{"$f":"IF($A19=\"\",0,SUMIF(勘定入力!$G:$G,1&$A19,勘定入力!$J:$J))","v":0},{"$f":"IF($A19=\"\",0,SUMIF(勘定入力!$G:$G,1&$A19,勘定入力!$K:$K))","v":0},{"$f":"IF($A19=\"\",0,SUMIF(勘定入力!$G:$G,2&$A19,勘定入力!$J:$J))","v":0},{"$f":"IF($A19=\"\",0,SUMIF(勘定入力!$G:$G,2&$A19,勘定入力!$K:$K))","v":0},{"$f":"IF($A19=\"\",0,SUMIF(勘定入力!$G:$G,3&$A19,勘定入力!$J:$J))","v":0},{"$f":"IF($A19=\"\",0,SUMIF(勘定入力!$G:$G,3&$A19,勘定入力!$K:$K))","v":0},{"$f":"IF($A19=\"\",0,SUMIF(勘定入力!$G:$G,4&$A19,勘定入力!$J:$J))","v":0},{"$f":"IF($A19=\"\",0,SUMIF(勘定入力!$G:$G,4&$A19,勘定入力!$K:$K))","v":0},{"$f":"IF($A19=\"\",0,SUMIF(勘定入力!$G:$G,5&$A19,勘定入力!$J:$J))","v":0},{"$f":"IF($A19=\"\",0,SUMIF(勘定入力!$G:$G,5&$A19,勘定入力!$K:$K))","v":0},{"$f":"IF($A19=\"\",0,SUMIF(勘定入力!$G:$G,6&$A19,勘定入力!$J:$J))","v":0},{"$f":"IF($A19=\"\",0,SUMIF(勘定入力!$G:$G,6&$A19,勘定入力!$K:$K))","v":0},{"$f":"IF($A19=\"\",0,SUMIF(勘定入力!$G:$G,7&$A19,勘定入力!$J:$J))","v":0},{"$f":"IF($A19=\"\",0,SUMIF(勘定入力!$G:$G,7&$A19,勘定入力!$K:$K))","v":0},{"$f":"IF($A19=\"\",0,SUMIF(勘定入力!$G:$G,8&$A19,勘定入力!$J:$J))","v":0},{"$f":"IF($A19=\"\",0,SUMIF(勘定入力!$G:$G,8&$A19,勘定入力!$K:$K))","v":0},{"$f":"IF($A19=\"\",0,SUMIF(勘定入力!$G:$G,9&$A19,勘定入力!$J:$J))","v":0},{"$f":"IF($A19=\"\",0,SUMIF(勘定入力!$G:$G,9&$A19,勘定入力!$K:$K))","v":0},{"$f":"IF($A19=\"\",0,SUMIF(勘定入力!$G:$G,10&$A19,勘定入力!$J:$J))","v":0},{"$f":"IF($A19=\"\",0,SUMIF(勘定入力!$G:$G,10&$A19,勘定入力!$K:$K))","v":0},{"$f":"IF($A19=\"\",0,SUMIF(勘定入力!$G:$G,11&$A19,勘定入力!$J:$J))","v":0},{"$f":"IF($A19=\"\",0,SUMIF(勘定入力!$G:$G,11&$A19,勘定入力!$K:$K))","v":0},{"$f":"IF($A19=\"\",0,SUMIF(勘定入力!$G:$G,12&$A19,勘定入力!$J:$J))","v":0},{"$f":"IF($A19=\"\",0,SUMIF(勘定入力!$G:$G,12&$A19,勘定入力!$K:$K))","v":0}]
[{"$f":"入力補助!G16","v":0},0,0,{"$f":"IF($A20=\"\",0,SUMIF(勘定入力!$G:$G,1&$A20,勘定入力!$J:$J))","v":0},{"$f":"IF($A20=\"\",0,SUMIF(勘定入力!$G:$G,1&$A20,勘定入力!$K:$K))","v":0},{"$f":"IF($A20=\"\",0,SUMIF(勘定入力!$G:$G,2&$A20,勘定入力!$J:$J))","v":0},{"$f":"IF($A20=\"\",0,SUMIF(勘定入力!$G:$G,2&$A20,勘定入力!$K:$K))","v":0},{"$f":"IF($A20=\"\",0,SUMIF(勘定入力!$G:$G,3&$A20,勘定入力!$J:$J))","v":0},{"$f":"IF($A20=\"\",0,SUMIF(勘定入力!$G:$G,3&$A20,勘定入力!$K:$K))","v":0},{"$f":"IF($A20=\"\",0,SUMIF(勘定入力!$G:$G,4&$A20,勘定入力!$J:$J))","v":0},{"$f":"IF($A20=\"\",0,SUMIF(勘定入力!$G:$G,4&$A20,勘定入力!$K:$K))","v":0},{"$f":"IF($A20=\"\",0,SUMIF(勘定入力!$G:$G,5&$A20,勘定入力!$J:$J))","v":0},{"$f":"IF($A20=\"\",0,SUMIF(勘定入力!$G:$G,5&$A20,勘定入力!$K:$K))","v":0},{"$f":"IF($A20=\"\",0,SUMIF(勘定入力!$G:$G,6&$A20,勘定入力!$J:$J))","v":0},{"$f":"IF($A20=\"\",0,SUMIF(勘定入力!$G:$G,6&$A20,勘定入力!$K:$K))","v":0},{"$f":"IF($A20=\"\",0,SUMIF(勘定入力!$G:$G,7&$A20,勘定入力!$J:$J))","v":0},{"$f":"IF($A20=\"\",0,SUMIF(勘定入力!$G:$G,7&$A20,勘定入力!$K:$K))","v":0},{"$f":"IF($A20=\"\",0,SUMIF(勘定入力!$G:$G,8&$A20,勘定入力!$J:$J))","v":0},{"$f":"IF($A20=\"\",0,SUMIF(勘定入力!$G:$G,8&$A20,勘定入力!$K:$K))","v":0},{"$f":"IF($A20=\"\",0,SUMIF(勘定入力!$G:$G,9&$A20,勘定入力!$J:$J))","v":0},{"$f":"IF($A20=\"\",0,SUMIF(勘定入力!$G:$G,9&$A20,勘定入力!$K:$K))","v":0},{"$f":"IF($A20=\"\",0,SUMIF(勘定入力!$G:$G,10&$A20,勘定入力!$J:$J))","v":0},{"$f":"IF($A20=\"\",0,SUMIF(勘定入力!$G:$G,10&$A20,勘定入力!$K:$K))","v":0},{"$f":"IF($A20=\"\",0,SUMIF(勘定入力!$G:$G,11&$A20,勘定入力!$J:$J))","v":0},{"$f":"IF($A20=\"\",0,SUMIF(勘定入力!$G:$G,11&$A20,勘定入力!$K:$K))","v":0},{"$f":"IF($A20=\"\",0,SUMIF(勘定入力!$G:$G,12&$A20,勘定入力!$J:$J))","v":0},{"$f":"IF($A20=\"\",0,SUMIF(勘定入力!$G:$G,12&$A20,勘定入力!$K:$K))","v":0}]
[{"$f":"入力補助!G17","v":0},0,0,{"$f":"IF($A21=\"\",0,SUMIF(勘定入力!$G:$G,1&$A21,勘定入力!$J:$J))","v":0},{"$f":"IF($A21=\"\",0,SUMIF(勘定入力!$G:$G,1&$A21,勘定入力!$K:$K))","v":0},{"$f":"IF($A21=\"\",0,SUMIF(勘定入力!$G:$G,2&$A21,勘定入力!$J:$J))","v":0},{"$f":"IF($A21=\"\",0,SUMIF(勘定入力!$G:$G,2&$A21,勘定入力!$K:$K))","v":0},{"$f":"IF($A21=\"\",0,SUMIF(勘定入力!$G:$G,3&$A21,勘定入力!$J:$J))","v":0},{"$f":"IF($A21=\"\",0,SUMIF(勘定入力!$G:$G,3&$A21,勘定入力!$K:$K))","v":0},{"$f":"IF($A21=\"\",0,SUMIF(勘定入力!$G:$G,4&$A21,勘定入力!$J:$J))","v":0},{"$f":"IF($A21=\"\",0,SUMIF(勘定入力!$G:$G,4&$A21,勘定入力!$K:$K))","v":0},{"$f":"IF($A21=\"\",0,SUMIF(勘定入力!$G:$G,5&$A21,勘定入力!$J:$J))","v":0},{"$f":"IF($A21=\"\",0,SUMIF(勘定入力!$G:$G,5&$A21,勘定入力!$K:$K))","v":0},{"$f":"IF($A21=\"\",0,SUMIF(勘定入力!$G:$G,6&$A21,勘定入力!$J:$J))","v":0},{"$f":"IF($A21=\"\",0,SUMIF(勘定入力!$G:$G,6&$A21,勘定入力!$K:$K))","v":0},{"$f":"IF($A21=\"\",0,SUMIF(勘定入力!$G:$G,7&$A21,勘定入力!$J:$J))","v":0},{"$f":"IF($A21=\"\",0,SUMIF(勘定入力!$G:$G,7&$A21,勘定入力!$K:$K))","v":0},{"$f":"IF($A21=\"\",0,SUMIF(勘定入力!$G:$G,8&$A21,勘定入力!$J:$J))","v":0},{"$f":"IF($A21=\"\",0,SUMIF(勘定入力!$G:$G,8&$A21,勘定入力!$K:$K))","v":0},{"$f":"IF($A21=\"\",0,SUMIF(勘定入力!$G:$G,9&$A21,勘定入力!$J:$J))","v":0},{"$f":"IF($A21=\"\",0,SUMIF(勘定入力!$G:$G,9&$A21,勘定入力!$K:$K))","v":0},{"$f":"IF($A21=\"\",0,SUMIF(勘定入力!$G:$G,10&$A21,勘定入力!$J:$J))","v":0},{"$f":"IF($A21=\"\",0,SUMIF(勘定入力!$G:$G,10&$A21,勘定入力!$K:$K))","v":0},{"$f":"IF($A21=\"\",0,SUMIF(勘定入力!$G:$G,11&$A21,勘定入力!$J:$J))","v":0},{"$f":"IF($A21=\"\",0,SUMIF(勘定入力!$G:$G,11&$A21,勘定入力!$K:$K))","v":0},{"$f":"IF($A21=\"\",0,SUMIF(勘定入力!$G:$G,12&$A21,勘定入力!$J:$J))","v":0},{"$f":"IF($A21=\"\",0,SUMIF(勘定入力!$G:$G,12&$A21,勘定入力!$K:$K))","v":0}]
[{"$f":"入力補助!G18","v":0},0,0,{"$f":"IF($A22=\"\",0,SUMIF(勘定入力!$G:$G,1&$A22,勘定入力!$J:$J))","v":0},{"$f":"IF($A22=\"\",0,SUMIF(勘定入力!$G:$G,1&$A22,勘定入力!$K:$K))","v":0},{"$f":"IF($A22=\"\",0,SUMIF(勘定入力!$G:$G,2&$A22,勘定入力!$J:$J))","v":0},{"$f":"IF($A22=\"\",0,SUMIF(勘定入力!$G:$G,2&$A22,勘定入力!$K:$K))","v":0},{"$f":"IF($A22=\"\",0,SUMIF(勘定入力!$G:$G,3&$A22,勘定入力!$J:$J))","v":0},{"$f":"IF($A22=\"\",0,SUMIF(勘定入力!$G:$G,3&$A22,勘定入力!$K:$K))","v":0},{"$f":"IF($A22=\"\",0,SUMIF(勘定入力!$G:$G,4&$A22,勘定入力!$J:$J))","v":0},{"$f":"IF($A22=\"\",0,SUMIF(勘定入力!$G:$G,4&$A22,勘定入力!$K:$K))","v":0},{"$f":"IF($A22=\"\",0,SUMIF(勘定入力!$G:$G,5&$A22,勘定入力!$J:$J))","v":0},{"$f":"IF($A22=\"\",0,SUMIF(勘定入力!$G:$G,5&$A22,勘定入力!$K:$K))","v":0},{"$f":"IF($A22=\"\",0,SUMIF(勘定入力!$G:$G,6&$A22,勘定入力!$J:$J))","v":0},{"$f":"IF($A22=\"\",0,SUMIF(勘定入力!$G:$G,6&$A22,勘定入力!$K:$K))","v":0},{"$f":"IF($A22=\"\",0,SUMIF(勘定入力!$G:$G,7&$A22,勘定入力!$J:$J))","v":0},{"$f":"IF($A22=\"\",0,SUMIF(勘定入力!$G:$G,7&$A22,勘定入力!$K:$K))","v":0},{"$f":"IF($A22=\"\",0,SUMIF(勘定入力!$G:$G,8&$A22,勘定入力!$J:$J))","v":0},{"$f":"IF($A22=\"\",0,SUMIF(勘定入力!$G:$G,8&$A22,勘定入力!$K:$K))","v":0},{"$f":"IF($A22=\"\",0,SUMIF(勘定入力!$G:$G,9&$A22,勘定入力!$J:$J))","v":0},{"$f":"IF($A22=\"\",0,SUMIF(勘定入力!$G:$G,9&$A22,勘定入力!$K:$K))","v":0},{"$f":"IF($A22=\"\",0,SUMIF(勘定入力!$G:$G,10&$A22,勘定入力!$J:$J))","v":0},{"$f":"IF($A22=\"\",0,SUMIF(勘定入力!$G:$G,10&$A22,勘定入力!$K:$K))","v":0},{"$f":"IF($A22=\"\",0,SUMIF(勘定入力!$G:$G,11&$A22,勘定入力!$J:$J))","v":0},{"$f":"IF($A22=\"\",0,SUMIF(勘定入力!$G:$G,11&$A22,勘定入力!$K:$K))","v":0},{"$f":"IF($A22=\"\",0,SUMIF(勘定入力!$G:$G,12&$A22,勘定入力!$J:$J))","v":0},{"$f":"IF($A22=\"\",0,SUMIF(勘定入力!$G:$G,12&$A22,勘定入力!$K:$K))","v":0}]
["合計",{"$f":"SUM(B7:B22)","v":40500},35200,10000,1100,5000,1100,5000,2100,0,3100,0,4100,200,3100,0,6100,5000,4100,5300,4100,0,4100,5000,1100,5000,1100]

{"sheet":"収支グラフ","index":3,"n_rows":11,"n_cols":27,"rows_kept":11,"cut":false,"hidden":false,"merged":[]}
["月別","年間合計",null,"１月",null,"２月",null,"３月",null,"４月",null,"５月",null,"６月",null,"７月",null,"８月",null,"９月",null,"１０月",null,"１１月",null,"１２月"]
["単位千円","入金","支払","入金","支払","入金","支払","入金","支払","入金","支払","入金","支払","入金","支払","入金","支払","入金","支払","入金","支払","入金","支払","入金","支払","入金","支払"]
["合計",{"$f":"D3+F3+H3+J3+L3+N3+P3+R3+T3+V3+X3+Z3","v":40500},{"$f":"E3+G3+I3+K3+M3+O3+Q3+S3+U3+W3+Y3+AA3","v":35200},{"$f":"SUMIF(勘定入力!$A:$A,1,勘定入力!$J:$J)","v":10000},{"$f":"SUMIF(勘定入力!$A:$A,1,勘定入力!$K:$K)","v":1100},{"$f":"SUMIF(勘定入力!$A:$A,2,勘定入力!$J:$J)","v":5000},{"$f":"SUMIF(勘定入力!$A:$A,2,勘定入力!$K:$K)","v":1100},{"$f":"SUMIF(勘定入力!$A:$A,3,勘定入力!$J:$J)","v":5000},{"$f":"SUMIF(勘定入力!$A:$A,3,勘定入力!$K:$K)","v":2100},{"$f":"SUMIF(勘定入力!$A:$A,4,勘定入力!$J:$J)","v":0},{"$f":"SUMIF(勘定入力!$A:$A,4,勘定入力!$K:$K)","v":3100},{"$f":"SUMIF(勘定入力!$A:$A,5,勘定入力!$J:$J)","v":0},{"$f":"SUMIF(勘定入力!$A:$A,5,勘定入力!$K:$K)","v":4100},{"$f":"SUMIF(勘定入力!$A:$A,6,勘定入力!$J:$J)","v":200},{"$f":"SUMIF(勘定入力!$A:$A,6,勘定入力!$K:$K)","v":3100},{"$f":"SUMIF(勘定入力!$A:$A,7,勘定入力!$J:$J)","v":0},{"$f":"SUMIF(勘定入力!$A:$A,7,勘定入力!$K:$K)","v":6100},{"$f":"SUMIF(勘定入力!$A:$A,8,勘定入力!$J:$J)","v":5000},{"$f":"SUMIF(勘定入力!$A:$A,8,勘定入力!$K:$K)","v":4100},{"$f":"SUMIF(勘定入力!$A:$A,9,勘定入力!$J:$J)","v":5300},{"$f":"SUMIF(勘定入力!$A:$A,9,勘定入力!$K:$K)","v":4100},{"$f":"SUMIF(勘定入力!$A:$A,10,勘定入力!$J:$J)","v":0},{"$f":"SUMIF(勘定入力!$A:$A,10,勘定入力!$K:$K)","v":4100},{"$f":"SUMIF(勘定入力!$A:$A,11,勘定入力!$J:$J)","v":5000},{"$f":"SUMIF(勘定入力!$A:$A,11,勘定入力!$K:$K)","v":1100},{"$f":"SUMIF(勘定入力!$A:$A,12,勘定入力!$J:$J)","v":5000},{"$f":"SUMIF(勘定入力!$A:$A,12,勘定入力!$K:$K)","v":1100}]
[]
[]
[null,null,null,"１月","２月","３月","４月","５月","６月","７月","８月","９月","１０月","１１月","１２月"]
[null,null,"入金",{"$f":"D3","v":10000},{"$f":"F3","v":5000},{"$f":"H3","v":5000},{"$f":"J3","v":0},{"$f":"L3","v":0},{"$f":"N3","v":200},{"$f":"P3","v":0},{"$f":"R3","v":5000},{"$f":"T3","v":5300},{"$f":"V3","v":0},{"$f":"X3","v":5000},{"$f":"Z3","v":5000}]
[null,null,"支払",{"$f":"E3","v":1100},{"$f":"G3","v":1100},{"$f":"I3","v":2100},{"$f":"K3","v":3100},{"$f":"M3","v":4100},{"$f":"O3","v":3100},{"$f":"Q3","v":6100},{"$f":"S3","v":4100},{"$f":"U3","v":4100},{"$f":"W3","v":4100},{"$f":"Y3","v":1100},{"$f":"AA3","v":1100}]
[null,null,"入金累積",{"$f":"D7","v":10000},{"$f":"D9+E7","v":15000},{"$f":"E9+F7","v":20000},20000,20000,20200,20200,25200,30500,30500,35500,40500]
[null,null,"支払累積",{"$f":"D8","v":1100},{"$f":"D10+E8","v":2200},{"$f":"E10+F8","v":4300},7400,11500,14600,20700,24800,28900,33000,34100,35200]
[null,null,"利益累計",{"$f":"D9-D10","v":8900},{"$f":"E9-E10","v":12800},15700,12600,8500,5600,-500,400,1600,-2500,1400,5300]

{"sheet":"集計一覧","index":4,"n_rows":182,"n_cols":28,"rows_kept":182,"cut":false,"hidden":false,"merged":[]}
["月別","年間合計",null,"１月",null,"２月",null,"３月",null,"４月",null,"５月",null,"６月",null,"７月",null,"８月",null,"９月",null,"１０月",null,"１１月",null,"１２月"]
["単位千円","入金","支払","入金","支払","入金","支払","入金","支払","入金","支払","入金","支払","入金","支払","入金","支払","入金","支払","入金","支払","入金","支払","入金","支払","入金","支払"]
["合計",{"$f":"D3+F3+H3+J3+L3+N3+P3+R3+T3+V3+X3+Z3","v":40500},{"$f":"E3+G3+I3+K3+M3+O3+Q3+S3+U3+W3+Y3+AA3","v":35200},{"$f":"SUMIF(勘定入力!$A:$A,1,勘定入力!$J:$J)","v":10000},{"$f":"SUMIF(勘定入力!$A:$A,1,勘定入力!$K:$K)","v":1100},{"$f":"SUMIF(勘定入力!$A:$A,2,勘定入力!$J:$J)","v":5000},{"$f":"SUMIF(勘定入力!$A:$A,2,勘定入力!$K:$K)","v":1100},{"$f":"SUMIF(勘定入力!$A:$A,3,勘定入力!$J:$J)","v":5000},{"$f":"SUMIF(勘定入力!$A:$A,3,勘定入力!$K:$K)","v":2100},{"$f":"SUMIF(勘定入力!$A:$A,4,勘定入力!$J:$J)","v":0},{"$f":"SUMIF(勘定入力!$A:$A,4,勘定入力!$K:$K)","v":3100},{"$f":"SUMIF(勘定入力!$A:$A,5,勘定入力!$J:$J)","v":0},{"$f":"SUMIF(勘定入力!$A:$A,5,勘定入力!$K:$K)","v":4100},{"$f":"SUMIF(勘定入力!$A:$A,6,勘定入力!$J:$J)","v":200},{"$f":"SUMIF(勘定入力!$A:$A,6,勘定入力!$K:$K)","v":3100},{"$f":"SUMIF(勘定入力!$A:$A,7,勘定入力!$J:$J)","v":0},{"$f":"SUMIF(勘定入力!$A:$A,7,勘定入力!$K:$K)","v":6100},{"$f":"SUMIF(勘定入力!$A:$A,8,勘定入力!$J:$J)","v":5000},{"$f":"SUMIF(勘定入力!$A:$A,8,勘定入力!$K:$K)","v":4100},{"$f":"SUMIF(勘定入力!$A:$A,9,勘定入力!$J:$J)","v":5300},{"$f":"SUMIF(勘定入力!$A:$A,9,勘定入力!$K:$K)","v":4100},{"$f":"SUMIF(勘定入力!$A:$A,10,勘定入力!$J:$J)","v":0},{"$f":"SUMIF(勘定入力!$A:$A,10,勘定入力!$K:$K)","v":4100},{"$f":"SUMIF(勘定入力!$A:$A,11,勘定入力!$J:$J)","v":5000},{"$f":"SUMIF(勘定入力!$A:$A,11,勘定入力!$K:$K)","v":1100},{"$f":"SUMIF(勘定入力!$A:$A,12,勘定入力!$J:$J)","v":5000},{"$f":"SUMIF(勘定入力!$A:$A,12,勘定入力!$K:$K)","v":1100}]
[]
[{"$f":"勘定入力!L3","v":"勘定科目"},"年間合計",null,"１月",null,"２月",null,"３月",null,"４月",null,"５月",null,"６月",null,"７月",null,"８月",null,"９月",null,"１０月",null,"１１月",null,"１２月"]
[{"$f":"IF(B3=B62,\"\",\"入力確認要\")","v":""},"入金","支払","入金","支払","入金","支払","入金","支払","入金","支払","入金","支払","入金","支払","入金","支払","入金","支払","入金","支払","入金","支払","入金","支払","入金","支払"]
[{"$f":"入力補助!C3","v":"○○"},{"$f":"D7+F7+H7+J7+L7+N7+P7+R7+T7+V7+X7+Z7","v":30000},{"$f":"E7+G7+I7+K7+M7+O7+Q7+S7+U7+W7+Y7+AA7","v":0},{"$f":"IF($A7=\"\",0,SUMIF(勘定入力!$D:$D,1&$A7,勘定入力!$J:$J))","v":0},{"$f":"IF($A7=\"\",0,SUMIF(勘定入力!$D:$D,1&$A7,勘定入力!$K:$K))","v":0},{"$f":"IF($A7=\"\",0,SUMIF(勘定入力!$D:$D,2&$A7,勘定入力!$J:$J))","v":5000},{"$f":"IF($A7=\"\",0,SUMIF(勘定入力!$D:$D,2&$A7,勘定入力!$K:$K))","v":0},{"$f":"IF($A7=\"\",0,SUMIF(勘定入力!$D:$D,3&$A7,勘定入力!$J:$J))","v":5000},{"$f":"IF($A7=\"\",0,SUMIF(勘定入力!$D:$D,3&$A7,勘定入力!$K:$K))","v":0},{"$f":"IF($A7=\"\",0,SUMIF(勘定入力!$D:$D,4&$A7,勘定入力!$J:$J))","v":0},{"$f":"IF($A7=\"\",0,SUMIF(勘定入力!$D:$D,4&$A7,勘定入力!$K:$K))","v":0},{"$f":"IF($A7=\"\",0,SUMIF(勘定入力!$D:$D,5&$A7,勘定入力!$J:$J))","v":0},{"$f":"IF($A7=\"\",0,SUMIF(勘定入力!$D:$D,5&$A7,勘定入力!$K:$K))","v":0},{"$f":"IF($A7=\"\",0,SUMIF(勘定入力!$D:$D,6&$A7,勘定入力!$J:$J))","v":0},{"$f":"IF($A7=\"\",0,SUMIF(勘定入力!$D:$D,6&$A7,勘定入力!$K:$K))","v":0},{"$f":"IF($A7=\"\",0,SUMIF(勘定入力!$D:$D,7&$A7,勘定入力!$J:$J))","v":0},{"$f":"IF($A7=\"\",0,SUMIF(勘定入力!$D:$D,7&$A7,勘定入力!$K:$K))","v":0},{"$f":"IF($A7=\"\",0,SUMIF(勘定入力!$D:$D,8&$A7,勘定入力!$J:$J))","v":5000},{"$f":"IF($A7=\"\",0,SUMIF(勘定入力!$D:$D,8&$A7,勘定入力!$K:$K))","v":0},{"$f":"IF($A7=\"\",0,SUMIF(勘定入力!$D:$D,9&$A7,勘定入力!$J:$J))","v":5000},{"$f":"IF($A7=\"\",0,SUMIF(勘定入力!$D:$D,9&$A7,勘定入力!$K:$K))","v":0},{"$f":"IF($A7=\"\",0,SUMIF(勘定入力!$D:$D,10&$A7,勘定入力!$J:$J))","v":0},{"$f":"IF($A7=\"\",0,SUMIF(勘定入力!$D:$D,10&$A7,勘定入力!$K:$K))","v":0},{"$f":"IF($A7=\"\",0,SUMIF(勘定入力!$D:$D,11&$A7,勘定入力!$J:$J))","v":5000},{"$f":"IF($A7=\"\",0,SUMIF(勘定入力!$D:$D,11&$A7,勘定入力!$K:$K))","v":0},{"$f":"IF($A7=\"\",0,SUMIF(勘定入力!$D:$D,12&$A7,勘定入力!$J:$J))","v":5000},{"$f":"IF($A7=\"\",0,SUMIF(勘定入力!$D:$D,12&$A7,勘定入力!$K:$K))","v":0}]
[{"$f":"入力補助!C4","v":"△△"},{"$f":"D8+F8+H8+J8+L8+N8+P8+R8+T8+V8+X8+Z8","v":500},{"$f":"E8+G8+I8+K8+M8+O8+Q8+S8+U8+W8+Y8+AA8","v":0},{"$f":"IF($A8=\"\",0,SUMIF(勘定入力!$D:$D,1&$A8,勘定入力!$J:$J))","v":0},{"$f":"IF($A8=\"\",0,SUMIF(勘定入力!$D:$D,1&$A8,勘定入力!$K:$K))","v":0},{"$f":"IF($A8=\"\",0,SUMIF(勘定入力!$D:$D,2&$A8,勘定入力!$J:$J))","v":0},{"$f":"IF($A8=\"\",0,SUMIF(勘定入力!$D:$D,2&$A8,勘定入力!$K:$K))","v":0},{"$f":"IF($A8=\"\",0,SUMIF(勘定入力!$D:$D,3&$A8,勘定入力!$J:$J))","v":0},{"$f":"IF($A8=\"\",0,SUMIF(勘定入力!$D:$D,3&$A8,勘定入力!$K:$K))","v":0},{"$f":"IF($A8=\"\",0,SUMIF(勘定入力!$D:$D,4&$A8,勘定入力!$J:$J))","v":0},{"$f":"IF($A8=\"\",0,SUMIF(勘定入力!$D:$D,4&$A8,勘定入力!$K:$K))","v":0},{"$f":"IF($A8=\"\",0,SUMIF(勘定入力!$D:$D,5&$A8,勘定入力!$J:$J))","v":0},{"$f":"IF($A8=\"\",0,SUMIF(勘定入力!$D:$D,5&$A8,勘定入力!$K:$K))","v":0},{"$f":"IF($A8=\"\",0,SUMIF(勘定入力!$D:$D,6&$A8,勘定入力!$J:$J))","v":200},{"$f":"IF($A8=\"\",0,SUMIF(勘定入力!$D:$D,6&$A8,勘定入力!$K:$K))","v":0},{"$f":"IF($A8=\"\",0,SUMIF(勘定入力!$D:$D,7&$A8,勘定入力!$J:$J))","v":0},{"$f":"IF($A8=\"\",0,SUMIF(勘定入力!$D:$D,7&$A8,勘定入力!$K:$K))","v":0},{"$f":"IF($A8=\"\",0,SUMIF(勘定入力!$D:$D,8&$A8,勘定入力!$J:$J))","v":0},{"$f":"IF($A8=\"\",0,SUMIF(勘定入力!$D:$D,8&$A8,勘定入力!$K:$K))","v":0},{"$f":"IF($A8=\"\",0,SUMIF(勘定入力!$D:$D,9&$A8,勘定入力!$J:$J))","v":300},{"$f":"IF($A8=\"\",0,SUMIF(勘定入力!$D:$D,9&$A8,勘定入力!$K:$K))","v":0},{"$f":"IF($A8=\"\",0,SUMIF(勘定入力!$D:$D,10&$A8,勘定入力!$J:$J))","v":0},{"$f":"IF($A8=\"\",0,SUMIF(勘定入力!$D:$D,10&$A8,勘定入力!$K:$K))","v":0},{"$f":"IF($A8=\"\",0,SUMIF(勘定入力!$D:$D,11&$A8,勘定入力!$J:$J))","v":0},{"$f":"IF($A8=\"\",0,SUMIF(勘定入力!$D:$D,11&$A8,勘定入力!$K:$K))","v":0},{"$f":"IF($A8=\"\",0,SUMIF(勘定入力!$D:$D,12&$A8,勘定入力!$J:$J))","v":0},{"$f":"IF($A8=\"\",0,SUMIF(勘定入力!$D:$D,12&$A8,勘定入力!$K:$K))","v":0}]
[{"$f":"入力補助!C5","v":"基礎工事"},0,2000,{"$f":"IF($A9=\"\",0,SUMIF(勘定入力!$D:$D,1&$A9,勘定入力!$J:$J))","v":0},{"$f":"IF($A9=\"\",0,SUMIF(勘定入力!$D:$D,1&$A9,勘定入力!$K:$K))","v":0},{"$f":"IF($A9=\"\",0,SUMIF(勘定入力!$D:$D,2&$A9,勘定入力!$J:$J))","v":0},{"$f":"IF($A9=\"\",0,SUMIF(勘定入力!$D:$D,2&$A9,勘定入力!$K:$K))","v":0},{"$f":"IF($A9=\"\",0,SUMIF(勘定入力!$D:$D,3&$A9,勘定入力!$J:$J))","v":0},{"$f":"IF($A9=\"\",0,SUMIF(勘定入力!$D:$D,3&$A9,勘定入力!$K:$K))","v":1000},{"$f":"IF($A9=\"\",0,SUMIF(勘定入力!$D:$D,4&$A9,勘定入力!$J:$J))","v":0},{"$f":"IF($A9=\"\",0,SUMIF(勘定入力!$D:$D,4&$A9,勘定入力!$K:$K))","v":0},{"$f":"IF($A9=\"\",0,SUMIF(勘定入力!$D:$D,5&$A9,勘定入力!$J:$J))","v":0},{"$f":"IF($A9=\"\",0,SUMIF(勘定入力!$D:$D,5&$A9,勘定入力!$K:$K))","v":1000},{"$f":"IF($A9=\"\",0,SUMIF(勘定入力!$D:$D,6&$A9,勘定入力!$J:$J))","v":0},{"$f":"IF($A9=\"\",0,SUMIF(勘定入力!$D:$D,6&$A9,勘定入力!$K:$K))","v":0},{"$f":"IF($A9=\"\",0,SUMIF(勘定入力!$D:$D,7&$A9,勘定入力!$J:$J))","v":0},{"$f":"IF($A9=\"\",0,SUMIF(勘定入力!$D:$D,7&$A9,勘定入力!$K:$K))","v":0},{"$f":"IF($A9=\"\",0,SUMIF(勘定入力!$D:$D,8&$A9,勘定入力!$J:$J))","v":0},{"$f":"IF($A9=\"\",0,SUMIF(勘定入力!$D:$D,8&$A9,勘定入力!$K:$K))","v":0},{"$f":"IF($A9=\"\",0,SUMIF(勘定入力!$D:$D,9&$A9,勘定入力!$J:$J))","v":0},{"$f":"IF($A9=\"\",0,SUMIF(勘定入力!$D:$D,9&$A9,勘定入力!$K:$K))","v":0},{"$f":"IF($A9=\"\",0,SUMIF(勘定入力!$D:$D,10&$A9,勘定入力!$J:$J))","v":0},{"$f":"IF($A9=\"\",0,SUMIF(勘定入力!$D:$D,10&$A9,勘定入力!$K:$K))","v":0},{"$f":"IF($A9=\"\",0,SUMIF(勘定入力!$D:$D,11&$A9,勘定入力!$J:$J))","v":0},{"$f":"IF($A9=\"\",0,SUMIF(勘定入力!$D:$D,11&$A9,勘定入力!$K:$K))","v":0},{"$f":"IF($A9=\"\",0,SUMIF(勘定入力!$D:$D,12&$A9,勘定入力!$J:$J))","v":0},{"$f":"IF($A9=\"\",0,SUMIF(勘定入力!$D:$D,12&$A9,勘定入力!$K:$K))","v":0}]
[{"$f":"入力補助!C6","v":"屋根工事"},0,4000,{"$f":"IF($A10=\"\",0,SUMIF(勘定入力!$D:$D,1&$A10,勘定入力!$J:$J))","v":0},{"$f":"IF($A10=\"\",0,SUMIF(勘定入力!$D:$D,1&$A10,勘定入力!$K:$K))","v":0},{"$f":"IF($A10=\"\",0,SUMIF(勘定入力!$D:$D,2&$A10,勘定入力!$J:$J))","v":0},{"$f":"IF($A10=\"\",0,SUMIF(勘定入力!$D:$D,2&$A10,勘定入力!$K:$K))","v":0},{"$f":"IF($A10=\"\",0,SUMIF(勘定入力!$D:$D,3&$A10,勘定入力!$J:$J))","v":0},{"$f":"IF($A10=\"\",0,SUMIF(勘定入力!$D:$D,3&$A10,勘定入力!$K:$K))","v":0},{"$f":"IF($A10=\"\",0,SUMIF(勘定入力!$D:$D,4&$A10,勘定入力!$J:$J))","v":0},{"$f":"IF($A10=\"\",0,SUMIF(勘定入力!$D:$D,4&$A10,勘定入力!$K:$K))","v":0},{"$f":"IF($A10=\"\",0,SUMIF(勘定入力!$D:$D,5&$A10,勘定入力!$J:$J))","v":0},{"$f":"IF($A10=\"\",0,SUMIF(勘定入力!$D:$D,5&$A10,勘定入力!$K:$K))","v":0},{"$f":"IF($A10=\"\",0,SUMIF(勘定入力!$D:$D,6&$A10,勘定入力!$J:$J))","v":0},{"$f":"IF($A10=\"\",0,SUMIF(勘定入力!$D:$D,6&$A10,勘定入力!$K:$K))","v":2000},{"$f":"IF($A10=\"\",0,SUMIF(勘定入力!$D:$D,7&$A10,勘定入力!$J:$J))","v":0},{"$f":"IF($A10=\"\",0,SUMIF(勘定入力!$D:$D,7&$A10,勘定入力!$K:$K))","v":2000},{"$f":"IF($A10=\"\",0,SUMIF(勘定入力!$D:$D,8&$A10,勘定入力!$J:$J))","v":0},{"$f":"IF($A10=\"\",0,SUMIF(勘定入力!$D:$D,8&$A10,勘定入力!$K:$K))","v":0},{"$f":"IF($A10=\"\",0,SUMIF(勘定入力!$D:$D,9&$A10,勘定入力!$J:$J))","v":0},{"$f":"IF($A10=\"\",0,SUMIF(勘定入力!$D:$D,9&$A10,勘定入力!$K:$K))","v":0},{"$f":"IF($A10=\"\",0,SUMIF(勘定入力!$D:$D,10&$A10,勘定入力!$J:$J))","v":0},{"$f":"IF($A10=\"\",0,SUMIF(勘定入力!$D:$D,10&$A10,勘定入力!$K:$K))","v":0},{"$f":"IF($A10=\"\",0,SUMIF(勘定入力!$D:$D,11&$A10,勘定入力!$J:$J))","v":0},{"$f":"IF($A10=\"\",0,SUMIF(勘定入力!$D:$D,11&$A10,勘定入力!$K:$K))","v":0},{"$f":"IF($A10=\"\",0,SUMIF(勘定入力!$D:$D,12&$A10,勘定入力!$J:$J))","v":0},{"$f":"IF($A10=\"\",0,SUMIF(勘定入力!$D:$D,12&$A10,勘定入力!$K:$K))","v":0}]
[{"$f":"入力補助!C7","v":"外構工事"},0,0,{"$f":"IF($A11=\"\",0,SUMIF(勘定入力!$D:$D,1&$A11,勘定入力!$J:$J))","v":0},{"$f":"IF($A11=\"\",0,SUMIF(勘定入力!$D:$D,1&$A11,勘定入力!$K:$K))","v":0},{"$f":"IF($A11=\"\",0,SUMIF(勘定入力!$D:$D,2&$A11,勘定入力!$J:$J))","v":0},{"$f":"IF($A11=\"\",0,SUMIF(勘定入力!$D:$D,2&$A11,勘定入力!$K:$K))","v":0},{"$f":"IF($A11=\"\",0,SUMIF(勘定入力!$D:$D,3&$A11,勘定入力!$J:$J))","v":0},{"$f":"IF($A11=\"\",0,SUMIF(勘定入力!$D:$D,3&$A11,勘定入力!$K:$K))","v":0},{"$f":"IF($A11=\"\",0,SUMIF(勘定入力!$D:$D,4&$A11,勘定入力!$J:$J))","v":0},{"$f":"IF($A11=\"\",0,SUMIF(勘定入力!$D:$D,4&$A11,勘定入力!$K:$K))","v":0},{"$f":"IF($A11=\"\",0,SUMIF(勘定入力!$D:$D,5&$A11,勘定入力!$J:$J))","v":0},{"$f":"IF($A11=\"\",0,SUMIF(勘定入力!$D:$D,5&$A11,勘定入力!$K:$K))","v":0},{"$f":"IF($A11=\"\",0,SUMIF(勘定入力!$D:$D,6&$A11,勘定入力!$J:$J))","v":0},{"$f":"IF($A11=\"\",0,SUMIF(勘定入力!$D:$D,6&$A11,勘定入力!$K:$K))","v":0},{"$f":"IF($A11=\"\",0,SUMIF(勘定入力!$D:$D,7&$A11,勘定入力!$J:$J))","v":0},{"$f":"IF($A11=\"\",0,SUMIF(勘定入力!$D:$D,7&$A11,勘定入力!$K:$K))","v":0},{"$f":"IF($A11=\"\",0,SUMIF(勘定入力!$D:$D,8&$A11,勘定入力!$J:$J))","v":0},{"$f":"IF($A11=\"\",0,SUMIF(勘定入力!$D:$D,8&$A11,勘定入力!$K:$K))","v":0},{"$f":"IF($A11=\"\",0,SUMIF(勘定入力!$D:$D,9&$A11,勘定入力!$J:$J))","v":0},{"$f":"IF($A11=\"\",0,SUMIF(勘定入力!$D:$D,9&$A11,勘定入力!$K:$K))","v":0},{"$f":"IF($A11=\"\",0,SUMIF(勘定入力!$D:$D,10&$A11,勘定入力!$J:$J))","v":0},{"$f":"IF($A11=\"\",0,SUMIF(勘定入力!$D:$D,10&$A11,勘定入力!$K:$K))","v":0},{"$f":"IF($A11=\"\",0,SUMIF(勘定入力!$D:$D,11&$A11,勘定入力!$J:$J))","v":0},{"$f":"IF($A11=\"\",0,SUMIF(勘定入力!$D:$D,11&$A11,勘定入力!$K:$K))","v":0},{"$f":"IF($A11=\"\",0,SUMIF(勘定入力!$D:$D,12&$A11,勘定入力!$J:$J))","v":0},{"$f":"IF($A11=\"\",0,SUMIF(勘定入力!$D:$D,12&$A11,勘定入力!$K:$K))","v":0}]
[{"$f":"入力補助!C8","v":"外壁工事"},0,6000,{"$f":"IF($A12=\"\",0,SUMIF(勘定入力!$D:$D,1&$A12,勘定入力!$J:$J))","v":0},{"$f":"IF($A12=\"\",0,SUMIF(勘定入力!$D:$D,1&$A12,勘定入力!$K:$K))","v":0},{"$f":"IF($A12=\"\",0,SUMIF(勘定入力!$D:$D,2&$A12,勘定入力!$J:$J))","v":0},{"$f":"IF($A12=\"\",0,SUMIF(勘定入力!$D:$D,2&$A12,勘定入力!$K:$K))","v":0},{"$f":"IF($A12=\"\",0,SUMIF(勘定入力!$D:$D,3&$A12,勘定入力!$J:$J))","v":0},{"$f":"IF($A12=\"\",0,SUMIF(勘定入力!$D:$D,3&$A12,勘定入力!$K:$K))","v":0},{"$f":"IF($A12=\"\",0,SUMIF(勘定入力!$D:$D,4&$A12,勘定入力!$J:$J))","v":0},{"$f":"IF($A12=\"\",0,SUMIF(勘定入力!$D:$D,4&$A12,勘定入力!$K:$K))","v":0},{"$f":"IF($A12=\"\",0,SUMIF(勘定入力!$D:$D,5&$A12,勘定入力!$J:$J))","v":0},{"$f":"IF($A12=\"\",0,SUMIF(勘定入力!$D:$D,5&$A12,勘定入力!$K:$K))","v":0},{"$f":"IF($A12=\"\",0,SUMIF(勘定入力!$D:$D,6&$A12,勘定入力!$J:$J))","v":0},{"$f":"IF($A12=\"\",0,SUMIF(勘定入力!$D:$D,6&$A12,勘定入力!$K:$K))","v":0},{"$f":"IF($A12=\"\",0,SUMIF(勘定入力!$D:$D,7&$A12,勘定入力!$J:$J))","v":0},{"$f":"IF($A12=\"\",0,SUMIF(勘定入力!$D:$D,7&$A12,勘定入力!$K:$K))","v":0},{"$f":"IF($A12=\"\",0,SUMIF(勘定入力!$D:$D,8&$A12,勘定入力!$J:$J))","v":0},{"$f":"IF($A12=\"\",0,SUMIF(勘定入力!$D:$D,8&$A12,勘定入力!$K:$K))","v":0},{"$f":"IF($A12=\"\",0,SUMIF(勘定入力!$D:$D,9&$A12,勘定入力!$J:$J))","v":0},{"$f":"IF($A12=\"\",0,SUMIF(勘定入力!$D:$D,9&$A12,勘定入力!$K:$K))","v":3000},{"$f":"IF($A12=\"\",0,SUMIF(勘定入力!$D:$D,10&$A12,勘定入力!$J:$J))","v":0},{"$f":"IF($A12=\"\",0,SUMIF(勘定入力!$D:$D,10&$A12,勘定入力!$K:$K))","v":3000},{"$f":"IF($A12=\"\",0,SUMIF(勘定入力!$D:$D,11&$A12,勘定入力!$J:$J))","v":0},{"$f":"IF($A12=\"\",0,SUMIF(勘定入力!$D:$D,11&$A12,勘定入力!$K:$K))","v":0},{"$f":"IF($A12=\"\",0,SUMIF(勘定入力!$D:$D,12&$A12,勘定入力!$J:$J))","v":0},{"$f":"IF($A12=\"\",0,SUMIF(勘定入力!$D:$D,12&$A12,勘定入力!$K:$K))","v":0}]
[{"$f":"入力補助!C9","v":"左官工事"},0,0,{"$f":"IF($A13=\"\",0,SUMIF(勘定入力!$D:$D,1&$A13,勘定入力!$J:$J))","v":0},{"$f":"IF($A13=\"\",0,SUMIF(勘定入力!$D:$D,1&$A13,勘定入力!$K:$K))","v":0},{"$f":"IF($A13=\"\",0,SUMIF(勘定入力!$D:$D,2&$A13,勘定入力!$J:$J))","v":0},{"$f":"IF($A13=\"\",0,SUMIF(勘定入力!$D:$D,2&$A13,勘定入力!$K:$K))","v":0},{"$f":"IF($A13=\"\",0,SUMIF(勘定入力!$D:$D,3&$A13,勘定入力!$J:$J))","v":0},{"$f":"IF($A13=\"\",0,SUMIF(勘定入力!$D:$D,3&$A13,勘定入力!$K:$K))","v":0},{"$f":"IF($A13=\"\",0,SUMIF(勘定入力!$D:$D,4&$A13,勘定入力!$J:$J))","v":0},{"$f":"IF($A13=\"\",0,SUMIF(勘定入力!$D:$D,4&$A13,勘定入力!$K:$K))","v":0},{"$f":"IF($A13=\"\",0,SUMIF(勘定入力!$D:$D,5&$A13,勘定入力!$J:$J))","v":0},{"$f":"IF($A13=\"\",0,SUMIF(勘定入力!$D:$D,5&$A13,勘定入力!$K:$K))","v":0},{"$f":"IF($A13=\"\",0,SUMIF(勘定入力!$D:$D,6&$A13,勘定入力!$J:$J))","v":0},{"$f":"IF($A13=\"\",0,SUMIF(勘定入力!$D:$D,6&$A13,勘定入力!$K:$K))","v":0},{"$f":"IF($A13=\"\",0,SUMIF(勘定入力!$D:$D,7&$A13,勘定入力!$J:$J))","v":0},{"$f":"IF($A13=\"\",0,SUMIF(勘定入力!$D:$D,7&$A13,勘定入力!$K:$K))","v":0},{"$f":"IF($A13=\"\",0,SUMIF(勘定入力!$D:$D,8&$A13,勘定入力!$J:$J))","v":0},{"$f":"IF($A13=\"\",0,SUMIF(勘定入力!$D:$D,8&$A13,勘定入力!$K:$K))","v":0},{"$f":"IF($A13=\"\",0,SUMIF(勘定入力!$D:$D,9&$A13,勘定入力!$J:$J))","v":0},{"$f":"IF($A13=\"\",0,SUMIF(勘定入力!$D:$D,9&$A13,勘定入力!$K:$K))","v":0},{"$f":"IF($A13=\"\",0,SUMIF(勘定入力!$D:$D,10&$A13,勘定入力!$J:$J))","v":0},{"$f":"IF($A13=\"\",0,SUMIF(勘定入力!$D:$D,10&$A13,勘定入力!$K:$K))","v":0},{"$f":"IF($A13=\"\",0,SUMIF(勘定入力!$D:$D,11&$A13,勘定入力!$J:$J))","v":0},{"$f":"IF($A13=\"\",0,SUMIF(勘定入力!$D:$D,11&$A13,勘定入力!$K:$K))","v":0},{"$f":"IF($A13=\"\",0,SUMIF(勘定入力!$D:$D,12&$A13,勘定入力!$J:$J))","v":0},{"$f":"IF($A13=\"\",0,SUMIF(勘定入力!$D:$D,12&$A13,勘定入力!$K:$K))","v":0}]
[{"$f":"入力補助!C10","v":"電気工事"},0,6000,{"$f":"IF($A14=\"\",0,SUMIF(勘定入力!$D:$D,1&$A14,勘定入力!$J:$J))","v":0},{"$f":"IF($A14=\"\",0,SUMIF(勘定入力!$D:$D,1&$A14,勘定入力!$K:$K))","v":0},{"$f":"IF($A14=\"\",0,SUMIF(勘定入力!$D:$D,2&$A14,勘定入力!$J:$J))","v":0},{"$f":"IF($A14=\"\",0,SUMIF(勘定入力!$D:$D,2&$A14,勘定入力!$K:$K))","v":0},{"$f":"IF($A14=\"\",0,SUMIF(勘定入力!$D:$D,3&$A14,勘定入力!$J:$J))","v":0},{"$f":"IF($A14=\"\",0,SUMIF(勘定入力!$D:$D,3&$A14,勘定入力!$K:$K))","v":0},{"$f":"IF($A14=\"\",0,SUMIF(勘定入力!$D:$D,4&$A14,勘定入力!$J:$J))","v":0},{"$f":"IF($A14=\"\",0,SUMIF(勘定入力!$D:$D,4&$A14,勘定入力!$K:$K))","v":0},{"$f":"IF($A14=\"\",0,SUMIF(勘定入力!$D:$D,5&$A14,勘定入力!$J:$J))","v":0},{"$f":"IF($A14=\"\",0,SUMIF(勘定入力!$D:$D,5&$A14,勘定入力!$K:$K))","v":0},{"$f":"IF($A14=\"\",0,SUMIF(勘定入力!$D:$D,6&$A14,勘定入力!$J:$J))","v":0},{"$f":"IF($A14=\"\",0,SUMIF(勘定入力!$D:$D,6&$A14,勘定入力!$K:$K))","v":0},{"$f":"IF($A14=\"\",0,SUMIF(勘定入力!$D:$D,7&$A14,勘定入力!$J:$J))","v":0},{"$f":"IF($A14=\"\",0,SUMIF(勘定入力!$D:$D,7&$A14,勘定入力!$K:$K))","v":3000},{"$f":"IF($A14=\"\",0,SUMIF(勘定入力!$D:$D,8&$A14,勘定入力!$J:$J))","v":0},{"$f":"IF($A14=\"\",0,SUMIF(勘定入力!$D:$D,8&$A14,勘定入力!$K:$K))","v":3000},{"$f":"IF($A14=\"\",0,SUMIF(勘定入力!$D:$D,9&$A14,勘定入力!$J:$J))","v":0},{"$f":"IF($A14=\"\",0,SUMIF(勘定入力!$D:$D,9&$A14,勘定入力!$K:$K))","v":0},{"$f":"IF($A14=\"\",0,SUMIF(勘定入力!$D:$D,10&$A14,勘定入力!$J:$J))","v":0},{"$f":"IF($A14=\"\",0,SUMIF(勘定入力!$D:$D,10&$A14,勘定入力!$K:$K))","v":0},{"$f":"IF($A14=\"\",0,SUMIF(勘定入力!$D:$D,11&$A14,勘定入力!$J:$J))","v":0},{"$f":"IF($A14=\"\",0,SUMIF(勘定入力!$D:$D,11&$A14,勘定入力!$K:$K))","v":0},{"$f":"IF($A14=\"\",0,SUMIF(勘定入力!$D:$D,12&$A14,勘定入力!$J:$J))","v":0},{"$f":"IF($A14=\"\",0,SUMIF(勘定入力!$D:$D,12&$A14,勘定入力!$K:$K))","v":0}]
[{"$f":"入力補助!C11","v":"木工事"},0,4000,{"$f":"IF($A15=\"\",0,SUMIF(勘定入力!$D:$D,1&$A15,勘定入力!$J:$J))","v":0},{"$f":"IF($A15=\"\",0,SUMIF(勘定入力!$D:$D,1&$A15,勘定入力!$K:$K))","v":0},{"$f":"IF($A15=\"\",0,SUMIF(勘定入力!$D:$D,2&$A15,勘定入力!$J:$J))","v":0},{"$f":"IF($A15=\"\",0,SUMIF(勘定入力!$D:$D,2&$A15,勘定入力!$K:$K))","v":0},{"$f":"IF($A15=\"\",0,SUMIF(勘定入力!$D:$D,3&$A15,勘定入力!$J:$J))","v":0},{"$f":"IF($A15=\"\",0,SUMIF(勘定入力!$D:$D,3&$A15,勘定入力!$K:$K))","v":0},{"$f":"IF($A15=\"\",0,SUMIF(勘定入力!$D:$D,4&$A15,勘定入力!$J:$J))","v":0},{"$f":"IF($A15=\"\",0,SUMIF(勘定入力!$D:$D,4&$A15,勘定入力!$K:$K))","v":2000},{"$f":"IF($A15=\"\",0,SUMIF(勘定入力!$D:$D,5&$A15,勘定入力!$J:$J))","v":0},{"$f":"IF($A15=\"\",0,SUMIF(勘定入力!$D:$D,5&$A15,勘定入力!$K:$K))","v":2000},{"$f":"IF($A15=\"\",0,SUMIF(勘定入力!$D:$D,6&$A15,勘定入力!$J:$J))","v":0},{"$f":"IF($A15=\"\",0,SUMIF(勘定入力!$D:$D,6&$A15,勘定入力!$K:$K))","v":0},{"$f":"IF($A15=\"\",0,SUMIF(勘定入力!$D:$D,7&$A15,勘定入力!$J:$J))","v":0},{"$f":"IF($A15=\"\",0,SUMIF(勘定入力!$D:$D,7&$A15,勘定入力!$K:$K))","v":0},{"$f":"IF($A15=\"\",0,SUMIF(勘定入力!$D:$D,8&$A15,勘定入力!$J:$J))","v":0},{"$f":"IF($A15=\"\",0,SUMIF(勘定入力!$D:$D,8&$A15,勘定入力!$K:$K))","v":0},{"$f":"IF($A15=\"\",0,SUMIF(勘定入力!$D:$D,9&$A15,勘定入力!$J:$J))","v":0},{"$f":"IF($A15=\"\",0,SUMIF(勘定入力!$D:$D,9&$A15,勘定入力!$K:$K))","v":0},{"$f":"IF($A15=\"\",0,SUMIF(勘定入力!$D:$D,10&$A15,勘定入力!$J:$J))","v":0},{"$f":"IF($A15=\"\",0,SUMIF(勘定入力!$D:$D,10&$A15,勘定入力!$K:$K))","v":0},{"$f":"IF($A15=\"\",0,SUMIF(勘定入力!$D:$D,11&$A15,勘定入力!$J:$J))","v":0},{"$f":"IF($A15=\"\",0,SUMIF(勘定入力!$D:$D,11&$A15,勘定入力!$K:$K))","v":0},{"$f":"IF($A15=\"\",0,SUMIF(勘定入力!$D:$D,12&$A15,勘定入力!$J:$J))","v":0},{"$f":"IF($A15=\"\",0,SUMIF(勘定入力!$D:$D,12&$A15,勘定入力!$K:$K))","v":0}]
[{"$f":"入力補助!C12","v":"内装工事"},0,0,{"$f":"IF($A16=\"\",0,SUMIF(勘定入力!$D:$D,1&$A16,勘定入力!$J:$J))","v":0},{"$f":"IF($A16=\"\",0,SUMIF(勘定入力!$D:$D,1&$A16,勘定入力!$K:$K))","v":0},{"$f":"IF($A16=\"\",0,SUMIF(勘定入力!$D:$D,2&$A16,勘定入力!$J:$J))","v":0},{"$f":"IF($A16=\"\",0,SUMIF(勘定入力!$D:$D,2&$A16,勘定入力!$K:$K))","v":0},{"$f":"IF($A16=\"\",0,SUMIF(勘定入力!$D:$D,3&$A16,勘定入力!$J:$J))","v":0},{"$f":"IF($A16=\"\",0,SUMIF(勘定入力!$D:$D,3&$A16,勘定入力!$K:$K))","v":0},{"$f":"IF($A16=\"\",0,SUMIF(勘定入力!$D:$D,4&$A16,勘定入力!$J:$J))","v":0},{"$f":"IF($A16=\"\",0,SUMIF(勘定入力!$D:$D,4&$A16,勘定入力!$K:$K))","v":0},{"$f":"IF($A16=\"\",0,SUMIF(勘定入力!$D:$D,5&$A16,勘定入力!$J:$J))","v":0},{"$f":"IF($A16=\"\",0,SUMIF(勘定入力!$D:$D,5&$A16,勘定入力!$K:$K))","v":0},{"$f":"IF($A16=\"\",0,SUMIF(勘定入力!$D:$D,6&$A16,勘定入力!$J:$J))","v":0},{"$f":"IF($A16=\"\",0,SUMIF(勘定入力!$D:$D,6&$A16,勘定入力!$K:$K))","v":0},{"$f":"IF($A16=\"\",0,SUMIF(勘定入力!$D:$D,7&$A16,勘定入力!$J:$J))","v":0},{"$f":"IF($A16=\"\",0,SUMIF(勘定入力!$D:$D,7&$A16,勘定入力!$K:$K))","v":0},{"$f":"IF($A16=\"\",0,SUMIF(勘定入力!$D:$D,8&$A16,勘定入力!$J:$J))","v":0},{"$f":"IF($A16=\"\",0,SUMIF(勘定入力!$D:$D,8&$A16,勘定入力!$K:$K))","v":0},{"$f":"IF($A16=\"\",0,SUMIF(勘定入力!$D:$D,9&$A16,勘定入力!$J:$J))","v":0},{"$f":"IF($A16=\"\",0,SUMIF(勘定入力!$D:$D,9&$A16,勘定入力!$K:$K))","v":0},{"$f":"IF($A16=\"\",0,SUMIF(勘定入力!$D:$D,10&$A16,勘定入力!$J:$J))","v":0},{"$f":"IF($A16=\"\",0,SUMIF(勘定入力!$D:$D,10&$A16,勘定入力!$K:$K))","v":0},{"$f":"IF($A16=\"\",0,SUMIF(勘定入力!$D:$D,11&$A16,勘定入力!$J:$J))","v":0},{"$f":"IF($A16=\"\",0,SUMIF(勘定入力!$D:$D,11&$A16,勘定入力!$K:$K))","v":0},{"$f":"IF($A16=\"\",0,SUMIF(勘定入力!$D:$D,12&$A16,勘定入力!$J:$J))","v":0},{"$f":"IF($A16=\"\",0,SUMIF(勘定入力!$D:$D,12&$A16,勘定入力!$K:$K))","v":0}]
[{"$f":"入力補助!C13","v":"住宅設備工事"},0,0,{"$f":"IF($A17=\"\",0,SUMIF(勘定入力!$D:$D,1&$A17,勘定入力!$J:$J))","v":0},{"$f":"IF($A17=\"\",0,SUMIF(勘定入力!$D:$D,1&$A17,勘定入力!$K:$K))","v":0},{"$f":"IF($A17=\"\",0,SUMIF(勘定入力!$D:$D,2&$A17,勘定入力!$J:$J))","v":0},{"$f":"IF($A17=\"\",0,SUMIF(勘定入力!$D:$D,2&$A17,勘定入力!$K:$K))","v":0},{"$f":"IF($A17=\"\",0,SUMIF(勘定入力!$D:$D,3&$A17,勘定入力!$J:$J))","v":0},{"$f":"IF($A17=\"\",0,SUMIF(勘定入力!$D:$D,3&$A17,勘定入力!$K:$K))","v":0},{"$f":"IF($A17=\"\",0,SUMIF(勘定入力!$D:$D,4&$A17,勘定入力!$J:$J))","v":0},{"$f":"IF($A17=\"\",0,SUMIF(勘定入力!$D:$D,4&$A17,勘定入力!$K:$K))","v":0},{"$f":"IF($A17=\"\",0,SUMIF(勘定入力!$D:$D,5&$A17,勘定入力!$J:$J))","v":0},{"$f":"IF($A17=\"\",0,SUMIF(勘定入力!$D:$D,5&$A17,勘定入力!$K:$K))","v":0},{"$f":"IF($A17=\"\",0,SUMIF(勘定入力!$D:$D,6&$A17,勘定入力!$J:$J))","v":0},{"$f":"IF($A17=\"\",0,SUMIF(勘定入力!$D:$D,6&$A17,勘定入力!$K:$K))","v":0},{"$f":"IF($A17=\"\",0,SUMIF(勘定入力!$D:$D,7&$A17,勘定入力!$J:$J))","v":0},{"$f":"IF($A17=\"\",0,SUMIF(勘定入力!$D:$D,7&$A17,勘定入力!$K:$K))","v":0},{"$f":"IF($A17=\"\",0,SUMIF(勘定入力!$D:$D,8&$A17,勘定入力!$J:$J))","v":0},{"$f":"IF($A17=\"\",0,SUMIF(勘定入力!$D:$D,8&$A17,勘定入力!$K:$K))","v":0},{"$f":"IF($A17=\"\",0,SUMIF(勘定入力!$D:$D,9&$A17,勘定入力!$J:$J))","v":0},{"$f":"IF($A17=\"\",0,SUMIF(勘定入力!$D:$D,9&$A17,勘定入力!$K:$K))","v":0},{"$f":"IF($A17=\"\",0,SUMIF(勘定入力!$D:$D,10&$A17,勘定入力!$J:$J))","v":0},{"$f":"IF($A17=\"\",0,SUMIF(勘定入力!$D:$D,10&$A17,勘定入力!$K:$K))","v":0},{"$f":"IF($A17=\"\",0,SUMIF(勘定入力!$D:$D,11&$A17,勘定入力!$J:$J))","v":0},{"$f":"IF($A17=\"\",0,SUMIF(勘定入力!$D:$D,11&$A17,勘定入力!$K:$K))","v":0},{"$f":"IF($A17=\"\",0,SUMIF(勘定入力!$D:$D,12&$A17,勘定入力!$J:$J))","v":0},{"$f":"IF($A17=\"\",0,SUMIF(勘定入力!$D:$D,12&$A17,勘定入力!$K:$K))","v":0}]
[{"$f":"入力補助!C14","v":"サッシ工事"},0,0,{"$f":"IF($A18=\"\",0,SUMIF(勘定入力!$D:$D,1&$A18,勘定入力!$J:$J))","v":0},{"$f":"IF($A18=\"\",0,SUMIF(勘定入力!$D:$D,1&$A18,勘定入力!$K:$K))","v":0},{"$f":"IF($A18=\"\",0,SUMIF(勘定入力!$D:$D,2&$A18,勘定入力!$J:$J))","v":0},{"$f":"IF($A18=\"\",0,SUMIF(勘定入力!$D:$D,2&$A18,勘定入力!$K:$K))","v":0},{"$f":"IF($A18=\"\",0,SUMIF(勘定入力!$D:$D,3&$A18,勘定入力!$J:$J))","v":0},{"$f":"IF($A18=\"\",0,SUMIF(勘定入力!$D:$D,3&$A18,勘定入力!$K:$K))","v":0},{"$f":"IF($A18=\"\",0,SUMIF(勘定入力!$D:$D,4&$A18,勘定入力!$J:$J))","v":0},{"$f":"IF($A18=\"\",0,SUMIF(勘定入力!$D:$D,4&$A18,勘定入力!$K:$K))","v":0},{"$f":"IF($A18=\"\",0,SUMIF(勘定入力!$D:$D,5&$A18,勘定入力!$J:$J))","v":0},{"$f":"IF($A18=\"\",0,SUMIF(勘定入力!$D:$D,5&$A18,勘定入力!$K:$K))","v":0},{"$f":"IF($A18=\"\",0,SUMIF(勘定入力!$D:$D,6&$A18,勘定入力!$J:$J))","v":0},{"$f":"IF($A18=\"\",0,SUMIF(勘定入力!$D:$D,6&$A18,勘定入力!$K:$K))","v":0},{"$f":"IF($A18=\"\",0,SUMIF(勘定入力!$D:$D,7&$A18,勘定入力!$J:$J))","v":0},{"$f":"IF($A18=\"\",0,SUMIF(勘定入力!$D:$D,7&$A18,勘定入力!$K:$K))","v":0},{"$f":"IF($A18=\"\",0,SUMIF(勘定入力!$D:$D,8&$A18,勘定入力!$J:$J))","v":0},{"$f":"IF($A18=\"\",0,SUMIF(勘定入力!$D:$D,8&$A18,勘定入力!$K:$K))","v":0},{"$f":"IF($A18=\"\",0,SUMIF(勘定入力!$D:$D,9&$A18,勘定入力!$J:$J))","v":0},{"$f":"IF($A18=\"\",0,SUMIF(勘定入力!$D:$D,9&$A18,勘定入力!$K:$K))","v":0},{"$f":"IF($A18=\"\",0,SUMIF(勘定入力!$D:$D,10&$A18,勘定入力!$J:$J))","v":0},{"$f":"IF($A18=\"\",0,SUMIF(勘定入力!$D:$D,10&$A18,勘定入力!$K:$K))","v":0},{"$f":"IF($A18=\"\",0,SUMIF(勘定入力!$D:$D,11&$A18,勘定入力!$J:$J))","v":0},{"$f":"IF($A18=\"\",0,SUMIF(勘定入力!$D:$D,11&$A18,勘定入力!$K:$K))","v":0},{"$f":"IF($A18=\"\",0,SUMIF(勘定入力!$D:$D,12&$A18,勘定入力!$J:$J))","v":0},{"$f":"IF($A18=\"\",0,SUMIF(勘定入力!$D:$D,12&$A18,勘定入力!$K:$K))","v":0}]
[{"$f":"入力補助!C15","v":"衛生設備工事"},0,0,{"$f":"IF($A19=\"\",0,SUMIF(勘定入力!$D:$D,1&$A19,勘定入力!$J:$J))","v":0},{"$f":"IF($A19=\"\",0,SUMIF(勘定入力!$D:$D,1&$A19,勘定入力!$K:$K))","v":0},{"$f":"IF($A19=\"\",0,SUMIF(勘定入力!$D:$D,2&$A19,勘定入力!$J:$J))","v":0},{"$f":"IF($A19=\"\",0,SUMIF(勘定入力!$D:$D,2&$A19,勘定入力!$K:$K))","v":0},{"$f":"IF($A19=\"\",0,SUMIF(勘定入力!$D:$D,3&$A19,勘定入力!$J:$J))","v":0},{"$f":"IF($A19=\"\",0,SUMIF(勘定入力!$D:$D,3&$A19,勘定入力!$K:$K))","v":0},{"$f":"IF($A19=\"\",0,SUMIF(勘定入力!$D:$D,4&$A19,勘定入力!$J:$J))","v":0},{"$f":"IF($A19=\"\",0,SUMIF(勘定入力!$D:$D,4&$A19,勘定入力!$K:$K))","v":0},{"$f":"IF($A19=\"\",0,SUMIF(勘定入力!$D:$D,5&$A19,勘定入力!$J:$J))","v":0},{"$f":"IF($A19=\"\",0,SUMIF(勘定入力!$D:$D,5&$A19,勘定入力!$K:$K))","v":0},{"$f":"IF($A19=\"\",0,SUMIF(勘定入力!$D:$D,6&$A19,勘定入力!$J:$J))","v":0},{"$f":"IF($A19=\"\",0,SUMIF(勘定入力!$D:$D,6&$A19,勘定入力!$K:$K))","v":0},{"$f":"IF($A19=\"\",0,SUMIF(勘定入力!$D:$D,7&$A19,勘定入力!$J:$J))","v":0},{"$f":"IF($A19=\"\",0,SUMIF(勘定入力!$D:$D,7&$A19,勘定入力!$K:$K))","v":0},{"$f":"IF($A19=\"\",0,SUMIF(勘定入力!$D:$D,8&$A19,勘定入力!$J:$J))","v":0},{"$f":"IF($A19=\"\",0,SUMIF(勘定入力!$D:$D,8&$A19,勘定入力!$K:$K))","v":0},{"$f":"IF($A19=\"\",0,SUMIF(勘定入力!$D:$D,9&$A19,勘定入力!$J:$J))","v":0},{"$f":"IF($A19=\"\",0,SUMIF(勘定入力!$D:$D,9&$A19,勘定入力!$K:$K))","v":0},{"$f":"IF($A19=\"\",0,SUMIF(勘定入力!$D:$D,10&$A19,勘定入力!$J:$J))","v":0},{"$f":"IF($A19=\"\",0,SUMIF(勘定入力!$D:$D,10&$A19,勘定入力!$K:$K))","v":0},{"$f":"IF($A19=\"\",0,SUMIF(勘定入力!$D:$D,11&$A19,勘定入力!$J:$J))","v":0},{"$f":"IF($A19=\"\",0,SUMIF(勘定入力!$D:$D,11&$A19,勘定入力!$K:$K))","v":0},{"$f":"IF($A19=\"\",0,SUMIF(勘定入力!$D:$D,12&$A19,勘定入力!$J:$J))","v":0},{"$f":"IF($A19=\"\",0,SUMIF(勘定入力!$D:$D,12&$A19,勘定入力!$K:$K))","v":0}]
[{"$f":"入力補助!C16","v":"内部建具工事"},0,0,{"$f":"IF($A20=\"\",0,SUMIF(勘定入力!$D:$D,1&$A20,勘定入力!$J:$J))","v":0},{"$f":"IF($A20=\"\",0,SUMIF(勘定入力!$D:$D,1&$A20,勘定入力!$K:$K))","v":0},{"$f":"IF($A20=\"\",0,SUMIF(勘定入力!$D:$D,2&$A20,勘定入力!$J:$J))","v":0},{"$f":"IF($A20=\"\",0,SUMIF(勘定入力!$D:$D,2&$A20,勘定入力!$K:$K))","v":0},{"$f":"IF($A20=\"\",0,SUMIF(勘定入力!$D:$D,3&$A20,勘定入力!$J:$J))","v":0},{"$f":"IF($A20=\"\",0,SUMIF(勘定入力!$D:$D,3&$A20,勘定入力!$K:$K))","v":0},{"$f":"IF($A20=\"\",0,SUMIF(勘定入力!$D:$D,4&$A20,勘定入力!$J:$J))","v":0},{"$f":"IF($A20=\"\",0,SUMIF(勘定入力!$D:$D,4&$A20,勘定入力!$K:$K))","v":0},{"$f":"IF($A20=\"\",0,SUMIF(勘定入力!$D:$D,5&$A20,勘定入力!$J:$J))","v":0},{"$f":"IF($A20=\"\",0,SUMIF(勘定入力!$D:$D,5&$A20,勘定入力!$K:$K))","v":0},{"$f":"IF($A20=\"\",0,SUMIF(勘定入力!$D:$D,6&$A20,勘定入力!$J:$J))","v":0},{"$f":"IF($A20=\"\",0,SUMIF(勘定入力!$D:$D,6&$A20,勘定入力!$K:$K))","v":0},{"$f":"IF($A20=\"\",0,SUMIF(勘定入力!$D:$D,7&$A20,勘定入力!$J:$J))","v":0},{"$f":"IF($A20=\"\",0,SUMIF(勘定入力!$D:$D,7&$A20,勘定入力!$K:$K))","v":0},{"$f":"IF($A20=\"\",0,SUMIF(勘定入力!$D:$D,8&$A20,勘定入力!$J:$J))","v":0},{"$f":"IF($A20=\"\",0,SUMIF(勘定入力!$D:$D,8&$A20,勘定入力!$K:$K))","v":0},{"$f":"IF($A20=\"\",0,SUMIF(勘定入力!$D:$D,9&$A20,勘定入力!$J:$J))","v":0},{"$f":"IF($A20=\"\",0,SUMIF(勘定入力!$D:$D,9&$A20,勘定入力!$K:$K))","v":0},{"$f":"IF($A20=\"\",0,SUMIF(勘定入力!$D:$D,10&$A20,勘定入力!$J:$J))","v":0},{"$f":"IF($A20=\"\",0,SUMIF(勘定入力!$D:$D,10&$A20,勘定入力!$K:$K))","v":0},{"$f":"IF($A20=\"\",0,SUMIF(勘定入力!$D:$D,11&$A20,勘定入力!$J:$J))","v":0},{"$f":"IF($A20=\"\",0,SUMIF(勘定入力!$D:$D,11&$A20,勘定入力!$K:$K))","v":0},{"$f":"IF($A20=\"\",0,SUMIF(勘定入力!$D:$D,12&$A20,勘定入力!$J:$J))","v":0},{"$f":"IF($A20=\"\",0,SUMIF(勘定入力!$D:$D,12&$A20,勘定入力!$K:$K))","v":0}]
[{"$f":"入力補助!C17","v":"板金工事"},0,0,{"$f":"IF($A21=\"\",0,SUMIF(勘定入力!$D:$D,1&$A21,勘定入力!$J:$J))","v":0},{"$f":"IF($A21=\"\",0,SUMIF(勘定入力!$D:$D,1&$A21,勘定入力!$K:$K))","v":0},{"$f":"IF($A21=\"\",0,SUMIF(勘定入力!$D:$D,2&$A21,勘定入力!$J:$J))","v":0},{"$f":"IF($A21=\"\",0,SUMIF(勘定入力!$D:$D,2&$A21,勘定入力!$K:$K))","v":0},{"$f":"IF($A21=\"\",0,SUMIF(勘定入力!$D:$D,3&$A21,勘定入力!$J:$J))","v":0},{"$f":"IF($A21=\"\",0,SUMIF(勘定入力!$D:$D,3&$A21,勘定入力!$K:$K))","v":0},{"$f":"IF($A21=\"\",0,SUMIF(勘定入力!$D:$D,4&$A21,勘定入力!$J:$J))","v":0},{"$f":"IF($A21=\"\",0,SUMIF(勘定入力!$D:$D,4&$A21,勘定入力!$K:$K))","v":0},{"$f":"IF($A21=\"\",0,SUMIF(勘定入力!$D:$D,5&$A21,勘定入力!$J:$J))","v":0},{"$f":"IF($A21=\"\",0,SUMIF(勘定入力!$D:$D,5&$A21,勘定入力!$K:$K))","v":0},{"$f":"IF($A21=\"\",0,SUMIF(勘定入力!$D:$D,6&$A21,勘定入力!$J:$J))","v":0},{"$f":"IF($A21=\"\",0,SUMIF(勘定入力!$D:$D,6&$A21,勘定入力!$K:$K))","v":0},{"$f":"IF($A21=\"\",0,SUMIF(勘定入力!$D:$D,7&$A21,勘定入力!$J:$J))","v":0},{"$f":"IF($A21=\"\",0,SUMIF(勘定入力!$D:$D,7&$A21,勘定入力!$K:$K))","v":0},{"$f":"IF($A21=\"\",0,SUMIF(勘定入力!$D:$D,8&$A21,勘定入力!$J:$J))","v":0},{"$f":"IF($A21=\"\",0,SUMIF(勘定入力!$D:$D,8&$A21,勘定入力!$K:$K))","v":0},{"$f":"IF($A21=\"\",0,SUMIF(勘定入力!$D:$D,9&$A21,勘定入力!$J:$J))","v":0},{"$f":"IF($A21=\"\",0,SUMIF(勘定入力!$D:$D,9&$A21,勘定入力!$K:$K))","v":0},{"$f":"IF($A21=\"\",0,SUMIF(勘定入力!$D:$D,10&$A21,勘定入力!$J:$J))","v":0},{"$f":"IF($A21=\"\",0,SUMIF(勘定入力!$D:$D,10&$A21,勘定入力!$K:$K))","v":0},{"$f":"IF($A21=\"\",0,SUMIF(勘定入力!$D:$D,11&$A21,勘定入力!$J:$J))","v":0},{"$f":"IF($A21=\"\",0,SUMIF(勘定入力!$D:$D,11&$A21,勘定入力!$K:$K))","v":0},{"$f":"IF($A21=\"\",0,SUMIF(勘定入力!$D:$D,12&$A21,勘定入力!$J:$J))","v":0},{"$f":"IF($A21=\"\",0,SUMIF(勘定入力!$D:$D,12&$A21,勘定入力!$K:$K))","v":0}]
[{"$f":"入力補助!C18","v":"付帯工事"},0,0,{"$f":"IF($A22=\"\",0,SUMIF(勘定入力!$D:$D,1&$A22,勘定入力!$J:$J))","v":0},{"$f":"IF($A22=\"\",0,SUMIF(勘定入力!$D:$D,1&$A22,勘定入力!$K:$K))","v":0},{"$f":"IF($A22=\"\",0,SUMIF(勘定入力!$D:$D,2&$A22,勘定入力!$J:$J))","v":0},{"$f":"IF($A22=\"\",0,SUMIF(勘定入力!$D:$D,2&$A22,勘定入力!$K:$K))","v":0},{"$f":"IF($A22=\"\",0,SUMIF(勘定入力!$D:$D,3&$A22,勘定入力!$J:$J))","v":0},{"$f":"IF($A22=\"\",0,SUMIF(勘定入力!$D:$D,3&$A22,勘定入力!$K:$K))","v":0},{"$f":"IF($A22=\"\",0,SUMIF(勘定入力!$D:$D,4&$A22,勘定入力!$J:$J))","v":0},{"$f":"IF($A22=\"\",0,SUMIF(勘定入力!$D:$D,4&$A22,勘定入力!$K:$K))","v":0},{"$f":"IF($A22=\"\",0,SUMIF(勘定入力!$D:$D,5&$A22,勘定入力!$J:$J))","v":0},{"$f":"IF($A22=\"\",0,SUMIF(勘定入力!$D:$D,5&$A22,勘定入力!$K:$K))","v":0},{"$f":"IF($A22=\"\",0,SUMIF(勘定入力!$D:$D,6&$A22,勘定入力!$J:$J))","v":0},{"$f":"IF($A22=\"\",0,SUMIF(勘定入力!$D:$D,6&$A22,勘定入力!$K:$K))","v":0},{"$f":"IF($A22=\"\",0,SUMIF(勘定入力!$D:$D,7&$A22,勘定入力!$J:$J))","v":0},{"$f":"IF($A22=\"\",0,SUMIF(勘定入力!$D:$D,7&$A22,勘定入力!$K:$K))","v":0},{"$f":"IF($A22=\"\",0,SUMIF(勘定入力!$D:$D,8&$A22,勘定入力!$J:$J))","v":0},{"$f":"IF($A22=\"\",0,SUMIF(勘定入力!$D:$D,8&$A22,勘定入力!$K:$K))","v":0},{"$f":"IF($A22=\"\",0,SUMIF(勘定入力!$D:$D,9&$A22,勘定入力!$J:$J))","v":0},{"$f":"IF($A22=\"\",0,SUMIF(勘定入力!$D:$D,9&$A22,勘定入力!$K:$K))","v":0},{"$f":"IF($A22=\"\",0,SUMIF(勘定入力!$D:$D,10&$A22,勘定入力!$J:$J))","v":0},{"$f":"IF($A22=\"\",0,SUMIF(勘定入力!$D:$D,10&$A22,勘定入力!$K:$K))","v":0},{"$f":"IF($A22=\"\",0,SUMIF(勘定入力!$D:$D,11&$A22,勘定入力!$J:$J))","v":0},{"$f":"IF($A22=\"\",0,SUMIF(勘定入力!$D:$D,11&$A22,勘定入力!$K:$K))","v":0},{"$f":"IF($A22=\"\",0,SUMIF(勘定入力!$D:$D,12&$A22,勘定入力!$J:$J))","v":0},{"$f":"IF($A22=\"\",0,SUMIF(勘定入力!$D:$D,12&$A22,勘定入力!$K:$K))","v":0}]
[{"$f":"入力補助!C19","v":"仮設工事"},0,0,{"$f":"IF($A23=\"\",0,SUMIF(勘定入力!$D:$D,1&$A23,勘定入力!$J:$J))","v":0},{"$f":"IF($A23=\"\",0,SUMIF(勘定入力!$D:$D,1&$A23,勘定入力!$K:$K))","v":0},{"$f":"IF($A23=\"\",0,SUMIF(勘定入力!$D:$D,2&$A23,勘定入力!$J:$J))","v":0},{"$f":"IF($A23=\"\",0,SUMIF(勘定入力!$D:$D,2&$A23,勘定入力!$K:$K))","v":0},{"$f":"IF($A23=\"\",0,SUMIF(勘定入力!$D:$D,3&$A23,勘定入力!$J:$J))","v":0},{"$f":"IF($A23=\"\",0,SUMIF(勘定入力!$D:$D,3&$A23,勘定入力!$K:$K))","v":0},{"$f":"IF($A23=\"\",0,SUMIF(勘定入力!$D:$D,4&$A23,勘定入力!$J:$J))","v":0},{"$f":"IF($A23=\"\",0,SUMIF(勘定入力!$D:$D,4&$A23,勘定入力!$K:$K))","v":0},{"$f":"IF($A23=\"\",0,SUMIF(勘定入力!$D:$D,5&$A23,勘定入力!$J:$J))","v":0},{"$f":"IF($A23=\"\",0,SUMIF(勘定入力!$D:$D,5&$A23,勘定入力!$K:$K))","v":0},{"$f":"IF($A23=\"\",0,SUMIF(勘定入力!$D:$D,6&$A23,勘定入力!$J:$J))","v":0},{"$f":"IF($A23=\"\",0,SUMIF(勘定入力!$D:$D,6&$A23,勘定入力!$K:$K))","v":0},{"$f":"IF($A23=\"\",0,SUMIF(勘定入力!$D:$D,7&$A23,勘定入力!$J:$J))","v":0},{"$f":"IF($A23=\"\",0,SUMIF(勘定入力!$D:$D,7&$A23,勘定入力!$K:$K))","v":0},{"$f":"IF($A23=\"\",0,SUMIF(勘定入力!$D:$D,8&$A23,勘定入力!$J:$J))","v":0},{"$f":"IF($A23=\"\",0,SUMIF(勘定入力!$D:$D,8&$A23,勘定入力!$K:$K))","v":0},{"$f":"IF($A23=\"\",0,SUMIF(勘定入力!$D:$D,9&$A23,勘定入力!$J:$J))","v":0},{"$f":"IF($A23=\"\",0,SUMIF(勘定入力!$D:$D,9&$A23,勘定入力!$K:$K))","v":0},{"$f":"IF($A23=\"\",0,SUMIF(勘定入力!$D:$D,10&$A23,勘定入力!$J:$J))","v":0},{"$f":"IF($A23=\"\",0,SUMIF(勘定入力!$D:$D,10&$A23,勘定入力!$K:$K))","v":0},{"$f":"IF($A23=\"\",0,SUMIF(勘定入力!$D:$D,11&$A23,勘定入力!$J:$J))","v":0},{"$f":"IF($A23=\"\",0,SUMIF(勘定入力!$D:$D,11&$A23,勘定入力!$K:$K))","v":0},{"$f":"IF($A23=\"\",0,SUMIF(勘定入力!$D:$D,12&$A23,勘定入力!$J:$J))","v":0},{"$f":"IF($A23=\"\",0,SUMIF(勘定入力!$D:$D,12&$A23,勘定入力!$K:$K))","v":0}]
[{"$f":"入力補助!C20","v":"申請手続き"},0,0,{"$f":"IF($A24=\"\",0,SUMIF(勘定入力!$D:$D,1&$A24,勘定入力!$J:$J))","v":0},{"$f":"IF($A24=\"\",0,SUMIF(勘定入力!$D:$D,1&$A24,勘定入力!$K:$K))","v":0},{"$f":"IF($A24=\"\",0,SUMIF(勘定入力!$D:$D,2&$A24,勘定入力!$J:$J))","v":0},{"$f":"IF($A24=\"\",0,SUMIF(勘定入力!$D:$D,2&$A24,勘定入力!$K:$K))","v":0},{"$f":"IF($A24=\"\",0,SUMIF(勘定入力!$D:$D,3&$A24,勘定入力!$J:$J))","v":0},{"$f":"IF($A24=\"\",0,SUMIF(勘定入力!$D:$D,3&$A24,勘定入力!$K:$K))","v":0},{"$f":"IF($A24=\"\",0,SUMIF(勘定入力!$D:$D,4&$A24,勘定入力!$J:$J))","v":0},{"$f":"IF($A24=\"\",0,SUMIF(勘定入力!$D:$D,4&$A24,勘定入力!$K:$K))","v":0},{"$f":"IF($A24=\"\",0,SUMIF(勘定入力!$D:$D,5&$A24,勘定入力!$J:$J))","v":0},{"$f":"IF($A24=\"\",0,SUMIF(勘定入力!$D:$D,5&$A24,勘定入力!$K:$K))","v":0},{"$f":"IF($A24=\"\",0,SUMIF(勘定入力!$D:$D,6&$A24,勘定入力!$J:$J))","v":0},{"$f":"IF($A24=\"\",0,SUMIF(勘定入力!$D:$D,6&$A24,勘定入力!$K:$K))","v":0},{"$f":"IF($A24=\"\",0,SUMIF(勘定入力!$D:$D,7&$A24,勘定入力!$J:$J))","v":0},{"$f":"IF($A24=\"\",0,SUMIF(勘定入力!$D:$D,7&$A24,勘定入力!$K:$K))","v":0},{"$f":"IF($A24=\"\",0,SUMIF(勘定入力!$D:$D,8&$A24,勘定入力!$J:$J))","v":0},{"$f":"IF($A24=\"\",0,SUMIF(勘定入力!$D:$D,8&$A24,勘定入力!$K:$K))","v":0},{"$f":"IF($A24=\"\",0,SUMIF(勘定入力!$D:$D,9&$A24,勘定入力!$J:$J))","v":0},{"$f":"IF($A24=\"\",0,SUMIF(勘定入力!$D:$D,9&$A24,勘定入力!$K:$K))","v":0},{"$f":"IF($A24=\"\",0,SUMIF(勘定入力!$D:$D,10&$A24,勘定入力!$J:$J))","v":0},{"$f":"IF($A24=\"\",0,SUMIF(勘定入力!$D:$D,10&$A24,勘定入力!$K:$K))","v":0},{"$f":"IF($A24=\"\",0,SUMIF(勘定入力!$D:$D,11&$A24,勘定入力!$J:$J))","v":0},{"$f":"IF($A24=\"\",0,SUMIF(勘定入力!$D:$D,11&$A24,勘定入力!$K:$K))","v":0},{"$f":"IF($A24=\"\",0,SUMIF(勘定入力!$D:$D,12&$A24,勘定入力!$J:$J))","v":0},{"$f":"IF($A24=\"\",0,SUMIF(勘定入力!$D:$D,12&$A24,勘定入力!$K:$K))","v":0}]
[{"$f":"入力補助!C21","v":"諸費用"},0,0,{"$f":"IF($A25=\"\",0,SUMIF(勘定入力!$D:$D,1&$A25,勘定入力!$J:$J))","v":0},{"$f":"IF($A25=\"\",0,SUMIF(勘定入力!$D:$D,1&$A25,勘定入力!$K:$K))","v":0},{"$f":"IF($A25=\"\",0,SUMIF(勘定入力!$D:$D,2&$A25,勘定入力!$J:$J))","v":0},{"$f":"IF($A25=\"\",0,SUMIF(勘定入力!$D:$D,2&$A25,勘定入力!$K:$K))","v":0},{"$f":"IF($A25=\"\",0,SUMIF(勘定入力!$D:$D,3&$A25,勘定入力!$J:$J))","v":0},{"$f":"IF($A25=\"\",0,SUMIF(勘定入力!$D:$D,3&$A25,勘定入力!$K:$K))","v":0},{"$f":"IF($A25=\"\",0,SUMIF(勘定入力!$D:$D,4&$A25,勘定入力!$J:$J))","v":0},{"$f":"IF($A25=\"\",0,SUMIF(勘定入力!$D:$D,4&$A25,勘定入力!$K:$K))","v":0},{"$f":"IF($A25=\"\",0,SUMIF(勘定入力!$D:$D,5&$A25,勘定入力!$J:$J))","v":0},{"$f":"IF($A25=\"\",0,SUMIF(勘定入力!$D:$D,5&$A25,勘定入力!$K:$K))","v":0},{"$f":"IF($A25=\"\",0,SUMIF(勘定入力!$D:$D,6&$A25,勘定入力!$J:$J))","v":0},{"$f":"IF($A25=\"\",0,SUMIF(勘定入力!$D:$D,6&$A25,勘定入力!$K:$K))","v":0},{"$f":"IF($A25=\"\",0,SUMIF(勘定入力!$D:$D,7&$A25,勘定入力!$J:$J))","v":0},{"$f":"IF($A25=\"\",0,SUMIF(勘定入力!$D:$D,7&$A25,勘定入力!$K:$K))","v":0},{"$f":"IF($A25=\"\",0,SUMIF(勘定入力!$D:$D,8&$A25,勘定入力!$J:$J))","v":0},{"$f":"IF($A25=\"\",0,SUMIF(勘定入力!$D:$D,8&$A25,勘定入力!$K:$K))","v":0},{"$f":"IF($A25=\"\",0,SUMIF(勘定入力!$D:$D,9&$A25,勘定入力!$J:$J))","v":0},{"$f":"IF($A25=\"\",0,SUMIF(勘定入力!$D:$D,9&$A25,勘定入力!$K:$K))","v":0},{"$f":"IF($A25=\"\",0,SUMIF(勘定入力!$D:$D,10&$A25,勘定入力!$J:$J))","v":0},{"$f":"IF($A25=\"\",0,SUMIF(勘定入力!$D:$D,10&$A25,勘定入力!$K:$K))","v":0},{"$f":"IF($A25=\"\",0,SUMIF(勘定入力!$D:$D,11&$A25,勘定入力!$J:$J))","v":0},{"$f":"IF($A25=\"\",0,SUMIF(勘定入力!$D:$D,11&$A25,勘定入力!$K:$K))","v":0},{"$f":"IF($A25=\"\",0,SUMIF(勘定入力!$D:$D,12&$A25,勘定入力!$J:$J))","v":0},{"$f":"IF($A25=\"\",0,SUMIF(勘定入力!$D:$D,12&$A25,勘定入力!$K:$K))","v":0}]
[{"$f":"入力補助!C22","v":0},0,0,{"$f":"IF($A26=\"\",0,SUMIF(勘定入力!$D:$D,1&$A26,勘定入力!$J:$J))","v":0},{"$f":"IF($A26=\"\",0,SUMIF(勘定入力!$D:$D,1&$A26,勘定入力!$K:$K))","v":0},{"$f":"IF($A26=\"\",0,SUMIF(勘定入力!$D:$D,2&$A26,勘定入力!$J:$J))","v":0},{"$f":"IF($A26=\"\",0,SUMIF(勘定入力!$D:$D,2&$A26,勘定入力!$K:$K))","v":0},{"$f":"IF($A26=\"\",0,SUMIF(勘定入力!$D:$D,3&$A26,勘定入力!$J:$J))","v":0},{"$f":"IF($A26=\"\",0,SUMIF(勘定入力!$D:$D,3&$A26,勘定入力!$K:$K))","v":0},{"$f":"IF($A26=\"\",0,SUMIF(勘定入力!$D:$D,4&$A26,勘定入力!$J:$J))","v":0},{"$f":"IF($A26=\"\",0,SUMIF(勘定入力!$D:$D,4&$A26,勘定入力!$K:$K))","v":0},{"$f":"IF($A26=\"\",0,SUMIF(勘定入力!$D:$D,5&$A26,勘定入力!$J:$J))","v":0},{"$f":"IF($A26=\"\",0,SUMIF(勘定入力!$D:$D,5&$A26,勘定入力!$K:$K))","v":0},{"$f":"IF($A26=\"\",0,SUMIF(勘定入力!$D:$D,6&$A26,勘定入力!$J:$J))","v":0},{"$f":"IF($A26=\"\",0,SUMIF(勘定入力!$D:$D,6&$A26,勘定入力!$K:$K))","v":0},{"$f":"IF($A26=\"\",0,SUMIF(勘定入力!$D:$D,7&$A26,勘定入力!$J:$J))","v":0},{"$f":"IF($A26=\"\",0,SUMIF(勘定入力!$D:$D,7&$A26,勘定入力!$K:$K))","v":0},{"$f":"IF($A26=\"\",0,SUMIF(勘定入力!$D:$D,8&$A26,勘定入力!$J:$J))","v":0},{"$f":"IF($A26=\"\",0,SUMIF(勘定入力!$D:$D,8&$A26,勘定入力!$K:$K))","v":0},{"$f":"IF($A26=\"\",0,SUMIF(勘定入力!$D:$D,9&$A26,勘定入力!$J:$J))","v":0},{"$f":"IF($A26=\"\",0,SUMIF(勘定入力!$D:$D,9&$A26,勘定入力!$K:$K))","v":0},{"$f":"IF($A26=\"\",0,SUMIF(勘定入力!$D:$D,10&$A26,勘定入力!$J:$J))","v":0},{"$f":"IF($A26=\"\",0,SUMIF(勘定入力!$D:$D,10&$A26,勘定入力!$K:$K))","v":0},{"$f":"IF($A26=\"\",0,SUMIF(勘定入力!$D:$D,11&$A26,勘定入力!$J:$J))","v":0},{"$f":"IF($A26=\"\",0,SUMIF(勘定入力!$D:$D,11&$A26,勘定入力!$K:$K))","v":0},{"$f":"IF($A26=\"\",0,SUMIF(勘定入力!$D:$D,12&$A26,勘定入力!$J:$J))","v":0},{"$f":"IF($A26=\"\",0,SUMIF(勘定入力!$D:$D,12&$A26,勘定入力!$K:$K))","v":0}]
[{"$f":"入力補助!C23","v":"-----"},0,0,{"$f":"IF($A27=\"\",0,SUMIF(勘定入力!$D:$D,1&$A27,勘定入力!$J:$J))","v":0},{"$f":"IF($A27=\"\",0,SUMIF(勘定入力!$D:$D,1&$A27,勘定入力!$K:$K))","v":0},{"$f":"IF($A27=\"\",0,SUMIF(勘定入力!$D:$D,2&$A27,勘定入力!$J:$J))","v":0},{"$f":"IF($A27=\"\",0,SUMIF(勘定入力!$D:$D,2&$A27,勘定入力!$K:$K))","v":0},{"$f":"IF($A27=\"\",0,SUMIF(勘定入力!$D:$D,3&$A27,勘定入力!$J:$J))","v":0},{"$f":"IF($A27=\"\",0,SUMIF(勘定入力!$D:$D,3&$A27,勘定入力!$K:$K))","v":0},{"$f":"IF($A27=\"\",0,SUMIF(勘定入力!$D:$D,4&$A27,勘定入力!$J:$J))","v":0},{"$f":"IF($A27=\"\",0,SUMIF(勘定入力!$D:$D,4&$A27,勘定入力!$K:$K))","v":0},{"$f":"IF($A27=\"\",0,SUMIF(勘定入力!$D:$D,5&$A27,勘定入力!$J:$J))","v":0},{"$f":"IF($A27=\"\",0,SUMIF(勘定入力!$D:$D,5&$A27,勘定入力!$K:$K))","v":0},{"$f":"IF($A27=\"\",0,SUMIF(勘定入力!$D:$D,6&$A27,勘定入力!$J:$J))","v":0},{"$f":"IF($A27=\"\",0,SUMIF(勘定入力!$D:$D,6&$A27,勘定入力!$K:$K))","v":0},{"$f":"IF($A27=\"\",0,SUMIF(勘定入力!$D:$D,7&$A27,勘定入力!$J:$J))","v":0},{"$f":"IF($A27=\"\",0,SUMIF(勘定入力!$D:$D,7&$A27,勘定入力!$K:$K))","v":0},{"$f":"IF($A27=\"\",0,SUMIF(勘定入力!$D:$D,8&$A27,勘定入力!$J:$J))","v":0},{"$f":"IF($A27=\"\",0,SUMIF(勘定入力!$D:$D,8&$A27,勘定入力!$K:$K))","v":0},{"$f":"IF($A27=\"\",0,SUMIF(勘定入力!$D:$D,9&$A27,勘定入力!$J:$J))","v":0},{"$f":"IF($A27=\"\",0,SUMIF(勘定入力!$D:$D,9&$A27,勘定入力!$K:$K))","v":0},{"$f":"IF($A27=\"\",0,SUMIF(勘定入力!$D:$D,10&$A27,勘定入力!$J:$J))","v":0},{"$f":"IF($A27=\"\",0,SUMIF(勘定入力!$D:$D,10&$A27,勘定入力!$K:$K))","v":0},{"$f":"IF($A27=\"\",0,SUMIF(勘定入力!$D:$D,11&$A27,勘定入力!$J:$J))","v":0},{"$f":"IF($A27=\"\",0,SUMIF(勘定入力!$D:$D,11&$A27,勘定入力!$K:$K))","v":0},{"$f":"IF($A27=\"\",0,SUMIF(勘定入力!$D:$D,12&$A27,勘定入力!$J:$J))","v":0},{"$f":"IF($A27=\"\",0,SUMIF(勘定入力!$D:$D,12&$A27,勘定入力!$K:$K))","v":0}]
[{"$f":"入力補助!C24","v":"繰越金"},10000,0,{"$f":"IF($A28=\"\",0,SUMIF(勘定入力!$D:$D,1&$A28,勘定入力!$J:$J))","v":10000},{"$f":"IF($A28=\"\",0,SUMIF(勘定入力!$D:$D,1&$A28,勘定入力!$K:$K))","v":0},{"$f":"IF($A28=\"\",0,SUMIF(勘定入力!$D:$D,2&$A28,勘定入力!$J:$J))","v":0},{"$f":"IF($A28=\"\",0,SUMIF(勘定入力!$D:$D,2&$A28,勘定入力!$K:$K))","v":0},{"$f":"IF($A28=\"\",0,SUMIF(勘定入力!$D:$D,3&$A28,勘定入力!$J:$J))","v":0},{"$f":"IF($A28=\"\",0,SUMIF(勘定入力!$D:$D,3&$A28,勘定入力!$K:$K))","v":0},{"$f":"IF($A28=\"\",0,SUMIF(勘定入力!$D:$D,4&$A28,勘定入力!$J:$J))","v":0},{"$f":"IF($A28=\"\",0,SUMIF(勘定入力!$D:$D,4&$A28,勘定入力!$K:$K))","v":0},{"$f":"IF($A28=\"\",0,SUMIF(勘定入力!$D:$D,5&$A28,勘定入力!$J:$J))","v":0},{"$f":"IF($A28=\"\",0,SUMIF(勘定入力!$D:$D,5&$A28,勘定入力!$K:$K))","v":0},{"$f":"IF($A28=\"\",0,SUMIF(勘定入力!$D:$D,6&$A28,勘定入力!$J:$J))","v":0},{"$f":"IF($A28=\"\",0,SUMIF(勘定入力!$D:$D,6&$A28,勘定入力!$K:$K))","v":0},{"$f":"IF($A28=\"\",0,SUMIF(勘定入力!$D:$D,7&$A28,勘定入力!$J:$J))","v":0},{"$f":"IF($A28=\"\",0,SUMIF(勘定入力!$D:$D,7&$A28,勘定入力!$K:$K))","v":0},{"$f":"IF($A28=\"\",0,SUMIF(勘定入力!$D:$D,8&$A28,勘定入力!$J:$J))","v":0},{"$f":"IF($A28=\"\",0,SUMIF(勘定入力!$D:$D,8&$A28,勘定入力!$K:$K))","v":0},{"$f":"IF($A28=\"\",0,SUMIF(勘定入力!$D:$D,9&$A28,勘定入力!$J:$J))","v":0},{"$f":"IF($A28=\"\",0,SUMIF(勘定入力!$D:$D,9&$A28,勘定入力!$K:$K))","v":0},{"$f":"IF($A28=\"\",0,SUMIF(勘定入力!$D:$D,10&$A28,勘定入力!$J:$J))","v":0},{"$f":"IF($A28=\"\",0,SUMIF(勘定入力!$D:$D,10&$A28,勘定入力!$K:$K))","v":0},{"$f":"IF($A28=\"\",0,SUMIF(勘定入力!$D:$D,11&$A28,勘定入力!$J:$J))","v":0},{"$f":"IF($A28=\"\",0,SUMIF(勘定入力!$D:$D,11&$A28,勘定入力!$K:$K))","v":0},{"$f":"IF($A28=\"\",0,SUMIF(勘定入力!$D:$D,12&$A28,勘定入力!$J:$J))","v":0},{"$f":"IF($A28=\"\",0,SUMIF(勘定入力!$D:$D,12&$A28,勘定入力!$K:$K))","v":0}]
[{"$f":"入力補助!C25","v":"給料・手当"},0,12000,{"$f":"IF($A29=\"\",0,SUMIF(勘定入力!$D:$D,1&$A29,勘定入力!$J:$J))","v":0},{"$f":"IF($A29=\"\",0,SUMIF(勘定入力!$D:$D,1&$A29,勘定入力!$K:$K))","v":1000},{"$f":"IF($A29=\"\",0,SUMIF(勘定入力!$D:$D,2&$A29,勘定入力!$J:$J))","v":0},{"$f":"IF($A29=\"\",0,SUMIF(勘定入力!$D:$D,2&$A29,勘定入力!$K:$K))","v":1000},{"$f":"IF($A29=\"\",0,SUMIF(勘定入力!$D:$D,3&$A29,勘定入力!$J:$J))","v":0},{"$f":"IF($A29=\"\",0,SUMIF(勘定入力!$D:$D,3&$A29,勘定入力!$K:$K))","v":1000},{"$f":"IF($A29=\"\",0,SUMIF(勘定入力!$D:$D,4&$A29,勘定入力!$J:$J))","v":0},{"$f":"IF($A29=\"\",0,SUMIF(勘定入力!$D:$D,4&$A29,勘定入力!$K:$K))","v":1000},{"$f":"IF($A29=\"\",0,SUMIF(勘定入力!$D:$D,5&$A29,勘定入力!$J:$J))","v":0},{"$f":"IF($A29=\"\",0,SUMIF(勘定入力!$D:$D,5&$A29,勘定入力!$K:$K))","v":1000},{"$f":"IF($A29=\"\",0,SUMIF(勘定入力!$D:$D,6&$A29,勘定入力!$J:$J))","v":0},{"$f":"IF($A29=\"\",0,SUMIF(勘定入力!$D:$D,6&$A29,勘定入力!$K:$K))","v":1000},{"$f":"IF($A29=\"\",0,SUMIF(勘定入力!$D:$D,7&$A29,勘定入力!$J:$J))","v":0},{"$f":"IF($A29=\"\",0,SUMIF(勘定入力!$D:$D,7&$A29,勘定入力!$K:$K))","v":1000},{"$f":"IF($A29=\"\",0,SUMIF(勘定入力!$D:$D,8&$A29,勘定入力!$J:$J))","v":0},{"$f":"IF($A29=\"\",0,SUMIF(勘定入力!$D:$D,8&$A29,勘定入力!$K:$K))","v":1000},{"$f":"IF($A29=\"\",0,SUMIF(勘定入力!$D:$D,9&$A29,勘定入力!$J:$J))","v":0},{"$f":"IF($A29=\"\",0,SUMIF(勘定入力!$D:$D,9&$A29,勘定入力!$K:$K))","v":1000},{"$f":"IF($A29=\"\",0,SUMIF(勘定入力!$D:$D,10&$A29,勘定入力!$J:$J))","v":0},{"$f":"IF($A29=\"\",0,SUMIF(勘定入力!$D:$D,10&$A29,勘定入力!$K:$K))","v":1000},{"$f":"IF($A29=\"\",0,SUMIF(勘定入力!$D:$D,11&$A29,勘定入力!$J:$J))","v":0},{"$f":"IF($A29=\"\",0,SUMIF(勘定入力!$D:$D,11&$A29,勘定入力!$K:$K))","v":1000},{"$f":"IF($A29=\"\",0,SUMIF(勘定入力!$D:$D,12&$A29,勘定入力!$J:$J))","v":0},{"$f":"IF($A29=\"\",0,SUMIF(勘定入力!$D:$D,12&$A29,勘定入力!$K:$K))","v":1000}]
[{"$f":"入力補助!C26","v":"車両費"},0,1200,{"$f":"IF($A30=\"\",0,SUMIF(勘定入力!$D:$D,1&$A30,勘定入力!$J:$J))","v":0},{"$f":"IF($A30=\"\",0,SUMIF(勘定入力!$D:$D,1&$A30,勘定入力!$K:$K))","v":100},{"$f":"IF($A30=\"\",0,SUMIF(勘定入力!$D:$D,2&$A30,勘定入力!$J:$J))","v":0},{"$f":"IF($A30=\"\",0,SUMIF(勘定入力!$D:$D,2&$A30,勘定入力!$K:$K))","v":100},{"$f":"IF($A30=\"\",0,SUMIF(勘定入力!$D:$D,3&$A30,勘定入力!$J:$J))","v":0},{"$f":"IF($A30=\"\",0,SUMIF(勘定入力!$D:$D,3&$A30,勘定入力!$K:$K))","v":100},{"$f":"IF($A30=\"\",0,SUMIF(勘定入力!$D:$D,4&$A30,勘定入力!$J:$J))","v":0},{"$f":"IF($A30=\"\",0,SUMIF(勘定入力!$D:$D,4&$A30,勘定入力!$K:$K))","v":100},{"$f":"IF($A30=\"\",0,SUMIF(勘定入力!$D:$D,5&$A30,勘定入力!$J:$J))","v":0},{"$f":"IF($A30=\"\",0,SUMIF(勘定入力!$D:$D,5&$A30,勘定入力!$K:$K))","v":100},{"$f":"IF($A30=\"\",0,SUMIF(勘定入力!$D:$D,6&$A30,勘定入力!$J:$J))","v":0},{"$f":"IF($A30=\"\",0,SUMIF(勘定入力!$D:$D,6&$A30,勘定入力!$K:$K))","v":100},{"$f":"IF($A30=\"\",0,SUMIF(勘定入力!$D:$D,7&$A30,勘定入力!$J:$J))","v":0},{"$f":"IF($A30=\"\",0,SUMIF(勘定入力!$D:$D,7&$A30,勘定入力!$K:$K))","v":100},{"$f":"IF($A30=\"\",0,SUMIF(勘定入力!$D:$D,8&$A30,勘定入力!$J:$J))","v":0},{"$f":"IF($A30=\"\",0,SUMIF(勘定入力!$D:$D,8&$A30,勘定入力!$K:$K))","v":100},{"$f":"IF($A30=\"\",0,SUMIF(勘定入力!$D:$D,9&$A30,勘定入力!$J:$J))","v":0},{"$f":"IF($A30=\"\",0,SUMIF(勘定入力!$D:$D,9&$A30,勘定入力!$K:$K))","v":100},{"$f":"IF($A30=\"\",0,SUMIF(勘定入力!$D:$D,10&$A30,勘定入力!$J:$J))","v":0},{"$f":"IF($A30=\"\",0,SUMIF(勘定入力!$D:$D,10&$A30,勘定入力!$K:$K))","v":100},{"$f":"IF($A30=\"\",0,SUMIF(勘定入力!$D:$D,11&$A30,勘定入力!$J:$J))","v":0},{"$f":"IF($A30=\"\",0,SUMIF(勘定入力!$D:$D,11&$A30,勘定入力!$K:$K))","v":100},{"$f":"IF($A30=\"\",0,SUMIF(勘定入力!$D:$D,12&$A30,勘定入力!$J:$J))","v":0},{"$f":"IF($A30=\"\",0,SUMIF(勘定入力!$D:$D,12&$A30,勘定入力!$K:$K))","v":100}]
[{"$f":"入力補助!C27","v":"燃料"},0,0,{"$f":"IF($A31=\"\",0,SUMIF(勘定入力!$D:$D,1&$A31,勘定入力!$J:$J))","v":0},{"$f":"IF($A31=\"\",0,SUMIF(勘定入力!$D:$D,1&$A31,勘定入力!$K:$K))","v":0},{"$f":"IF($A31=\"\",0,SUMIF(勘定入力!$D:$D,2&$A31,勘定入力!$J:$J))","v":0},{"$f":"IF($A31=\"\",0,SUMIF(勘定入力!$D:$D,2&$A31,勘定入力!$K:$K))","v":0},{"$f":"IF($A31=\"\",0,SUMIF(勘定入力!$D:$D,3&$A31,勘定入力!$J:$J))","v":0},{"$f":"IF($A31=\"\",0,SUMIF(勘定入力!$D:$D,3&$A31,勘定入力!$K:$K))","v":0},{"$f":"IF($A31=\"\",0,SUMIF(勘定入力!$D:$D,4&$A31,勘定入力!$J:$J))","v":0},{"$f":"IF($A31=\"\",0,SUMIF(勘定入力!$D:$D,4&$A31,勘定入力!$K:$K))","v":0},{"$f":"IF($A31=\"\",0,SUMIF(勘定入力!$D:$D,5&$A31,勘定入力!$J:$J))","v":0},{"$f":"IF($A31=\"\",0,SUMIF(勘定入力!$D:$D,5&$A31,勘定入力!$K:$K))","v":0},{"$f":"IF($A31=\"\",0,SUMIF(勘定入力!$D:$D,6&$A31,勘定入力!$J:$J))","v":0},{"$f":"IF($A31=\"\",0,SUMIF(勘定入力!$D:$D,6&$A31,勘定入力!$K:$K))","v":0},{"$f":"IF($A31=\"\",0,SUMIF(勘定入力!$D:$D,7&$A31,勘定入力!$J:$J))","v":0},{"$f":"IF($A31=\"\",0,SUMIF(勘定入力!$D:$D,7&$A31,勘定入力!$K:$K))","v":0},{"$f":"IF($A31=\"\",0,SUMIF(勘定入力!$D:$D,8&$A31,勘定入力!$J:$J))","v":0},{"$f":"IF($A31=\"\",0,SUMIF(勘定入力!$D:$D,8&$A31,勘定入力!$K:$K))","v":0},{"$f":"IF($A31=\"\",0,SUMIF(勘定入力!$D:$D,9&$A31,勘定入力!$J:$J))","v":0},{"$f":"IF($A31=\"\",0,SUMIF(勘定入力!$D:$D,9&$A31,勘定入力!$K:$K))","v":0},{"$f":"IF($A31=\"\",0,SUMIF(勘定入力!$D:$D,10&$A31,勘定入力!$J:$J))","v":0},{"$f":"IF($A31=\"\",0,SUMIF(勘定入力!$D:$D,10&$A31,勘定入力!$K:$K))","v":0},{"$f":"IF($A31=\"\",0,SUMIF(勘定入力!$D:$D,11&$A31,勘定入力!$J:$J))","v":0},{"$f":"IF($A31=\"\",0,SUMIF(勘定入力!$D:$D,11&$A31,勘定入力!$K:$K))","v":0},{"$f":"IF($A31=\"\",0,SUMIF(勘定入力!$D:$D,12&$A31,勘定入力!$J:$J))","v":0},{"$f":"IF($A31=\"\",0,SUMIF(勘定入力!$D:$D,12&$A31,勘定入力!$K:$K))","v":0}]
[{"$f":"入力補助!C28","v":"水道"},0,0,{"$f":"IF($A32=\"\",0,SUMIF(勘定入力!$D:$D,1&$A32,勘定入力!$J:$J))","v":0},{"$f":"IF($A32=\"\",0,SUMIF(勘定入力!$D:$D,1&$A32,勘定入力!$K:$K))","v":0},{"$f":"IF($A32=\"\",0,SUMIF(勘定入力!$D:$D,2&$A32,勘定入力!$J:$J))","v":0},{"$f":"IF($A32=\"\",0,SUMIF(勘定入力!$D:$D,2&$A32,勘定入力!$K:$K))","v":0},{"$f":"IF($A32=\"\",0,SUMIF(勘定入力!$D:$D,3&$A32,勘定入力!$J:$J))","v":0},{"$f":"IF($A32=\"\",0,SUMIF(勘定入力!$D:$D,3&$A32,勘定入力!$K:$K))","v":0},{"$f":"IF($A32=\"\",0,SUMIF(勘定入力!$D:$D,4&$A32,勘定入力!$J:$J))","v":0},{"$f":"IF($A32=\"\",0,SUMIF(勘定入力!$D:$D,4&$A32,勘定入力!$K:$K))","v":0},{"$f":"IF($A32=\"\",0,SUMIF(勘定入力!$D:$D,5&$A32,勘定入力!$J:$J))","v":0},{"$f":"IF($A32=\"\",0,SUMIF(勘定入力!$D:$D,5&$A32,勘定入力!$K:$K))","v":0},{"$f":"IF($A32=\"\",0,SUMIF(勘定入力!$D:$D,6&$A32,勘定入力!$J:$J))","v":0},{"$f":"IF($A32=\"\",0,SUMIF(勘定入力!$D:$D,6&$A32,勘定入力!$K:$K))","v":0},{"$f":"IF($A32=\"\",0,SUMIF(勘定入力!$D:$D,7&$A32,勘定入力!$J:$J))","v":0},{"$f":"IF($A32=\"\",0,SUMIF(勘定入力!$D:$D,7&$A32,勘定入力!$K:$K))","v":0},{"$f":"IF($A32=\"\",0,SUMIF(勘定入力!$D:$D,8&$A32,勘定入力!$J:$J))","v":0},{"$f":"IF($A32=\"\",0,SUMIF(勘定入力!$D:$D,8&$A32,勘定入力!$K:$K))","v":0},{"$f":"IF($A32=\"\",0,SUMIF(勘定入力!$D:$D,9&$A32,勘定入力!$J:$J))","v":0},{"$f":"IF($A32=\"\",0,SUMIF(勘定入力!$D:$D,9&$A32,勘定入力!$K:$K))","v":0},{"$f":"IF($A32=\"\",0,SUMIF(勘定入力!$D:$D,10&$A32,勘定入力!$J:$J))","v":0},{"$f":"IF($A32=\"\",0,SUMIF(勘定入力!$D:$D,10&$A32,勘定入力!$K:$K))","v":0},{"$f":"IF($A32=\"\",0,SUMIF(勘定入力!$D:$D,11&$A32,勘定入力!$J:$J))","v":0},{"$f":"IF($A32=\"\",0,SUMIF(勘定入力!$D:$D,11&$A32,勘定入力!$K:$K))","v":0},{"$f":"IF($A32=\"\",0,SUMIF(勘定入力!$D:$D,12&$A32,勘定入力!$J:$J))","v":0},{"$f":"IF($A32=\"\",0,SUMIF(勘定入力!$D:$D,12&$A32,勘定入力!$K:$K))","v":0}]
[{"$f":"入力補助!C29","v":"電気"},0,0,{"$f":"IF($A33=\"\",0,SUMIF(勘定入力!$D:$D,1&$A33,勘定入力!$J:$J))","v":0},{"$f":"IF($A33=\"\",0,SUMIF(勘定入力!$D:$D,1&$A33,勘定入力!$K:$K))","v":0},{"$f":"IF($A33=\"\",0,SUMIF(勘定入力!$D:$D,2&$A33,勘定入力!$J:$J))","v":0},{"$f":"IF($A33=\"\",0,SUMIF(勘定入力!$D:$D,2&$A33,勘定入力!$K:$K))","v":0},{"$f":"IF($A33=\"\",0,SUMIF(勘定入力!$D:$D,3&$A33,勘定入力!$J:$J))","v":0},{"$f":"IF($A33=\"\",0,SUMIF(勘定入力!$D:$D,3&$A33,勘定入力!$K:$K))","v":0},{"$f":"IF($A33=\"\",0,SUMIF(勘定入力!$D:$D,4&$A33,勘定入力!$J:$J))","v":0},{"$f":"IF($A33=\"\",0,SUMIF(勘定入力!$D:$D,4&$A33,勘定入力!$K:$K))","v":0},{"$f":"IF($A33=\"\",0,SUMIF(勘定入力!$D:$D,5&$A33,勘定入力!$J:$J))","v":0},{"$f":"IF($A33=\"\",0,SUMIF(勘定入力!$D:$D,5&$A33,勘定入力!$K:$K))","v":0},{"$f":"IF($A33=\"\",0,SUMIF(勘定入力!$D:$D,6&$A33,勘定入力!$J:$J))","v":0},{"$f":"IF($A33=\"\",0,SUMIF(勘定入力!$D:$D,6&$A33,勘定入力!$K:$K))","v":0},{"$f":"IF($A33=\"\",0,SUMIF(勘定入力!$D:$D,7&$A33,勘定入力!$J:$J))","v":0},{"$f":"IF($A33=\"\",0,SUMIF(勘定入力!$D:$D,7&$A33,勘定入力!$K:$K))","v":0},{"$f":"IF($A33=\"\",0,SUMIF(勘定入力!$D:$D,8&$A33,勘定入力!$J:$J))","v":0},{"$f":"IF($A33=\"\",0,SUMIF(勘定入力!$D:$D,8&$A33,勘定入力!$K:$K))","v":0},{"$f":"IF($A33=\"\",0,SUMIF(勘定入力!$D:$D,9&$A33,勘定入力!$J:$J))","v":0},{"$f":"IF($A33=\"\",0,SUMIF(勘定入力!$D:$D,9&$A33,勘定入力!$K:$K))","v":0},{"$f":"IF($A33=\"\",0,SUMIF(勘定入力!$D:$D,10&$A33,勘定入力!$J:$J))","v":0},{"$f":"IF($A33=\"\",0,SUMIF(勘定入力!$D:$D,10&$A33,勘定入力!$K:$K))","v":0},{"$f":"IF($A33=\"\",0,SUMIF(勘定入力!$D:$D,11&$A33,勘定入力!$J:$J))","v":0},{"$f":"IF($A33=\"\",0,SUMIF(勘定入力!$D:$D,11&$A33,勘定入力!$K:$K))","v":0},{"$f":"IF($A33=\"\",0,SUMIF(勘定入力!$D:$D,12&$A33,勘定入力!$J:$J))","v":0},{"$f":"IF($A33=\"\",0,SUMIF(勘定入力!$D:$D,12&$A33,勘定入力!$K:$K))","v":0}]
[{"$f":"入力補助!C30","v":"ガス"},0,0,{"$f":"IF($A34=\"\",0,SUMIF(勘定入力!$D:$D,1&$A34,勘定入力!$J:$J))","v":0},{"$f":"IF($A34=\"\",0,SUMIF(勘定入力!$D:$D,1&$A34,勘定入力!$K:$K))","v":0},{"$f":"IF($A34=\"\",0,SUMIF(勘定入力!$D:$D,2&$A34,勘定入力!$J:$J))","v":0},{"$f":"IF($A34=\"\",0,SUMIF(勘定入力!$D:$D,2&$A34,勘定入力!$K:$K))","v":0},{"$f":"IF($A34=\"\",0,SUMIF(勘定入力!$D:$D,3&$A34,勘定入力!$J:$J))","v":0},{"$f":"IF($A34=\"\",0,SUMIF(勘定入力!$D:$D,3&$A34,勘定入力!$K:$K))","v":0},{"$f":"IF($A34=\"\",0,SUMIF(勘定入力!$D:$D,4&$A34,勘定入力!$J:$J))","v":0},{"$f":"IF($A34=\"\",0,SUMIF(勘定入力!$D:$D,4&$A34,勘定入力!$K:$K))","v":0},{"$f":"IF($A34=\"\",0,SUMIF(勘定入力!$D:$D,5&$A34,勘定入力!$J:$J))","v":0},{"$f":"IF($A34=\"\",0,SUMIF(勘定入力!$D:$D,5&$A34,勘定入力!$K:$K))","v":0},{"$f":"IF($A34=\"\",0,SUMIF(勘定入力!$D:$D,6&$A34,勘定入力!$J:$J))","v":0},{"$f":"IF($A34=\"\",0,SUMIF(勘定入力!$D:$D,6&$A34,勘定入力!$K:$K))","v":0},{"$f":"IF($A34=\"\",0,SUMIF(勘定入力!$D:$D,7&$A34,勘定入力!$J:$J))","v":0},{"$f":"IF($A34=\"\",0,SUMIF(勘定入力!$D:$D,7&$A34,勘定入力!$K:$K))","v":0},{"$f":"IF($A34=\"\",0,SUMIF(勘定入力!$D:$D,8&$A34,勘定入力!$J:$J))","v":0},{"$f":"IF($A34=\"\",0,SUMIF(勘定入力!$D:$D,8&$A34,勘定入力!$K:$K))","v":0},{"$f":"IF($A34=\"\",0,SUMIF(勘定入力!$D:$D,9&$A34,勘定入力!$J:$J))","v":0},{"$f":"IF($A34=\"\",0,SUMIF(勘定入力!$D:$D,9&$A34,勘定入力!$K:$K))","v":0},{"$f":"IF($A34=\"\",0,SUMIF(勘定入力!$D:$D,10&$A34,勘定入力!$J:$J))","v":0},{"$f":"IF($A34=\"\",0,SUMIF(勘定入力!$D:$D,10&$A34,勘定入力!$K:$K))","v":0},{"$f":"IF($A34=\"\",0,SUMIF(勘定入力!$D:$D,11&$A34,勘定入力!$J:$J))","v":0},{"$f":"IF($A34=\"\",0,SUMIF(勘定入力!$D:$D,11&$A34,勘定入力!$K:$K))","v":0},{"$f":"IF($A34=\"\",0,SUMIF(勘定入力!$D:$D,12&$A34,勘定入力!$J:$J))","v":0},{"$f":"IF($A34=\"\",0,SUMIF(勘定入力!$D:$D,12&$A34,勘定入力!$K:$K))","v":0}]
[{"$f":"入力補助!C31","v":"通信費"},0,0,{"$f":"IF($A35=\"\",0,SUMIF(勘定入力!$D:$D,1&$A35,勘定入力!$J:$J))","v":0},{"$f":"IF($A35=\"\",0,SUMIF(勘定入力!$D:$D,1&$A35,勘定入力!$K:$K))","v":0},{"$f":"IF($A35=\"\",0,SUMIF(勘定入力!$D:$D,2&$A35,勘定入力!$J:$J))","v":0},{"$f":"IF($A35=\"\",0,SUMIF(勘定入力!$D:$D,2&$A35,勘定入力!$K:$K))","v":0},{"$f":"IF($A35=\"\",0,SUMIF(勘定入力!$D:$D,3&$A35,勘定入力!$J:$J))","v":0},{"$f":"IF($A35=\"\",0,SUMIF(勘定入力!$D:$D,3&$A35,勘定入力!$K:$K))","v":0},{"$f":"IF($A35=\"\",0,SUMIF(勘定入力!$D:$D,4&$A35,勘定入力!$J:$J))","v":0},{"$f":"IF($A35=\"\",0,SUMIF(勘定入力!$D:$D,4&$A35,勘定入力!$K:$K))","v":0},{"$f":"IF($A35=\"\",0,SUMIF(勘定入力!$D:$D,5&$A35,勘定入力!$J:$J))","v":0},{"$f":"IF($A35=\"\",0,SUMIF(勘定入力!$D:$D,5&$A35,勘定入力!$K:$K))","v":0},{"$f":"IF($A35=\"\",0,SUMIF(勘定入力!$D:$D,6&$A35,勘定入力!$J:$J))","v":0},{"$f":"IF($A35=\"\",0,SUMIF(勘定入力!$D:$D,6&$A35,勘定入力!$K:$K))","v":0},{"$f":"IF($A35=\"\",0,SUMIF(勘定入力!$D:$D,7&$A35,勘定入力!$J:$J))","v":0},{"$f":"IF($A35=\"\",0,SUMIF(勘定入力!$D:$D,7&$A35,勘定入力!$K:$K))","v":0},{"$f":"IF($A35=\"\",0,SUMIF(勘定入力!$D:$D,8&$A35,勘定入力!$J:$J))","v":0},{"$f":"IF($A35=\"\",0,SUMIF(勘定入力!$D:$D,8&$A35,勘定入力!$K:$K))","v":0},{"$f":"IF($A35=\"\",0,SUMIF(勘定入力!$D:$D,9&$A35,勘定入力!$J:$J))","v":0},{"$f":"IF($A35=\"\",0,SUMIF(勘定入力!$D:$D,9&$A35,勘定入力!$K:$K))","v":0},{"$f":"IF($A35=\"\",0,SUMIF(勘定入力!$D:$D,10&$A35,勘定入力!$J:$J))","v":0},{"$f":"IF($A35=\"\",0,SUMIF(勘定入力!$D:$D,10&$A35,勘定入力!$K:$K))","v":0},{"$f":"IF($A35=\"\",0,SUMIF(勘定入力!$D:$D,11&$A35,勘定入力!$J:$J))","v":0},{"$f":"IF($A35=\"\",0,SUMIF(勘定入力!$D:$D,11&$A35,勘定入力!$K:$K))","v":0},{"$f":"IF($A35=\"\",0,SUMIF(勘定入力!$D:$D,12&$A35,勘定入力!$J:$J))","v":0},{"$f":"IF($A35=\"\",0,SUMIF(勘定入力!$D:$D,12&$A35,勘定入力!$K:$K))","v":0}]
[{"$f":"入力補助!C32","v":"事務用品費"},0,0,{"$f":"IF($A36=\"\",0,SUMIF(勘定入力!$D:$D,1&$A36,勘定入力!$J:$J))","v":0},{"$f":"IF($A36=\"\",0,SUMIF(勘定入力!$D:$D,1&$A36,勘定入力!$K:$K))","v":0},{"$f":"IF($A36=\"\",0,SUMIF(勘定入力!$D:$D,2&$A36,勘定入力!$J:$J))","v":0},{"$f":"IF($A36=\"\",0,SUMIF(勘定入力!$D:$D,2&$A36,勘定入力!$K:$K))","v":0},{"$f":"IF($A36=\"\",0,SUMIF(勘定入力!$D:$D,3&$A36,勘定入力!$J:$J))","v":0},{"$f":"IF($A36=\"\",0,SUMIF(勘定入力!$D:$D,3&$A36,勘定入力!$K:$K))","v":0},{"$f":"IF($A36=\"\",0,SUMIF(勘定入力!$D:$D,4&$A36,勘定入力!$J:$J))","v":0},{"$f":"IF($A36=\"\",0,SUMIF(勘定入力!$D:$D,4&$A36,勘定入力!$K:$K))","v":0},{"$f":"IF($A36=\"\",0,SUMIF(勘定入力!$D:$D,5&$A36,勘定入力!$J:$J))","v":0},{"$f":"IF($A36=\"\",0,SUMIF(勘定入力!$D:$D,5&$A36,勘定入力!$K:$K))","v":0},{"$f":"IF($A36=\"\",0,SUMIF(勘定入力!$D:$D,6&$A36,勘定入力!$J:$J))","v":0},{"$f":"IF($A36=\"\",0,SUMIF(勘定入力!$D:$D,6&$A36,勘定入力!$K:$K))","v":0},{"$f":"IF($A36=\"\",0,SUMIF(勘定入力!$D:$D,7&$A36,勘定入力!$J:$J))","v":0},{"$f":"IF($A36=\"\",0,SUMIF(勘定入力!$D:$D,7&$A36,勘定入力!$K:$K))","v":0},{"$f":"IF($A36=\"\",0,SUMIF(勘定入力!$D:$D,8&$A36,勘定入力!$J:$J))","v":0},{"$f":"IF($A36=\"\",0,SUMIF(勘定入力!$D:$D,8&$A36,勘定入力!$K:$K))","v":0},{"$f":"IF($A36=\"\",0,SUMIF(勘定入力!$D:$D,9&$A36,勘定入力!$J:$J))","v":0},{"$f":"IF($A36=\"\",0,SUMIF(勘定入力!$D:$D,9&$A36,勘定入力!$K:$K))","v":0},{"$f":"IF($A36=\"\",0,SUMIF(勘定入力!$D:$D,10&$A36,勘定入力!$J:$J))","v":0},{"$f":"IF($A36=\"\",0,SUMIF(勘定入力!$D:$D,10&$A36,勘定入力!$K:$K))","v":0},{"$f":"IF($A36=\"\",0,SUMIF(勘定入力!$D:$D,11&$A36,勘定入力!$J:$J))","v":0},{"$f":"IF($A36=\"\",0,SUMIF(勘定入力!$D:$D,11&$A36,勘定入力!$K:$K))","v":0},{"$f":"IF($A36=\"\",0,SUMIF(勘定入力!$D:$D,12&$A36,勘定入力!$J:$J))","v":0},{"$f":"IF($A36=\"\",0,SUMIF(勘定入力!$D:$D,12&$A36,勘定入力!$K:$K))","v":0}]
[{"$f":"入力補助!C33","v":"保険料"},0,0,{"$f":"IF($A37=\"\",0,SUMIF(勘定入力!$D:$D,1&$A37,勘定入力!$J:$J))","v":0},{"$f":"IF($A37=\"\",0,SUMIF(勘定入力!$D:$D,1&$A37,勘定入力!$K:$K))","v":0},{"$f":"IF($A37=\"\",0,SUMIF(勘定入力!$D:$D,2&$A37,勘定入力!$J:$J))","v":0},{"$f":"IF($A37=\"\",0,SUMIF(勘定入力!$D:$D,2&$A37,勘定入力!$K:$K))","v":0},{"$f":"IF($A37=\"\",0,SUMIF(勘定入力!$D:$D,3&$A37,勘定入力!$J:$J))","v":0},{"$f":"IF($A37=\"\",0,SUMIF(勘定入力!$D:$D,3&$A37,勘定入力!$K:$K))","v":0},{"$f":"IF($A37=\"\",0,SUMIF(勘定入力!$D:$D,4&$A37,勘定入力!$J:$J))","v":0},{"$f":"IF($A37=\"\",0,SUMIF(勘定入力!$D:$D,4&$A37,勘定入力!$K:$K))","v":0},{"$f":"IF($A37=\"\",0,SUMIF(勘定入力!$D:$D,5&$A37,勘定入力!$J:$J))","v":0},{"$f":"IF($A37=\"\",0,SUMIF(勘定入力!$D:$D,5&$A37,勘定入力!$K:$K))","v":0},{"$f":"IF($A37=\"\",0,SUMIF(勘定入力!$D:$D,6&$A37,勘定入力!$J:$J))","v":0},{"$f":"IF($A37=\"\",0,SUMIF(勘定入力!$D:$D,6&$A37,勘定入力!$K:$K))","v":0},{"$f":"IF($A37=\"\",0,SUMIF(勘定入力!$D:$D,7&$A37,勘定入力!$J:$J))","v":0},{"$f":"IF($A37=\"\",0,SUMIF(勘定入力!$D:$D,7&$A37,勘定入力!$K:$K))","v":0},{"$f":"IF($A37=\"\",0,SUMIF(勘定入力!$D:$D,8&$A37,勘定入力!$J:$J))","v":0},{"$f":"IF($A37=\"\",0,SUMIF(勘定入力!$D:$D,8&$A37,勘定入力!$K:$K))","v":0},{"$f":"IF($A37=\"\",0,SUMIF(勘定入力!$D:$D,9&$A37,勘定入力!$J:$J))","v":0},{"$f":"IF($A37=\"\",0,SUMIF(勘定入力!$D:$D,9&$A37,勘定入力!$K:$K))","v":0},{"$f":"IF($A37=\"\",0,SUMIF(勘定入力!$D:$D,10&$A37,勘定入力!$J:$J))","v":0},{"$f":"IF($A37=\"\",0,SUMIF(勘定入力!$D:$D,10&$A37,勘定入力!$K:$K))","v":0},{"$f":"IF($A37=\"\",0,SUMIF(勘定入力!$D:$D,11&$A37,勘定入力!$J:$J))","v":0},{"$f":"IF($A37=\"\",0,SUMIF(勘定入力!$D:$D,11&$A37,勘定入力!$K:$K))","v":0},{"$f":"IF($A37=\"\",0,SUMIF(勘定入力!$D:$D,12&$A37,勘定入力!$J:$J))","v":0},{"$f":"IF($A37=\"\",0,SUMIF(勘定入力!$D:$D,12&$A37,勘定入力!$K:$K))","v":0}]
[{"$f":"入力補助!C34","v":"リース料"},0,0,{"$f":"IF($A38=\"\",0,SUMIF(勘定入力!$D:$D,1&$A38,勘定入力!$J:$J))","v":0},{"$f":"IF($A38=\"\",0,SUMIF(勘定入力!$D:$D,1&$A38,勘定入力!$K:$K))","v":0},{"$f":"IF($A38=\"\",0,SUMIF(勘定入力!$D:$D,2&$A38,勘定入力!$J:$J))","v":0},{"$f":"IF($A38=\"\",0,SUMIF(勘定入力!$D:$D,2&$A38,勘定入力!$K:$K))","v":0},{"$f":"IF($A38=\"\",0,SUMIF(勘定入力!$D:$D,3&$A38,勘定入力!$J:$J))","v":0},{"$f":"IF($A38=\"\",0,SUMIF(勘定入力!$D:$D,3&$A38,勘定入力!$K:$K))","v":0},{"$f":"IF($A38=\"\",0,SUMIF(勘定入力!$D:$D,4&$A38,勘定入力!$J:$J))","v":0},{"$f":"IF($A38=\"\",0,SUMIF(勘定入力!$D:$D,4&$A38,勘定入力!$K:$K))","v":0},{"$f":"IF($A38=\"\",0,SUMIF(勘定入力!$D:$D,5&$A38,勘定入力!$J:$J))","v":0},{"$f":"IF($A38=\"\",0,SUMIF(勘定入力!$D:$D,5&$A38,勘定入力!$K:$K))","v":0},{"$f":"IF($A38=\"\",0,SUMIF(勘定入力!$D:$D,6&$A38,勘定入力!$J:$J))","v":0},{"$f":"IF($A38=\"\",0,SUMIF(勘定入力!$D:$D,6&$A38,勘定入力!$K:$K))","v":0},{"$f":"IF($A38=\"\",0,SUMIF(勘定入力!$D:$D,7&$A38,勘定入力!$J:$J))","v":0},{"$f":"IF($A38=\"\",0,SUMIF(勘定入力!$D:$D,7&$A38,勘定入力!$K:$K))","v":0},{"$f":"IF($A38=\"\",0,SUMIF(勘定入力!$D:$D,8&$A38,勘定入力!$J:$J))","v":0},{"$f":"IF($A38=\"\",0,SUMIF(勘定入力!$D:$D,8&$A38,勘定入力!$K:$K))","v":0},{"$f":"IF($A38=\"\",0,SUMIF(勘定入力!$D:$D,9&$A38,勘定入力!$J:$J))","v":0},{"$f":"IF($A38=\"\",0,SUMIF(勘定入力!$D:$D,9&$A38,勘定入力!$K:$K))","v":0},{"$f":"IF($A38=\"\",0,SUMIF(勘定入力!$D:$D,10&$A38,勘定入力!$J:$J))","v":0},{"$f":"IF($A38=\"\",0,SUMIF(勘定入力!$D:$D,10&$A38,勘定入力!$K:$K))","v":0},{"$f":"IF($A38=\"\",0,SUMIF(勘定入力!$D:$D,11&$A38,勘定入力!$J:$J))","v":0},{"$f":"IF($A38=\"\",0,SUMIF(勘定入力!$D:$D,11&$A38,勘定入力!$K:$K))","v":0},{"$f":"IF($A38=\"\",0,SUMIF(勘定入力!$D:$D,12&$A38,勘定入力!$J:$J))","v":0},{"$f":"IF($A38=\"\",0,SUMIF(勘定入力!$D:$D,12&$A38,勘定入力!$K:$K))","v":0}]
[{"$f":"入力補助!C35","v":0},0,0,{"$f":"IF($A39=\"\",0,SUMIF(勘定入力!$D:$D,1&$A39,勘定入力!$J:$J))","v":0},{"$f":"IF($A39=\"\",0,SUMIF(勘定入力!$D:$D,1&$A39,勘定入力!$K:$K))","v":0},{"$f":"IF($A39=\"\",0,SUMIF(勘定入力!$D:$D,2&$A39,勘定入力!$J:$J))","v":0},{"$f":"IF($A39=\"\",0,SUMIF(勘定入力!$D:$D,2&$A39,勘定入力!$K:$K))","v":0},{"$f":"IF($A39=\"\",0,SUMIF(勘定入力!$D:$D,3&$A39,勘定入力!$J:$J))","v":0},{"$f":"IF($A39=\"\",0,SUMIF(勘定入力!$D:$D,3&$A39,勘定入力!$K:$K))","v":0},{"$f":"IF($A39=\"\",0,SUMIF(勘定入力!$D:$D,4&$A39,勘定入力!$J:$J))","v":0},{"$f":"IF($A39=\"\",0,SUMIF(勘定入力!$D:$D,4&$A39,勘定入力!$K:$K))","v":0},{"$f":"IF($A39=\"\",0,SUMIF(勘定入力!$D:$D,5&$A39,勘定入力!$J:$J))","v":0},{"$f":"IF($A39=\"\",0,SUMIF(勘定入力!$D:$D,5&$A39,勘定入力!$K:$K))","v":0},{"$f":"IF($A39=\"\",0,SUMIF(勘定入力!$D:$D,6&$A39,勘定入力!$J:$J))","v":0},{"$f":"IF($A39=\"\",0,SUMIF(勘定入力!$D:$D,6&$A39,勘定入力!$K:$K))","v":0},{"$f":"IF($A39=\"\",0,SUMIF(勘定入力!$D:$D,7&$A39,勘定入力!$J:$J))","v":0},{"$f":"IF($A39=\"\",0,SUMIF(勘定入力!$D:$D,7&$A39,勘定入力!$K:$K))","v":0},{"$f":"IF($A39=\"\",0,SUMIF(勘定入力!$D:$D,8&$A39,勘定入力!$J:$J))","v":0},{"$f":"IF($A39=\"\",0,SUMIF(勘定入力!$D:$D,8&$A39,勘定入力!$K:$K))","v":0},{"$f":"IF($A39=\"\",0,SUMIF(勘定入力!$D:$D,9&$A39,勘定入力!$J:$J))","v":0},{"$f":"IF($A39=\"\",0,SUMIF(勘定入力!$D:$D,9&$A39,勘定入力!$K:$K))","v":0},{"$f":"IF($A39=\"\",0,SUMIF(勘定入力!$D:$D,10&$A39,勘定入力!$J:$J))","v":0},{"$f":"IF($A39=\"\",0,SUMIF(勘定入力!$D:$D,10&$A39,勘定入力!$K:$K))","v":0},{"$f":"IF($A39=\"\",0,SUMIF(勘定入力!$D:$D,11&$A39,勘定入力!$J:$J))","v":0},{"$f":"IF($A39=\"\",0,SUMIF(勘定入力!$D:$D,11&$A39,勘定入力!$K:$K))","v":0},{"$f":"IF($A39=\"\",0,SUMIF(勘定入力!$D:$D,12&$A39,勘定入力!$J:$J))","v":0},{"$f":"IF($A39=\"\",0,SUMIF(勘定入力!$D:$D,12&$A39,勘定入力!$K:$K))","v":0}]
[{"$f":"入力補助!C36","v":0},0,0,{"$f":"IF($A40=\"\",0,SUMIF(勘定入力!$D:$D,1&$A40,勘定入力!$J:$J))","v":0},{"$f":"IF($A40=\"\",0,SUMIF(勘定入力!$D:$D,1&$A40,勘定入力!$K:$K))","v":0},{"$f":"IF($A40=\"\",0,SUMIF(勘定入力!$D:$D,2&$A40,勘定入力!$J:$J))","v":0},{"$f":"IF($A40=\"\",0,SUMIF(勘定入力!$D:$D,2&$A40,勘定入力!$K:$K))","v":0},{"$f":"IF($A40=\"\",0,SUMIF(勘定入力!$D:$D,3&$A40,勘定入力!$J:$J))","v":0},{"$f":"IF($A40=\"\",0,SUMIF(勘定入力!$D:$D,3&$A40,勘定入力!$K:$K))","v":0},{"$f":"IF($A40=\"\",0,SUMIF(勘定入力!$D:$D,4&$A40,勘定入力!$J:$J))","v":0},{"$f":"IF($A40=\"\",0,SUMIF(勘定入力!$D:$D,4&$A40,勘定入力!$K:$K))","v":0},{"$f":"IF($A40=\"\",0,SUMIF(勘定入力!$D:$D,5&$A40,勘定入力!$J:$J))","v":0},{"$f":"IF($A40=\"\",0,SUMIF(勘定入力!$D:$D,5&$A40,勘定入力!$K:$K))","v":0},{"$f":"IF($A40=\"\",0,SUMIF(勘定入力!$D:$D,6&$A40,勘定入力!$J:$J))","v":0},{"$f":"IF($A40=\"\",0,SUMIF(勘定入力!$D:$D,6&$A40,勘定入力!$K:$K))","v":0},{"$f":"IF($A40=\"\",0,SUMIF(勘定入力!$D:$D,7&$A40,勘定入力!$J:$J))","v":0},{"$f":"IF($A40=\"\",0,SUMIF(勘定入力!$D:$D,7&$A40,勘定入力!$K:$K))","v":0},{"$f":"IF($A40=\"\",0,SUMIF(勘定入力!$D:$D,8&$A40,勘定入力!$J:$J))","v":0},{"$f":"IF($A40=\"\",0,SUMIF(勘定入力!$D:$D,8&$A40,勘定入力!$K:$K))","v":0},{"$f":"IF($A40=\"\",0,SUMIF(勘定入力!$D:$D,9&$A40,勘定入力!$J:$J))","v":0},{"$f":"IF($A40=\"\",0,SUMIF(勘定入力!$D:$D,9&$A40,勘定入力!$K:$K))","v":0},{"$f":"IF($A40=\"\",0,SUMIF(勘定入力!$D:$D,10&$A40,勘定入力!$J:$J))","v":0},{"$f":"IF($A40=\"\",0,SUMIF(勘定入力!$D:$D,10&$A40,勘定入力!$K:$K))","v":0},{"$f":"IF($A40=\"\",0,SUMIF(勘定入力!$D:$D,11&$A40,勘定入力!$J:$J))","v":0},{"$f":"IF($A40=\"\",0,SUMIF(勘定入力!$D:$D,11&$A40,勘定入力!$K:$K))","v":0},{"$f":"IF($A40=\"\",0,SUMIF(勘定入力!$D:$D,12&$A40,勘定入力!$J:$J))","v":0},{"$f":"IF($A40=\"\",0,SUMIF(勘定入力!$D:$D,12&$A40,勘定入力!$K:$K))","v":0}]
[{"$f":"入力補助!C37","v":0},0,0,{"$f":"IF($A41=\"\",0,SUMIF(勘定入力!$D:$D,1&$A41,勘定入力!$J:$J))","v":0},{"$f":"IF($A41=\"\",0,SUMIF(勘定入力!$D:$D,1&$A41,勘定入力!$K:$K))","v":0},{"$f":"IF($A41=\"\",0,SUMIF(勘定入力!$D:$D,2&$A41,勘定入力!$J:$J))","v":0},{"$f":"IF($A41=\"\",0,SUMIF(勘定入力!$D:$D,2&$A41,勘定入力!$K:$K))","v":0},{"$f":"IF($A41=\"\",0,SUMIF(勘定入力!$D:$D,3&$A41,勘定入力!$J:$J))","v":0},{"$f":"IF($A41=\"\",0,SUMIF(勘定入力!$D:$D,3&$A41,勘定入力!$K:$K))","v":0},{"$f":"IF($A41=\"\",0,SUMIF(勘定入力!$D:$D,4&$A41,勘定入力!$J:$J))","v":0},{"$f":"IF($A41=\"\",0,SUMIF(勘定入力!$D:$D,4&$A41,勘定入力!$K:$K))","v":0},{"$f":"IF($A41=\"\",0,SUMIF(勘定入力!$D:$D,5&$A41,勘定入力!$J:$J))","v":0},{"$f":"IF($A41=\"\",0,SUMIF(勘定入力!$D:$D,5&$A41,勘定入力!$K:$K))","v":0},{"$f":"IF($A41=\"\",0,SUMIF(勘定入力!$D:$D,6&$A41,勘定入力!$J:$J))","v":0},{"$f":"IF($A41=\"\",0,SUMIF(勘定入力!$D:$D,6&$A41,勘定入力!$K:$K))","v":0},{"$f":"IF($A41=\"\",0,SUMIF(勘定入力!$D:$D,7&$A41,勘定入力!$J:$J))","v":0},{"$f":"IF($A41=\"\",0,SUMIF(勘定入力!$D:$D,7&$A41,勘定入力!$K:$K))","v":0},{"$f":"IF($A41=\"\",0,SUMIF(勘定入力!$D:$D,8&$A41,勘定入力!$J:$J))","v":0},{"$f":"IF($A41=\"\",0,SUMIF(勘定入力!$D:$D,8&$A41,勘定入力!$K:$K))","v":0},{"$f":"IF($A41=\"\",0,SUMIF(勘定入力!$D:$D,9&$A41,勘定入力!$J:$J))","v":0},{"$f":"IF($A41=\"\",0,SUMIF(勘定入力!$D:$D,9&$A41,勘定入力!$K:$K))","v":0},{"$f":"IF($A41=\"\",0,SUMIF(勘定入力!$D:$D,10&$A41,勘定入力!$J:$J))","v":0},{"$f":"IF($A41=\"\",0,SUMIF(勘定入力!$D:$D,10&$A41,勘定入力!$K:$K))","v":0},{"$f":"IF($A41=\"\",0,SUMIF(勘定入力!$D:$D,11&$A41,勘定入力!$J:$J))","v":0},{"$f":"IF($A41=\"\",0,SUMIF(勘定入力!$D:$D,11&$A41,勘定入力!$K:$K))","v":0},{"$f":"IF($A41=\"\",0,SUMIF(勘定入力!$D:$D,12&$A41,勘定入力!$J:$J))","v":0},{"$f":"IF($A41=\"\",0,SUMIF(勘定入力!$D:$D,12&$A41,勘定入力!$K:$K))","v":0}]
[{"$f":"入力補助!C38","v":0},0,0,{"$f":"IF($A42=\"\",0,SUMIF(勘定入力!$D:$D,1&$A42,勘定入力!$J:$J))","v":0},{"$f":"IF($A42=\"\",0,SUMIF(勘定入力!$D:$D,1&$A42,勘定入力!$K:$K))","v":0},{"$f":"IF($A42=\"\",0,SUMIF(勘定入力!$D:$D,2&$A42,勘定入力!$J:$J))","v":0},{"$f":"IF($A42=\"\",0,SUMIF(勘定入力!$D:$D,2&$A42,勘定入力!$K:$K))","v":0},{"$f":"IF($A42=\"\",0,SUMIF(勘定入力!$D:$D,3&$A42,勘定入力!$J:$J))","v":0},{"$f":"IF($A42=\"\",0,SUMIF(勘定入力!$D:$D,3&$A42,勘定入力!$K:$K))","v":0},{"$f":"IF($A42=\"\",0,SUMIF(勘定入力!$D:$D,4&$A42,勘定入力!$J:$J))","v":0},{"$f":"IF($A42=\"\",0,SUMIF(勘定入力!$D:$D,4&$A42,勘定入力!$K:$K))","v":0},{"$f":"IF($A42=\"\",0,SUMIF(勘定入力!$D:$D,5&$A42,勘定入力!$J:$J))","v":0},{"$f":"IF($A42=\"\",0,SUMIF(勘定入力!$D:$D,5&$A42,勘定入力!$K:$K))","v":0},{"$f":"IF($A42=\"\",0,SUMIF(勘定入力!$D:$D,6&$A42,勘定入力!$J:$J))","v":0},{"$f":"IF($A42=\"\",0,SUMIF(勘定入力!$D:$D,6&$A42,勘定入力!$K:$K))","v":0},{"$f":"IF($A42=\"\",0,SUMIF(勘定入力!$D:$D,7&$A42,勘定入力!$J:$J))","v":0},{"$f":"IF($A42=\"\",0,SUMIF(勘定入力!$D:$D,7&$A42,勘定入力!$K:$K))","v":0},{"$f":"IF($A42=\"\",0,SUMIF(勘定入力!$D:$D,8&$A42,勘定入力!$J:$J))","v":0},{"$f":"IF($A42=\"\",0,SUMIF(勘定入力!$D:$D,8&$A42,勘定入力!$K:$K))","v":0},{"$f":"IF($A42=\"\",0,SUMIF(勘定入力!$D:$D,9&$A42,勘定入力!$J:$J))","v":0},{"$f":"IF($A42=\"\",0,SUMIF(勘定入力!$D:$D,9&$A42,勘定入力!$K:$K))","v":0},{"$f":"IF($A42=\"\",0,SUMIF(勘定入力!$D:$D,10&$A42,勘定入力!$J:$J))","v":0},{"$f":"IF($A42=\"\",0,SUMIF(勘定入力!$D:$D,10&$A42,勘定入力!$K:$K))","v":0},{"$f":"IF($A42=\"\",0,SUMIF(勘定入力!$D:$D,11&$A42,勘定入力!$J:$J))","v":0},{"$f":"IF($A42=\"\",0,SUMIF(勘定入力!$D:$D,11&$A42,勘定入力!$K:$K))","v":0},{"$f":"IF($A42=\"\",0,SUMIF(勘定入力!$D:$D,12&$A42,勘定入力!$J:$J))","v":0},{"$f":"IF($A42=\"\",0,SUMIF(勘定入力!$D:$D,12&$A42,勘定入力!$K:$K))","v":0}]
[{"$f":"入力補助!C39","v":0},0,0,{"$f":"IF($A43=\"\",0,SUMIF(勘定入力!$D:$D,1&$A43,勘定入力!$J:$J))","v":0},{"$f":"IF($A43=\"\",0,SUMIF(勘定入力!$D:$D,1&$A43,勘定入力!$K:$K))","v":0},{"$f":"IF($A43=\"\",0,SUMIF(勘定入力!$D:$D,2&$A43,勘定入力!$J:$J))","v":0},{"$f":"IF($A43=\"\",0,SUMIF(勘定入力!$D:$D,2&$A43,勘定入力!$K:$K))","v":0},{"$f":"IF($A43=\"\",0,SUMIF(勘定入力!$D:$D,3&$A43,勘定入力!$J:$J))","v":0},{"$f":"IF($A43=\"\",0,SUMIF(勘定入力!$D:$D,3&$A43,勘定入力!$K:$K))","v":0},{"$f":"IF($A43=\"\",0,SUMIF(勘定入力!$D:$D,4&$A43,勘定入力!$J:$J))","v":0},{"$f":"IF($A43=\"\",0,SUMIF(勘定入力!$D:$D,4&$A43,勘定入力!$K:$K))","v":0},{"$f":"IF($A43=\"\",0,SUMIF(勘定入力!$D:$D,5&$A43,勘定入力!$J:$J))","v":0},{"$f":"IF($A43=\"\",0,SUMIF(勘定入力!$D:$D,5&$A43,勘定入力!$K:$K))","v":0},{"$f":"IF($A43=\"\",0,SUMIF(勘定入力!$D:$D,6&$A43,勘定入力!$J:$J))","v":0},{"$f":"IF($A43=\"\",0,SUMIF(勘定入力!$D:$D,6&$A43,勘定入力!$K:$K))","v":0},{"$f":"IF($A43=\"\",0,SUMIF(勘定入力!$D:$D,7&$A43,勘定入力!$J:$J))","v":0},{"$f":"IF($A43=\"\",0,SUMIF(勘定入力!$D:$D,7&$A43,勘定入力!$K:$K))","v":0},{"$f":"IF($A43=\"\",0,SUMIF(勘定入力!$D:$D,8&$A43,勘定入力!$J:$J))","v":0},{"$f":"IF($A43=\"\",0,SUMIF(勘定入力!$D:$D,8&$A43,勘定入力!$K:$K))","v":0},{"$f":"IF($A43=\"\",0,SUMIF(勘定入力!$D:$D,9&$A43,勘定入力!$J:$J))","v":0},{"$f":"IF($A43=\"\",0,SUMIF(勘定入力!$D:$D,9&$A43,勘定入力!$K:$K))","v":0},{"$f":"IF($A43=\"\",0,SUMIF(勘定入力!$D:$D,10&$A43,勘定入力!$J:$J))","v":0},{"$f":"IF($A43=\"\",0,SUMIF(勘定入力!$D:$D,10&$A43,勘定入力!$K:$K))","v":0},{"$f":"IF($A43=\"\",0,SUMIF(勘定入力!$D:$D,11&$A43,勘定入力!$J:$J))","v":0},{"$f":"IF($A43=\"\",0,SUMIF(勘定入力!$D:$D,11&$A43,勘定入力!$K:$K))","v":0},{"$f":"IF($A43=\"\",0,SUMIF(勘定入力!$D:$D,12&$A43,勘定入力!$J:$J))","v":0},{"$f":"IF($A43=\"\",0,SUMIF(勘定入力!$D:$D,12&$A43,勘定入力!$K:$K))","v":0}]
[{"$f":"入力補助!C40","v":0},0,0,{"$f":"IF($A44=\"\",0,SUMIF(勘定入力!$D:$D,1&$A44,勘定入力!$J:$J))","v":0},{"$f":"IF($A44=\"\",0,SUMIF(勘定入力!$D:$D,1&$A44,勘定入力!$K:$K))","v":0},{"$f":"IF($A44=\"\",0,SUMIF(勘定入力!$D:$D,2&$A44,勘定入力!$J:$J))","v":0},{"$f":"IF($A44=\"\",0,SUMIF(勘定入力!$D:$D,2&$A44,勘定入力!$K:$K))","v":0},{"$f":"IF($A44=\"\",0,SUMIF(勘定入力!$D:$D,3&$A44,勘定入力!$J:$J))","v":0},{"$f":"IF($A44=\"\",0,SUMIF(勘定入力!$D:$D,3&$A44,勘定入力!$K:$K))","v":0},{"$f":"IF($A44=\"\",0,SUMIF(勘定入力!$D:$D,4&$A44,勘定入力!$J:$J))","v":0},{"$f":"IF($A44=\"\",0,SUMIF(勘定入力!$D:$D,4&$A44,勘定入力!$K:$K))","v":0},{"$f":"IF($A44=\"\",0,SUMIF(勘定入力!$D:$D,5&$A44,勘定入力!$J:$J))","v":0},{"$f":"IF($A44=\"\",0,SUMIF(勘定入力!$D:$D,5&$A44,勘定入力!$K:$K))","v":0},{"$f":"IF($A44=\"\",0,SUMIF(勘定入力!$D:$D,6&$A44,勘定入力!$J:$J))","v":0},{"$f":"IF($A44=\"\",0,SUMIF(勘定入力!$D:$D,6&$A44,勘定入力!$K:$K))","v":0},{"$f":"IF($A44=\"\",0,SUMIF(勘定入力!$D:$D,7&$A44,勘定入力!$J:$J))","v":0},{"$f":"IF($A44=\"\",0,SUMIF(勘定入力!$D:$D,7&$A44,勘定入力!$K:$K))","v":0},{"$f":"IF($A44=\"\",0,SUMIF(勘定入力!$D:$D,8&$A44,勘定入力!$J:$J))","v":0},{"$f":"IF($A44=\"\",0,SUMIF(勘定入力!$D:$D,8&$A44,勘定入力!$K:$K))","v":0},{"$f":"IF($A44=\"\",0,SUMIF(勘定入力!$D:$D,9&$A44,勘定入力!$J:$J))","v":0},{"$f":"IF($A44=\"\",0,SUMIF(勘定入力!$D:$D,9&$A44,勘定入力!$K:$K))","v":0},{"$f":"IF($A44=\"\",0,SUMIF(勘定入力!$D:$D,10&$A44,勘定入力!$J:$J))","v":0},{"$f":"IF($A44=\"\",0,SUMIF(勘定入力!$D:$D,10&$A44,勘定入力!$K:$K))","v":0},{"$f":"IF($A44=\"\",0,SUMIF(勘定入力!$D:$D,11&$A44,勘定入力!$J:$J))","v":0},{"$f":"IF($A44=\"\",0,SUMIF(勘定入力!$D:$D,11&$A44,勘定入力!$K:$K))","v":0},{"$f":"IF($A44=\"\",0,SUMIF(勘定入力!$D:$D,12&$A44,勘定入力!$J:$J))","v":0},{"$f":"IF($A44=\"\",0,SUMIF(勘定入力!$D:$D,12&$A44,勘定入力!$K:$K))","v":0}]
[{"$f":"入力補助!C41","v":0},0,0,{"$f":"IF($A45=\"\",0,SUMIF(勘定入力!$D:$D,1&$A45,勘定入力!$J:$J))","v":0},{"$f":"IF($A45=\"\",0,SUMIF(勘定入力!$D:$D,1&$A45,勘定入力!$K:$K))","v":0},{"$f":"IF($A45=\"\",0,SUMIF(勘定入力!$D:$D,2&$A45,勘定入力!$J:$J))","v":0},{"$f":"IF($A45=\"\",0,SUMIF(勘定入力!$D:$D,2&$A45,勘定入力!$K:$K))","v":0},{"$f":"IF($A45=\"\",0,SUMIF(勘定入力!$D:$D,3&$A45,勘定入力!$J:$J))","v":0},{"$f":"IF($A45=\"\",0,SUMIF(勘定入力!$D:$D,3&$A45,勘定入力!$K:$K))","v":0},{"$f":"IF($A45=\"\",0,SUMIF(勘定入力!$D:$D,4&$A45,勘定入力!$J:$J))","v":0},{"$f":"IF($A45=\"\",0,SUMIF(勘定入力!$D:$D,4&$A45,勘定入力!$K:$K))","v":0},{"$f":"IF($A45=\"\",0,SUMIF(勘定入力!$D:$D,5&$A45,勘定入力!$J:$J))","v":0},{"$f":"IF($A45=\"\",0,SUMIF(勘定入力!$D:$D,5&$A45,勘定入力!$K:$K))","v":0},{"$f":"IF($A45=\"\",0,SUMIF(勘定入力!$D:$D,6&$A45,勘定入力!$J:$J))","v":0},{"$f":"IF($A45=\"\",0,SUMIF(勘定入力!$D:$D,6&$A45,勘定入力!$K:$K))","v":0},{"$f":"IF($A45=\"\",0,SUMIF(勘定入力!$D:$D,7&$A45,勘定入力!$J:$J))","v":0},{"$f":"IF($A45=\"\",0,SUMIF(勘定入力!$D:$D,7&$A45,勘定入力!$K:$K))","v":0},{"$f":"IF($A45=\"\",0,SUMIF(勘定入力!$D:$D,8&$A45,勘定入力!$J:$J))","v":0},{"$f":"IF($A45=\"\",0,SUMIF(勘定入力!$D:$D,8&$A45,勘定入力!$K:$K))","v":0},{"$f":"IF($A45=\"\",0,SUMIF(勘定入力!$D:$D,9&$A45,勘定入力!$J:$J))","v":0},{"$f":"IF($A45=\"\",0,SUMIF(勘定入力!$D:$D,9&$A45,勘定入力!$K:$K))","v":0},{"$f":"IF($A45=\"\",0,SUMIF(勘定入力!$D:$D,10&$A45,勘定入力!$J:$J))","v":0},{"$f":"IF($A45=\"\",0,SUMIF(勘定入力!$D:$D,10&$A45,勘定入力!$K:$K))","v":0},{"$f":"IF($A45=\"\",0,SUMIF(勘定入力!$D:$D,11&$A45,勘定入力!$J:$J))","v":0},{"$f":"IF($A45=\"\",0,SUMIF(勘定入力!$D:$D,11&$A45,勘定入力!$K:$K))","v":0},{"$f":"IF($A45=\"\",0,SUMIF(勘定入力!$D:$D,12&$A45,勘定入力!$J:$J))","v":0},{"$f":"IF($A45=\"\",0,SUMIF(勘定入力!$D:$D,12&$A45,勘定入力!$K:$K))","v":0}]
[{"$f":"入力補助!C42","v":0},0,0,{"$f":"IF($A46=\"\",0,SUMIF(勘定入力!$D:$D,1&$A46,勘定入力!$J:$J))","v":0},{"$f":"IF($A46=\"\",0,SUMIF(勘定入力!$D:$D,1&$A46,勘定入力!$K:$K))","v":0},{"$f":"IF($A46=\"\",0,SUMIF(勘定入力!$D:$D,2&$A46,勘定入力!$J:$J))","v":0},{"$f":"IF($A46=\"\",0,SUMIF(勘定入力!$D:$D,2&$A46,勘定入力!$K:$K))","v":0},{"$f":"IF($A46=\"\",0,SUMIF(勘定入力!$D:$D,3&$A46,勘定入力!$J:$J))","v":0},{"$f":"IF($A46=\"\",0,SUMIF(勘定入力!$D:$D,3&$A46,勘定入力!$K:$K))","v":0},{"$f":"IF($A46=\"\",0,SUMIF(勘定入力!$D:$D,4&$A46,勘定入力!$J:$J))","v":0},{"$f":"IF($A46=\"\",0,SUMIF(勘定入力!$D:$D,4&$A46,勘定入力!$K:$K))","v":0},{"$f":"IF($A46=\"\",0,SUMIF(勘定入力!$D:$D,5&$A46,勘定入力!$J:$J))","v":0},{"$f":"IF($A46=\"\",0,SUMIF(勘定入力!$D:$D,5&$A46,勘定入力!$K:$K))","v":0},{"$f":"IF($A46=\"\",0,SUMIF(勘定入力!$D:$D,6&$A46,勘定入力!$J:$J))","v":0},{"$f":"IF($A46=\"\",0,SUMIF(勘定入力!$D:$D,6&$A46,勘定入力!$K:$K))","v":0},{"$f":"IF($A46=\"\",0,SUMIF(勘定入力!$D:$D,7&$A46,勘定入力!$J:$J))","v":0},{"$f":"IF($A46=\"\",0,SUMIF(勘定入力!$D:$D,7&$A46,勘定入力!$K:$K))","v":0},{"$f":"IF($A46=\"\",0,SUMIF(勘定入力!$D:$D,8&$A46,勘定入力!$J:$J))","v":0},{"$f":"IF($A46=\"\",0,SUMIF(勘定入力!$D:$D,8&$A46,勘定入力!$K:$K))","v":0},{"$f":"IF($A46=\"\",0,SUMIF(勘定入力!$D:$D,9&$A46,勘定入力!$J:$J))","v":0},{"$f":"IF($A46=\"\",0,SUMIF(勘定入力!$D:$D,9&$A46,勘定入力!$K:$K))","v":0},{"$f":"IF($A46=\"\",0,SUMIF(勘定入力!$D:$D,10&$A46,勘定入力!$J:$J))","v":0},{"$f":"IF($A46=\"\",0,SUMIF(勘定入力!$D:$D,10&$A46,勘定入力!$K:$K))","v":0},{"$f":"IF($A46=\"\",0,SUMIF(勘定入力!$D:$D,11&$A46,勘定入力!$J:$J))","v":0},{"$f":"IF($A46=\"\",0,SUMIF(勘定入力!$D:$D,11&$A46,勘定入力!$K:$K))","v":0},{"$f":"IF($A46=\"\",0,SUMIF(勘定入力!$D:$D,12&$A46,勘定入力!$J:$J))","v":0},{"$f":"IF($A46=\"\",0,SUMIF(勘定入力!$D:$D,12&$A46,勘定入力!$K:$K))","v":0}]
[{"$f":"入力補助!C43","v":0},0,0,{"$f":"IF($A47=\"\",0,SUMIF(勘定入力!$D:$D,1&$A47,勘定入力!$J:$J))","v":0},{"$f":"IF($A47=\"\",0,SUMIF(勘定入力!$D:$D,1&$A47,勘定入力!$K:$K))","v":0},{"$f":"IF($A47=\"\",0,SUMIF(勘定入力!$D:$D,2&$A47,勘定入力!$J:$J))","v":0},{"$f":"IF($A47=\"\",0,SUMIF(勘定入力!$D:$D,2&$A47,勘定入力!$K:$K))","v":0},{"$f":"IF($A47=\"\",0,SUMIF(勘定入力!$D:$D,3&$A47,勘定入力!$J:$J))","v":0},{"$f":"IF($A47=\"\",0,SUMIF(勘定入力!$D:$D,3&$A47,勘定入力!$K:$K))","v":0},{"$f":"IF($A47=\"\",0,SUMIF(勘定入力!$D:$D,4&$A47,勘定入力!$J:$J))","v":0},{"$f":"IF($A47=\"\",0,SUMIF(勘定入力!$D:$D,4&$A47,勘定入力!$K:$K))","v":0},{"$f":"IF($A47=\"\",0,SUMIF(勘定入力!$D:$D,5&$A47,勘定入力!$J:$J))","v":0},{"$f":"IF($A47=\"\",0,SUMIF(勘定入力!$D:$D,5&$A47,勘定入力!$K:$K))","v":0},{"$f":"IF($A47=\"\",0,SUMIF(勘定入力!$D:$D,6&$A47,勘定入力!$J:$J))","v":0},{"$f":"IF($A47=\"\",0,SUMIF(勘定入力!$D:$D,6&$A47,勘定入力!$K:$K))","v":0},{"$f":"IF($A47=\"\",0,SUMIF(勘定入力!$D:$D,7&$A47,勘定入力!$J:$J))","v":0},{"$f":"IF($A47=\"\",0,SUMIF(勘定入力!$D:$D,7&$A47,勘定入力!$K:$K))","v":0},{"$f":"IF($A47=\"\",0,SUMIF(勘定入力!$D:$D,8&$A47,勘定入力!$J:$J))","v":0},{"$f":"IF($A47=\"\",0,SUMIF(勘定入力!$D:$D,8&$A47,勘定入力!$K:$K))","v":0},{"$f":"IF($A47=\"\",0,SUMIF(勘定入力!$D:$D,9&$A47,勘定入力!$J:$J))","v":0},{"$f":"IF($A47=\"\",0,SUMIF(勘定入力!$D:$D,9&$A47,勘定入力!$K:$K))","v":0},{"$f":"IF($A47=\"\",0,SUMIF(勘定入力!$D:$D,10&$A47,勘定入力!$J:$J))","v":0},{"$f":"IF($A47=\"\",0,SUMIF(勘定入力!$D:$D,10&$A47,勘定入力!$K:$K))","v":0},{"$f":"IF($A47=\"\",0,SUMIF(勘定入力!$D:$D,11&$A47,勘定入力!$J:$J))","v":0},{"$f":"IF($A47=\"\",0,SUMIF(勘定入力!$D:$D,11&$A47,勘定入力!$K:$K))","v":0},{"$f":"IF($A47=\"\",0,SUMIF(勘定入力!$D:$D,12&$A47,勘定入力!$J:$J))","v":0},{"$f":"IF($A47=\"\",0,SUMIF(勘定入力!$D:$D,12&$A47,勘定入力!$K:$K))","v":0}]
[{"$f":"入力補助!C44","v":0},0,0,{"$f":"IF($A48=\"\",0,SUMIF(勘定入力!$D:$D,1&$A48,勘定入力!$J:$J))","v":0},{"$f":"IF($A48=\"\",0,SUMIF(勘定入力!$D:$D,1&$A48,勘定入力!$K:$K))","v":0},{"$f":"IF($A48=\"\",0,SUMIF(勘定入力!$D:$D,2&$A48,勘定入力!$J:$J))","v":0},{"$f":"IF($A48=\"\",0,SUMIF(勘定入力!$D:$D,2&$A48,勘定入力!$K:$K))","v":0},{"$f":"IF($A48=\"\",0,SUMIF(勘定入力!$D:$D,3&$A48,勘定入力!$J:$J))","v":0},{"$f":"IF($A48=\"\",0,SUMIF(勘定入力!$D:$D,3&$A48,勘定入力!$K:$K))","v":0},{"$f":"IF($A48=\"\",0,SUMIF(勘定入力!$D:$D,4&$A48,勘定入力!$J:$J))","v":0},{"$f":"IF($A48=\"\",0,SUMIF(勘定入力!$D:$D,4&$A48,勘定入力!$K:$K))","v":0},{"$f":"IF($A48=\"\",0,SUMIF(勘定入力!$D:$D,5&$A48,勘定入力!$J:$J))","v":0},{"$f":"IF($A48=\"\",0,SUMIF(勘定入力!$D:$D,5&$A48,勘定入力!$K:$K))","v":0},{"$f":"IF($A48=\"\",0,SUMIF(勘定入力!$D:$D,6&$A48,勘定入力!$J:$J))","v":0},{"$f":"IF($A48=\"\",0,SUMIF(勘定入力!$D:$D,6&$A48,勘定入力!$K:$K))","v":0},{"$f":"IF($A48=\"\",0,SUMIF(勘定入力!$D:$D,7&$A48,勘定入力!$J:$J))","v":0},{"$f":"IF($A48=\"\",0,SUMIF(勘定入力!$D:$D,7&$A48,勘定入力!$K:$K))","v":0},{"$f":"IF($A48=\"\",0,SUMIF(勘定入力!$D:$D,8&$A48,勘定入力!$J:$J))","v":0},{"$f":"IF($A48=\"\",0,SUMIF(勘定入力!$D:$D,8&$A48,勘定入力!$K:$K))","v":0},{"$f":"IF($A48=\"\",0,SUMIF(勘定入力!$D:$D,9&$A48,勘定入力!$J:$J))","v":0},{"$f":"IF($A48=\"\",0,SUMIF(勘定入力!$D:$D,9&$A48,勘定入力!$K:$K))","v":0},{"$f":"IF($A48=\"\",0,SUMIF(勘定入力!$D:$D,10&$A48,勘定入力!$J:$J))","v":0},{"$f":"IF($A48=\"\",0,SUMIF(勘定入力!$D:$D,10&$A48,勘定入力!$K:$K))","v":0},{"$f":"IF($A48=\"\",0,SUMIF(勘定入力!$D:$D,11&$A48,勘定入力!$J:$J))","v":0},{"$f":"IF($A48=\"\",0,SUMIF(勘定入力!$D:$D,11&$A48,勘定入力!$K:$K))","v":0},{"$f":"IF($A48=\"\",0,SUMIF(勘定入力!$D:$D,12&$A48,勘定入力!$J:$J))","v":0},{"$f":"IF($A48=\"\",0,SUMIF(勘定入力!$D:$D,12&$A48,勘定入力!$K:$K))","v":0}]
[{"$f":"入力補助!C45","v":0},0,0,{"$f":"IF($A49=\"\",0,SUMIF(勘定入力!$D:$D,1&$A49,勘定入力!$J:$J))","v":0},{"$f":"IF($A49=\"\",0,SUMIF(勘定入力!$D:$D,1&$A49,勘定入力!$K:$K))","v":0},{"$f":"IF($A49=\"\",0,SUMIF(勘定入力!$D:$D,2&$A49,勘定入力!$J:$J))","v":0},{"$f":"IF($A49=\"\",0,SUMIF(勘定入力!$D:$D,2&$A49,勘定入力!$K:$K))","v":0},{"$f":"IF($A49=\"\",0,SUMIF(勘定入力!$D:$D,3&$A49,勘定入力!$J:$J))","v":0},{"$f":"IF($A49=\"\",0,SUMIF(勘定入力!$D:$D,3&$A49,勘定入力!$K:$K))","v":0},{"$f":"IF($A49=\"\",0,SUMIF(勘定入力!$D:$D,4&$A49,勘定入力!$J:$J))","v":0},{"$f":"IF($A49=\"\",0,SUMIF(勘定入力!$D:$D,4&$A49,勘定入力!$K:$K))","v":0},{"$f":"IF($A49=\"\",0,SUMIF(勘定入力!$D:$D,5&$A49,勘定入力!$J:$J))","v":0},{"$f":"IF($A49=\"\",0,SUMIF(勘定入力!$D:$D,5&$A49,勘定入力!$K:$K))","v":0},{"$f":"IF($A49=\"\",0,SUMIF(勘定入力!$D:$D,6&$A49,勘定入力!$J:$J))","v":0},{"$f":"IF($A49=\"\",0,SUMIF(勘定入力!$D:$D,6&$A49,勘定入力!$K:$K))","v":0},{"$f":"IF($A49=\"\",0,SUMIF(勘定入力!$D:$D,7&$A49,勘定入力!$J:$J))","v":0},{"$f":"IF($A49=\"\",0,SUMIF(勘定入力!$D:$D,7&$A49,勘定入力!$K:$K))","v":0},{"$f":"IF($A49=\"\",0,SUMIF(勘定入力!$D:$D,8&$A49,勘定入力!$J:$J))","v":0},{"$f":"IF($A49=\"\",0,SUMIF(勘定入力!$D:$D,8&$A49,勘定入力!$K:$K))","v":0},{"$f":"IF($A49=\"\",0,SUMIF(勘定入力!$D:$D,9&$A49,勘定入力!$J:$J))","v":0},{"$f":"IF($A49=\"\",0,SUMIF(勘定入力!$D:$D,9&$A49,勘定入力!$K:$K))","v":0},{"$f":"IF($A49=\"\",0,SUMIF(勘定入力!$D:$D,10&$A49,勘定入力!$J:$J))","v":0},{"$f":"IF($A49=\"\",0,SUMIF(勘定入力!$D:$D,10&$A49,勘定入力!$K:$K))","v":0},{"$f":"IF($A49=\"\",0,SUMIF(勘定入力!$D:$D,11&$A49,勘定入力!$J:$J))","v":0},{"$f":"IF($A49=\"\",0,SUMIF(勘定入力!$D:$D,11&$A49,勘定入力!$K:$K))","v":0},{"$f":"IF($A49=\"\",0,SUMIF(勘定入力!$D:$D,12&$A49,勘定入力!$J:$J))","v":0},{"$f":"IF($A49=\"\",0,SUMIF(勘定入力!$D:$D,12&$A49,勘定入力!$K:$K))","v":0}]
[{"$f":"入力補助!C46","v":0},0,0,{"$f":"IF($A50=\"\",0,SUMIF(勘定入力!$D:$D,1&$A50,勘定入力!$J:$J))","v":0},{"$f":"IF($A50=\"\",0,SUMIF(勘定入力!$D:$D,1&$A50,勘定入力!$K:$K))","v":0},{"$f":"IF($A50=\"\",0,SUMIF(勘定入力!$D:$D,2&$A50,勘定入力!$J:$J))","v":0},{"$f":"IF($A50=\"\",0,SUMIF(勘定入力!$D:$D,2&$A50,勘定入力!$K:$K))","v":0},{"$f":"IF($A50=\"\",0,SUMIF(勘定入力!$D:$D,3&$A50,勘定入力!$J:$J))","v":0},{"$f":"IF($A50=\"\",0,SUMIF(勘定入力!$D:$D,3&$A50,勘定入力!$K:$K))","v":0},{"$f":"IF($A50=\"\",0,SUMIF(勘定入力!$D:$D,4&$A50,勘定入力!$J:$J))","v":0},{"$f":"IF($A50=\"\",0,SUMIF(勘定入力!$D:$D,4&$A50,勘定入力!$K:$K))","v":0},{"$f":"IF($A50=\"\",0,SUMIF(勘定入力!$D:$D,5&$A50,勘定入力!$J:$J))","v":0},{"$f":"IF($A50=\"\",0,SUMIF(勘定入力!$D:$D,5&$A50,勘定入力!$K:$K))","v":0},{"$f":"IF($A50=\"\",0,SUMIF(勘定入力!$D:$D,6&$A50,勘定入力!$J:$J))","v":0},{"$f":"IF($A50=\"\",0,SUMIF(勘定入力!$D:$D,6&$A50,勘定入力!$K:$K))","v":0},{"$f":"IF($A50=\"\",0,SUMIF(勘定入力!$D:$D,7&$A50,勘定入力!$J:$J))","v":0},{"$f":"IF($A50=\"\",0,SUMIF(勘定入力!$D:$D,7&$A50,勘定入力!$K:$K))","v":0},{"$f":"IF($A50=\"\",0,SUMIF(勘定入力!$D:$D,8&$A50,勘定入力!$J:$J))","v":0},{"$f":"IF($A50=\"\",0,SUMIF(勘定入力!$D:$D,8&$A50,勘定入力!$K:$K))","v":0},{"$f":"IF($A50=\"\",0,SUMIF(勘定入力!$D:$D,9&$A50,勘定入力!$J:$J))","v":0},{"$f":"IF($A50=\"\",0,SUMIF(勘定入力!$D:$D,9&$A50,勘定入力!$K:$K))","v":0},{"$f":"IF($A50=\"\",0,SUMIF(勘定入力!$D:$D,10&$A50,勘定入力!$J:$J))","v":0},{"$f":"IF($A50=\"\",0,SUMIF(勘定入力!$D:$D,10&$A50,勘定入力!$K:$K))","v":0},{"$f":"IF($A50=\"\",0,SUMIF(勘定入力!$D:$D,11&$A50,勘定入力!$J:$J))","v":0},{"$f":"IF($A50=\"\",0,SUMIF(勘定入力!$D:$D,11&$A50,勘定入力!$K:$K))","v":0},{"$f":"IF($A50=\"\",0,SUMIF(勘定入力!$D:$D,12&$A50,勘定入力!$J:$J))","v":0},{"$f":"IF($A50=\"\",0,SUMIF(勘定入力!$D:$D,12&$A50,勘定入力!$K:$K))","v":0}]
[{"$f":"入力補助!C47","v":0},0,0,{"$f":"IF($A51=\"\",0,SUMIF(勘定入力!$D:$D,1&$A51,勘定入力!$J:$J))","v":0},{"$f":"IF($A51=\"\",0,SUMIF(勘定入力!$D:$D,1&$A51,勘定入力!$K:$K))","v":0},{"$f":"IF($A51=\"\",0,SUMIF(勘定入力!$D:$D,2&$A51,勘定入力!$J:$J))","v":0},{"$f":"IF($A51=\"\",0,SUMIF(勘定入力!$D:$D,2&$A51,勘定入力!$K:$K))","v":0},{"$f":"IF($A51=\"\",0,SUMIF(勘定入力!$D:$D,3&$A51,勘定入力!$J:$J))","v":0},{"$f":"IF($A51=\"\",0,SUMIF(勘定入力!$D:$D,3&$A51,勘定入力!$K:$K))","v":0},{"$f":"IF($A51=\"\",0,SUMIF(勘定入力!$D:$D,4&$A51,勘定入力!$J:$J))","v":0},{"$f":"IF($A51=\"\",0,SUMIF(勘定入力!$D:$D,4&$A51,勘定入力!$K:$K))","v":0},{"$f":"IF($A51=\"\",0,SUMIF(勘定入力!$D:$D,5&$A51,勘定入力!$J:$J))","v":0},{"$f":"IF($A51=\"\",0,SUMIF(勘定入力!$D:$D,5&$A51,勘定入力!$K:$K))","v":0},{"$f":"IF($A51=\"\",0,SUMIF(勘定入力!$D:$D,6&$A51,勘定入力!$J:$J))","v":0},{"$f":"IF($A51=\"\",0,SUMIF(勘定入力!$D:$D,6&$A51,勘定入力!$K:$K))","v":0},{"$f":"IF($A51=\"\",0,SUMIF(勘定入力!$D:$D,7&$A51,勘定入力!$J:$J))","v":0},{"$f":"IF($A51=\"\",0,SUMIF(勘定入力!$D:$D,7&$A51,勘定入力!$K:$K))","v":0},{"$f":"IF($A51=\"\",0,SUMIF(勘定入力!$D:$D,8&$A51,勘定入力!$J:$J))","v":0},{"$f":"IF($A51=\"\",0,SUMIF(勘定入力!$D:$D,8&$A51,勘定入力!$K:$K))","v":0},{"$f":"IF($A51=\"\",0,SUMIF(勘定入力!$D:$D,9&$A51,勘定入力!$J:$J))","v":0},{"$f":"IF($A51=\"\",0,SUMIF(勘定入力!$D:$D,9&$A51,勘定入力!$K:$K))","v":0},{"$f":"IF($A51=\"\",0,SUMIF(勘定入力!$D:$D,10&$A51,勘定入力!$J:$J))","v":0},{"$f":"IF($A51=\"\",0,SUMIF(勘定入力!$D:$D,10&$A51,勘定入力!$K:$K))","v":0},{"$f":"IF($A51=\"\",0,SUMIF(勘定入力!$D:$D,11&$A51,勘定入力!$J:$J))","v":0},{"$f":"IF($A51=\"\",0,SUMIF(勘定入力!$D:$D,11&$A51,勘定入力!$K:$K))","v":0},{"$f":"IF($A51=\"\",0,SUMIF(勘定入力!$D:$D,12&$A51,勘定入力!$J:$J))","v":0},{"$f":"IF($A51=\"\",0,SUMIF(勘定入力!$D:$D,12&$A51,勘定入力!$K:$K))","v":0}]
[{"$f":"入力補助!C48","v":0},0,0,{"$f":"IF($A52=\"\",0,SUMIF(勘定入力!$D:$D,1&$A52,勘定入力!$J:$J))","v":0},{"$f":"IF($A52=\"\",0,SUMIF(勘定入力!$D:$D,1&$A52,勘定入力!$K:$K))","v":0},{"$f":"IF($A52=\"\",0,SUMIF(勘定入力!$D:$D,2&$A52,勘定入力!$J:$J))","v":0},{"$f":"IF($A52=\"\",0,SUMIF(勘定入力!$D:$D,2&$A52,勘定入力!$K:$K))","v":0},{"$f":"IF($A52=\"\",0,SUMIF(勘定入力!$D:$D,3&$A52,勘定入力!$J:$J))","v":0},{"$f":"IF($A52=\"\",0,SUMIF(勘定入力!$D:$D,3&$A52,勘定入力!$K:$K))","v":0},{"$f":"IF($A52=\"\",0,SUMIF(勘定入力!$D:$D,4&$A52,勘定入力!$J:$J))","v":0},{"$f":"IF($A52=\"\",0,SUMIF(勘定入力!$D:$D,4&$A52,勘定入力!$K:$K))","v":0},{"$f":"IF($A52=\"\",0,SUMIF(勘定入力!$D:$D,5&$A52,勘定入力!$J:$J))","v":0},{"$f":"IF($A52=\"\",0,SUMIF(勘定入力!$D:$D,5&$A52,勘定入力!$K:$K))","v":0},{"$f":"IF($A52=\"\",0,SUMIF(勘定入力!$D:$D,6&$A52,勘定入力!$J:$J))","v":0},{"$f":"IF($A52=\"\",0,SUMIF(勘定入力!$D:$D,6&$A52,勘定入力!$K:$K))","v":0},{"$f":"IF($A52=\"\",0,SUMIF(勘定入力!$D:$D,7&$A52,勘定入力!$J:$J))","v":0},{"$f":"IF($A52=\"\",0,SUMIF(勘定入力!$D:$D,7&$A52,勘定入力!$K:$K))","v":0},{"$f":"IF($A52=\"\",0,SUMIF(勘定入力!$D:$D,8&$A52,勘定入力!$J:$J))","v":0},{"$f":"IF($A52=\"\",0,SUMIF(勘定入力!$D:$D,8&$A52,勘定入力!$K:$K))","v":0},{"$f":"IF($A52=\"\",0,SUMIF(勘定入力!$D:$D,9&$A52,勘定入力!$J:$J))","v":0},{"$f":"IF($A52=\"\",0,SUMIF(勘定入力!$D:$D,9&$A52,勘定入力!$K:$K))","v":0},{"$f":"IF($A52=\"\",0,SUMIF(勘定入力!$D:$D,10&$A52,勘定入力!$J:$J))","v":0},{"$f":"IF($A52=\"\",0,SUMIF(勘定入力!$D:$D,10&$A52,勘定入力!$K:$K))","v":0},{"$f":"IF($A52=\"\",0,SUMIF(勘定入力!$D:$D,11&$A52,勘定入力!$J:$J))","v":0},{"$f":"IF($A52=\"\",0,SUMIF(勘定入力!$D:$D,11&$A52,勘定入力!$K:$K))","v":0},{"$f":"IF($A52=\"\",0,SUMIF(勘定入力!$D:$D,12&$A52,勘定入力!$J:$J))","v":0},{"$f":"IF($A52=\"\",0,SUMIF(勘定入力!$D:$D,12&$A52,勘定入力!$K:$K))","v":0}]
[{"$f":"入力補助!C49","v":0},0,0,{"$f":"IF($A53=\"\",0,SUMIF(勘定入力!$D:$D,1&$A53,勘定入力!$J:$J))","v":0},{"$f":"IF($A53=\"\",0,SUMIF(勘定入力!$D:$D,1&$A53,勘定入力!$K:$K))","v":0},{"$f":"IF($A53=\"\",0,SUMIF(勘定入力!$D:$D,2&$A53,勘定入力!$J:$J))","v":0},{"$f":"IF($A53=\"\",0,SUMIF(勘定入力!$D:$D,2&$A53,勘定入力!$K:$K))","v":0},{"$f":"IF($A53=\"\",0,SUMIF(勘定入力!$D:$D,3&$A53,勘定入力!$J:$J))","v":0},{"$f":"IF($A53=\"\",0,SUMIF(勘定入力!$D:$D,3&$A53,勘定入力!$K:$K))","v":0},{"$f":"IF($A53=\"\",0,SUMIF(勘定入力!$D:$D,4&$A53,勘定入力!$J:$J))","v":0},{"$f":"IF($A53=\"\",0,SUMIF(勘定入力!$D:$D,4&$A53,勘定入力!$K:$K))","v":0},{"$f":"IF($A53=\"\",0,SUMIF(勘定入力!$D:$D,5&$A53,勘定入力!$J:$J))","v":0},{"$f":"IF($A53=\"\",0,SUMIF(勘定入力!$D:$D,5&$A53,勘定入力!$K:$K))","v":0},{"$f":"IF($A53=\"\",0,SUMIF(勘定入力!$D:$D,6&$A53,勘定入力!$J:$J))","v":0},{"$f":"IF($A53=\"\",0,SUMIF(勘定入力!$D:$D,6&$A53,勘定入力!$K:$K))","v":0},{"$f":"IF($A53=\"\",0,SUMIF(勘定入力!$D:$D,7&$A53,勘定入力!$J:$J))","v":0},{"$f":"IF($A53=\"\",0,SUMIF(勘定入力!$D:$D,7&$A53,勘定入力!$K:$K))","v":0},{"$f":"IF($A53=\"\",0,SUMIF(勘定入力!$D:$D,8&$A53,勘定入力!$J:$J))","v":0},{"$f":"IF($A53=\"\",0,SUMIF(勘定入力!$D:$D,8&$A53,勘定入力!$K:$K))","v":0},{"$f":"IF($A53=\"\",0,SUMIF(勘定入力!$D:$D,9&$A53,勘定入力!$J:$J))","v":0},{"$f":"IF($A53=\"\",0,SUMIF(勘定入力!$D:$D,9&$A53,勘定入力!$K:$K))","v":0},{"$f":"IF($A53=\"\",0,SUMIF(勘定入力!$D:$D,10&$A53,勘定入力!$J:$J))","v":0},{"$f":"IF($A53=\"\",0,SUMIF(勘定入力!$D:$D,10&$A53,勘定入力!$K:$K))","v":0},{"$f":"IF($A53=\"\",0,SUMIF(勘定入力!$D:$D,11&$A53,勘定入力!$J:$J))","v":0},{"$f":"IF($A53=\"\",0,SUMIF(勘定入力!$D:$D,11&$A53,勘定入力!$K:$K))","v":0},{"$f":"IF($A53=\"\",0,SUMIF(勘定入力!$D:$D,12&$A53,勘定入力!$J:$J))","v":0},{"$f":"IF($A53=\"\",0,SUMIF(勘定入力!$D:$D,12&$A53,勘定入力!$K:$K))","v":0}]
[{"$f":"入力補助!C50","v":0},0,0,{"$f":"IF($A54=\"\",0,SUMIF(勘定入力!$D:$D,1&$A54,勘定入力!$J:$J))","v":0},{"$f":"IF($A54=\"\",0,SUMIF(勘定入力!$D:$D,1&$A54,勘定入力!$K:$K))","v":0},{"$f":"IF($A54=\"\",0,SUMIF(勘定入力!$D:$D,2&$A54,勘定入力!$J:$J))","v":0},{"$f":"IF($A54=\"\",0,SUMIF(勘定入力!$D:$D,2&$A54,勘定入力!$K:$K))","v":0},{"$f":"IF($A54=\"\",0,SUMIF(勘定入力!$D:$D,3&$A54,勘定入力!$J:$J))","v":0},{"$f":"IF($A54=\"\",0,SUMIF(勘定入力!$D:$D,3&$A54,勘定入力!$K:$K))","v":0},{"$f":"IF($A54=\"\",0,SUMIF(勘定入力!$D:$D,4&$A54,勘定入力!$J:$J))","v":0},{"$f":"IF($A54=\"\",0,SUMIF(勘定入力!$D:$D,4&$A54,勘定入力!$K:$K))","v":0},{"$f":"IF($A54=\"\",0,SUMIF(勘定入力!$D:$D,5&$A54,勘定入力!$J:$J))","v":0},{"$f":"IF($A54=\"\",0,SUMIF(勘定入力!$D:$D,5&$A54,勘定入力!$K:$K))","v":0},{"$f":"IF($A54=\"\",0,SUMIF(勘定入力!$D:$D,6&$A54,勘定入力!$J:$J))","v":0},{"$f":"IF($A54=\"\",0,SUMIF(勘定入力!$D:$D,6&$A54,勘定入力!$K:$K))","v":0},{"$f":"IF($A54=\"\",0,SUMIF(勘定入力!$D:$D,7&$A54,勘定入力!$J:$J))","v":0},{"$f":"IF($A54=\"\",0,SUMIF(勘定入力!$D:$D,7&$A54,勘定入力!$K:$K))","v":0},{"$f":"IF($A54=\"\",0,SUMIF(勘定入力!$D:$D,8&$A54,勘定入力!$J:$J))","v":0},{"$f":"IF($A54=\"\",0,SUMIF(勘定入力!$D:$D,8&$A54,勘定入力!$K:$K))","v":0},{"$f":"IF($A54=\"\",0,SUMIF(勘定入力!$D:$D,9&$A54,勘定入力!$J:$J))","v":0},{"$f":"IF($A54=\"\",0,SUMIF(勘定入力!$D:$D,9&$A54,勘定入力!$K:$K))","v":0},{"$f":"IF($A54=\"\",0,SUMIF(勘定入力!$D:$D,10&$A54,勘定入力!$J:$J))","v":0},{"$f":"IF($A54=\"\",0,SUMIF(勘定入力!$D:$D,10&$A54,勘定入力!$K:$K))","v":0},{"$f":"IF($A54=\"\",0,SUMIF(勘定入力!$D:$D,11&$A54,勘定入力!$J:$J))","v":0},{"$f":"IF($A54=\"\",0,SUMIF(勘定入力!$D:$D,11&$A54,勘定入力!$K:$K))","v":0},{"$f":"IF($A54=\"\",0,SUMIF(勘定入力!$D:$D,12&$A54,勘定入力!$J:$J))","v":0},{"$f":"IF($A54=\"\",0,SUMIF(勘定入力!$D:$D,12&$A54,勘定入力!$K:$K))","v":0}]
[{"$f":"入力補助!C51","v":0},0,0,{"$f":"IF($A55=\"\",0,SUMIF(勘定入力!$D:$D,1&$A55,勘定入力!$J:$J))","v":0},{"$f":"IF($A55=\"\",0,SUMIF(勘定入力!$D:$D,1&$A55,勘定入力!$K:$K))","v":0},{"$f":"IF($A55=\"\",0,SUMIF(勘定入力!$D:$D,2&$A55,勘定入力!$J:$J))","v":0},{"$f":"IF($A55=\"\",0,SUMIF(勘定入力!$D:$D,2&$A55,勘定入力!$K:$K))","v":0},{"$f":"IF($A55=\"\",0,SUMIF(勘定入力!$D:$D,3&$A55,勘定入力!$J:$J))","v":0},{"$f":"IF($A55=\"\",0,SUMIF(勘定入力!$D:$D,3&$A55,勘定入力!$K:$K))","v":0},{"$f":"IF($A55=\"\",0,SUMIF(勘定入力!$D:$D,4&$A55,勘定入力!$J:$J))","v":0},{"$f":"IF($A55=\"\",0,SUMIF(勘定入力!$D:$D,4&$A55,勘定入力!$K:$K))","v":0},{"$f":"IF($A55=\"\",0,SUMIF(勘定入力!$D:$D,5&$A55,勘定入力!$J:$J))","v":0},{"$f":"IF($A55=\"\",0,SUMIF(勘定入力!$D:$D,5&$A55,勘定入力!$K:$K))","v":0},{"$f":"IF($A55=\"\",0,SUMIF(勘定入力!$D:$D,6&$A55,勘定入力!$J:$J))","v":0},{"$f":"IF($A55=\"\",0,SUMIF(勘定入力!$D:$D,6&$A55,勘定入力!$K:$K))","v":0},{"$f":"IF($A55=\"\",0,SUMIF(勘定入力!$D:$D,7&$A55,勘定入力!$J:$J))","v":0},{"$f":"IF($A55=\"\",0,SUMIF(勘定入力!$D:$D,7&$A55,勘定入力!$K:$K))","v":0},{"$f":"IF($A55=\"\",0,SUMIF(勘定入力!$D:$D,8&$A55,勘定入力!$J:$J))","v":0},{"$f":"IF($A55=\"\",0,SUMIF(勘定入力!$D:$D,8&$A55,勘定入力!$K:$K))","v":0},{"$f":"IF($A55=\"\",0,SUMIF(勘定入力!$D:$D,9&$A55,勘定入力!$J:$J))","v":0},{"$f":"IF($A55=\"\",0,SUMIF(勘定入力!$D:$D,9&$A55,勘定入力!$K:$K))","v":0},{"$f":"IF($A55=\"\",0,SUMIF(勘定入力!$D:$D,10&$A55,勘定入力!$J:$J))","v":0},{"$f":"IF($A55=\"\",0,SUMIF(勘定入力!$D:$D,10&$A55,勘定入力!$K:$K))","v":0},{"$f":"IF($A55=\"\",0,SUMIF(勘定入力!$D:$D,11&$A55,勘定入力!$J:$J))","v":0},{"$f":"IF($A55=\"\",0,SUMIF(勘定入力!$D:$D,11&$A55,勘定入力!$K:$K))","v":0},{"$f":"IF($A55=\"\",0,SUMIF(勘定入力!$D:$D,12&$A55,勘定入力!$J:$J))","v":0},{"$f":"IF($A55=\"\",0,SUMIF(勘定入力!$D:$D,12&$A55,勘定入力!$K:$K))","v":0}]
[{"$f":"入力補助!C52","v":0},0,0,{"$f":"IF($A56=\"\",0,SUMIF(勘定入力!$D:$D,1&$A56,勘定入力!$J:$J))","v":0},{"$f":"IF($A56=\"\",0,SUMIF(勘定入力!$D:$D,1&$A56,勘定入力!$K:$K))","v":0},{"$f":"IF($A56=\"\",0,SUMIF(勘定入力!$D:$D,2&$A56,勘定入力!$J:$J))","v":0},{"$f":"IF($A56=\"\",0,SUMIF(勘定入力!$D:$D,2&$A56,勘定入力!$K:$K))","v":0},{"$f":"IF($A56=\"\",0,SUMIF(勘定入力!$D:$D,3&$A56,勘定入力!$J:$J))","v":0},{"$f":"IF($A56=\"\",0,SUMIF(勘定入力!$D:$D,3&$A56,勘定入力!$K:$K))","v":0},{"$f":"IF($A56=\"\",0,SUMIF(勘定入力!$D:$D,4&$A56,勘定入力!$J:$J))","v":0},{"$f":"IF($A56=\"\",0,SUMIF(勘定入力!$D:$D,4&$A56,勘定入力!$K:$K))","v":0},{"$f":"IF($A56=\"\",0,SUMIF(勘定入力!$D:$D,5&$A56,勘定入力!$J:$J))","v":0},{"$f":"IF($A56=\"\",0,SUMIF(勘定入力!$D:$D,5&$A56,勘定入力!$K:$K))","v":0},{"$f":"IF($A56=\"\",0,SUMIF(勘定入力!$D:$D,6&$A56,勘定入力!$J:$J))","v":0},{"$f":"IF($A56=\"\",0,SUMIF(勘定入力!$D:$D,6&$A56,勘定入力!$K:$K))","v":0},{"$f":"IF($A56=\"\",0,SUMIF(勘定入力!$D:$D,7&$A56,勘定入力!$J:$J))","v":0},{"$f":"IF($A56=\"\",0,SUMIF(勘定入力!$D:$D,7&$A56,勘定入力!$K:$K))","v":0},{"$f":"IF($A56=\"\",0,SUMIF(勘定入力!$D:$D,8&$A56,勘定入力!$J:$J))","v":0},{"$f":"IF($A56=\"\",0,SUMIF(勘定入力!$D:$D,8&$A56,勘定入力!$K:$K))","v":0},{"$f":"IF($A56=\"\",0,SUMIF(勘定入力!$D:$D,9&$A56,勘定入力!$J:$J))","v":0},{"$f":"IF($A56=\"\",0,SUMIF(勘定入力!$D:$D,9&$A56,勘定入力!$K:$K))","v":0},{"$f":"IF($A56=\"\",0,SUMIF(勘定入力!$D:$D,10&$A56,勘定入力!$J:$J))","v":0},{"$f":"IF($A56=\"\",0,SUMIF(勘定入力!$D:$D,10&$A56,勘定入力!$K:$K))","v":0},{"$f":"IF($A56=\"\",0,SUMIF(勘定入力!$D:$D,11&$A56,勘定入力!$J:$J))","v":0},{"$f":"IF($A56=\"\",0,SUMIF(勘定入力!$D:$D,11&$A56,勘定入力!$K:$K))","v":0},{"$f":"IF($A56=\"\",0,SUMIF(勘定入力!$D:$D,12&$A56,勘定入力!$J:$J))","v":0},{"$f":"IF($A56=\"\",0,SUMIF(勘定入力!$D:$D,12&$A56,勘定入力!$K:$K))","v":0}]
[{"$f":"入力補助!C53","v":0},0,0,{"$f":"IF($A57=\"\",0,SUMIF(勘定入力!$D:$D,1&$A57,勘定入力!$J:$J))","v":0},{"$f":"IF($A57=\"\",0,SUMIF(勘定入力!$D:$D,1&$A57,勘定入力!$K:$K))","v":0},{"$f":"IF($A57=\"\",0,SUMIF(勘定入力!$D:$D,2&$A57,勘定入力!$J:$J))","v":0},{"$f":"IF($A57=\"\",0,SUMIF(勘定入力!$D:$D,2&$A57,勘定入力!$K:$K))","v":0},{"$f":"IF($A57=\"\",0,SUMIF(勘定入力!$D:$D,3&$A57,勘定入力!$J:$J))","v":0},{"$f":"IF($A57=\"\",0,SUMIF(勘定入力!$D:$D,3&$A57,勘定入力!$K:$K))","v":0},{"$f":"IF($A57=\"\",0,SUMIF(勘定入力!$D:$D,4&$A57,勘定入力!$J:$J))","v":0},{"$f":"IF($A57=\"\",0,SUMIF(勘定入力!$D:$D,4&$A57,勘定入力!$K:$K))","v":0},{"$f":"IF($A57=\"\",0,SUMIF(勘定入力!$D:$D,5&$A57,勘定入力!$J:$J))","v":0},{"$f":"IF($A57=\"\",0,SUMIF(勘定入力!$D:$D,5&$A57,勘定入力!$K:$K))","v":0},{"$f":"IF($A57=\"\",0,SUMIF(勘定入力!$D:$D,6&$A57,勘定入力!$J:$J))","v":0},{"$f":"IF($A57=\"\",0,SUMIF(勘定入力!$D:$D,6&$A57,勘定入力!$K:$K))","v":0},{"$f":"IF($A57=\"\",0,SUMIF(勘定入力!$D:$D,7&$A57,勘定入力!$J:$J))","v":0},{"$f":"IF($A57=\"\",0,SUMIF(勘定入力!$D:$D,7&$A57,勘定入力!$K:$K))","v":0},{"$f":"IF($A57=\"\",0,SUMIF(勘定入力!$D:$D,8&$A57,勘定入力!$J:$J))","v":0},{"$f":"IF($A57=\"\",0,SUMIF(勘定入力!$D:$D,8&$A57,勘定入力!$K:$K))","v":0},{"$f":"IF($A57=\"\",0,SUMIF(勘定入力!$D:$D,9&$A57,勘定入力!$J:$J))","v":0},{"$f":"IF($A57=\"\",0,SUMIF(勘定入力!$D:$D,9&$A57,勘定入力!$K:$K))","v":0},{"$f":"IF($A57=\"\",0,SUMIF(勘定入力!$D:$D,10&$A57,勘定入力!$J:$J))","v":0},{"$f":"IF($A57=\"\",0,SUMIF(勘定入力!$D:$D,10&$A57,勘定入力!$K:$K))","v":0},{"$f":"IF($A57=\"\",0,SUMIF(勘定入力!$D:$D,11&$A57,勘定入力!$J:$J))","v":0},{"$f":"IF($A57=\"\",0,SUMIF(勘定入力!$D:$D,11&$A57,勘定入力!$K:$K))","v":0},{"$f":"IF($A57=\"\",0,SUMIF(勘定入力!$D:$D,12&$A57,勘定入力!$J:$J))","v":0},{"$f":"IF($A57=\"\",0,SUMIF(勘定入力!$D:$D,12&$A57,勘定入力!$K:$K))","v":0}]
[{"$f":"入力補助!C54","v":0},0,0,{"$f":"IF($A58=\"\",0,SUMIF(勘定入力!$D:$D,1&$A58,勘定入力!$J:$J))","v":0},{"$f":"IF($A58=\"\",0,SUMIF(勘定入力!$D:$D,1&$A58,勘定入力!$K:$K))","v":0},{"$f":"IF($A58=\"\",0,SUMIF(勘定入力!$D:$D,2&$A58,勘定入力!$J:$J))","v":0},{"$f":"IF($A58=\"\",0,SUMIF(勘定入力!$D:$D,2&$A58,勘定入力!$K:$K))","v":0},{"$f":"IF($A58=\"\",0,SUMIF(勘定入力!$D:$D,3&$A58,勘定入力!$J:$J))","v":0},{"$f":"IF($A58=\"\",0,SUMIF(勘定入力!$D:$D,3&$A58,勘定入力!$K:$K))","v":0},{"$f":"IF($A58=\"\",0,SUMIF(勘定入力!$D:$D,4&$A58,勘定入力!$J:$J))","v":0},{"$f":"IF($A58=\"\",0,SUMIF(勘定入力!$D:$D,4&$A58,勘定入力!$K:$K))","v":0},{"$f":"IF($A58=\"\",0,SUMIF(勘定入力!$D:$D,5&$A58,勘定入力!$J:$J))","v":0},{"$f":"IF($A58=\"\",0,SUMIF(勘定入力!$D:$D,5&$A58,勘定入力!$K:$K))","v":0},{"$f":"IF($A58=\"\",0,SUMIF(勘定入力!$D:$D,6&$A58,勘定入力!$J:$J))","v":0},{"$f":"IF($A58=\"\",0,SUMIF(勘定入力!$D:$D,6&$A58,勘定入力!$K:$K))","v":0},{"$f":"IF($A58=\"\",0,SUMIF(勘定入力!$D:$D,7&$A58,勘定入力!$J:$J))","v":0},{"$f":"IF($A58=\"\",0,SUMIF(勘定入力!$D:$D,7&$A58,勘定入力!$K:$K))","v":0},{"$f":"IF($A58=\"\",0,SUMIF(勘定入力!$D:$D,8&$A58,勘定入力!$J:$J))","v":0},{"$f":"IF($A58=\"\",0,SUMIF(勘定入力!$D:$D,8&$A58,勘定入力!$K:$K))","v":0},{"$f":"IF($A58=\"\",0,SUMIF(勘定入力!$D:$D,9&$A58,勘定入力!$J:$J))","v":0},{"$f":"IF($A58=\"\",0,SUMIF(勘定入力!$D:$D,9&$A58,勘定入力!$K:$K))","v":0},{"$f":"IF($A58=\"\",0,SUMIF(勘定入力!$D:$D,10&$A58,勘定入力!$J:$J))","v":0},{"$f":"IF($A58=\"\",0,SUMIF(勘定入力!$D:$D,10&$A58,勘定入力!$K:$K))","v":0},{"$f":"IF($A58=\"\",0,SUMIF(勘定入力!$D:$D,11&$A58,勘定入力!$J:$J))","v":0},{"$f":"IF($A58=\"\",0,SUMIF(勘定入力!$D:$D,11&$A58,勘定入力!$K:$K))","v":0},{"$f":"IF($A58=\"\",0,SUMIF(勘定入力!$D:$D,12&$A58,勘定入力!$J:$J))","v":0},{"$f":"IF($A58=\"\",0,SUMIF(勘定入力!$D:$D,12&$A58,勘定入力!$K:$K))","v":0}]
[{"$f":"入力補助!C55","v":0},0,0,{"$f":"IF($A59=\"\",0,SUMIF(勘定入力!$D:$D,1&$A59,勘定入力!$J:$J))","v":0},{"$f":"IF($A59=\"\",0,SUMIF(勘定入力!$D:$D,1&$A59,勘定入力!$K:$K))","v":0},{"$f":"IF($A59=\"\",0,SUMIF(勘定入力!$D:$D,2&$A59,勘定入力!$J:$J))","v":0},{"$f":"IF($A59=\"\",0,SUMIF(勘定入力!$D:$D,2&$A59,勘定入力!$K:$K))","v":0},{"$f":"IF($A59=\"\",0,SUMIF(勘定入力!$D:$D,3&$A59,勘定入力!$J:$J))","v":0},{"$f":"IF($A59=\"\",0,SUMIF(勘定入力!$D:$D,3&$A59,勘定入力!$K:$K))","v":0},{"$f":"IF($A59=\"\",0,SUMIF(勘定入力!$D:$D,4&$A59,勘定入力!$J:$J))","v":0},{"$f":"IF($A59=\"\",0,SUMIF(勘定入力!$D:$D,4&$A59,勘定入力!$K:$K))","v":0},{"$f":"IF($A59=\"\",0,SUMIF(勘定入力!$D:$D,5&$A59,勘定入力!$J:$J))","v":0},{"$f":"IF($A59=\"\",0,SUMIF(勘定入力!$D:$D,5&$A59,勘定入力!$K:$K))","v":0},{"$f":"IF($A59=\"\",0,SUMIF(勘定入力!$D:$D,6&$A59,勘定入力!$J:$J))","v":0},{"$f":"IF($A59=\"\",0,SUMIF(勘定入力!$D:$D,6&$A59,勘定入力!$K:$K))","v":0},{"$f":"IF($A59=\"\",0,SUMIF(勘定入力!$D:$D,7&$A59,勘定入力!$J:$J))","v":0},{"$f":"IF($A59=\"\",0,SUMIF(勘定入力!$D:$D,7&$A59,勘定入力!$K:$K))","v":0},{"$f":"IF($A59=\"\",0,SUMIF(勘定入力!$D:$D,8&$A59,勘定入力!$J:$J))","v":0},{"$f":"IF($A59=\"\",0,SUMIF(勘定入力!$D:$D,8&$A59,勘定入力!$K:$K))","v":0},{"$f":"IF($A59=\"\",0,SUMIF(勘定入力!$D:$D,9&$A59,勘定入力!$J:$J))","v":0},{"$f":"IF($A59=\"\",0,SUMIF(勘定入力!$D:$D,9&$A59,勘定入力!$K:$K))","v":0},{"$f":"IF($A59=\"\",0,SUMIF(勘定入力!$D:$D,10&$A59,勘定入力!$J:$J))","v":0},{"$f":"IF($A59=\"\",0,SUMIF(勘定入力!$D:$D,10&$A59,勘定入力!$K:$K))","v":0},{"$f":"IF($A59=\"\",0,SUMIF(勘定入力!$D:$D,11&$A59,勘定入力!$J:$J))","v":0},{"$f":"IF($A59=\"\",0,SUMIF(勘定入力!$D:$D,11&$A59,勘定入力!$K:$K))","v":0},{"$f":"IF($A59=\"\",0,SUMIF(勘定入力!$D:$D,12&$A59,勘定入力!$J:$J))","v":0},{"$f":"IF($A59=\"\",0,SUMIF(勘定入力!$D:$D,12&$A59,勘定入力!$K:$K))","v":0}]
[{"$f":"入力補助!C56","v":0},0,0,{"$f":"IF($A60=\"\",0,SUMIF(勘定入力!$D:$D,1&$A60,勘定入力!$J:$J))","v":0},{"$f":"IF($A60=\"\",0,SUMIF(勘定入力!$D:$D,1&$A60,勘定入力!$K:$K))","v":0},{"$f":"IF($A60=\"\",0,SUMIF(勘定入力!$D:$D,2&$A60,勘定入力!$J:$J))","v":0},{"$f":"IF($A60=\"\",0,SUMIF(勘定入力!$D:$D,2&$A60,勘定入力!$K:$K))","v":0},{"$f":"IF($A60=\"\",0,SUMIF(勘定入力!$D:$D,3&$A60,勘定入力!$J:$J))","v":0},{"$f":"IF($A60=\"\",0,SUMIF(勘定入力!$D:$D,3&$A60,勘定入力!$K:$K))","v":0},{"$f":"IF($A60=\"\",0,SUMIF(勘定入力!$D:$D,4&$A60,勘定入力!$J:$J))","v":0},{"$f":"IF($A60=\"\",0,SUMIF(勘定入力!$D:$D,4&$A60,勘定入力!$K:$K))","v":0},{"$f":"IF($A60=\"\",0,SUMIF(勘定入力!$D:$D,5&$A60,勘定入力!$J:$J))","v":0},{"$f":"IF($A60=\"\",0,SUMIF(勘定入力!$D:$D,5&$A60,勘定入力!$K:$K))","v":0},{"$f":"IF($A60=\"\",0,SUMIF(勘定入力!$D:$D,6&$A60,勘定入力!$J:$J))","v":0},{"$f":"IF($A60=\"\",0,SUMIF(勘定入力!$D:$D,6&$A60,勘定入力!$K:$K))","v":0},{"$f":"IF($A60=\"\",0,SUMIF(勘定入力!$D:$D,7&$A60,勘定入力!$J:$J))","v":0},{"$f":"IF($A60=\"\",0,SUMIF(勘定入力!$D:$D,7&$A60,勘定入力!$K:$K))","v":0},{"$f":"IF($A60=\"\",0,SUMIF(勘定入力!$D:$D,8&$A60,勘定入力!$J:$J))","v":0},{"$f":"IF($A60=\"\",0,SUMIF(勘定入力!$D:$D,8&$A60,勘定入力!$K:$K))","v":0},{"$f":"IF($A60=\"\",0,SUMIF(勘定入力!$D:$D,9&$A60,勘定入力!$J:$J))","v":0},{"$f":"IF($A60=\"\",0,SUMIF(勘定入力!$D:$D,9&$A60,勘定入力!$K:$K))","v":0},{"$f":"IF($A60=\"\",0,SUMIF(勘定入力!$D:$D,10&$A60,勘定入力!$J:$J))","v":0},{"$f":"IF($A60=\"\",0,SUMIF(勘定入力!$D:$D,10&$A60,勘定入力!$K:$K))","v":0},{"$f":"IF($A60=\"\",0,SUMIF(勘定入力!$D:$D,11&$A60,勘定入力!$J:$J))","v":0},{"$f":"IF($A60=\"\",0,SUMIF(勘定入力!$D:$D,11&$A60,勘定入力!$K:$K))","v":0},{"$f":"IF($A60=\"\",0,SUMIF(勘定入力!$D:$D,12&$A60,勘定入力!$J:$J))","v":0},{"$f":"IF($A60=\"\",0,SUMIF(勘定入力!$D:$D,12&$A60,勘定入力!$K:$K))","v":0}]
[{"$f":"入力補助!C57","v":0},0,0,{"$f":"IF($A61=\"\",0,SUMIF(勘定入力!$D:$D,1&$A61,勘定入力!$J:$J))","v":0},{"$f":"IF($A61=\"\",0,SUMIF(勘定入力!$D:$D,1&$A61,勘定入力!$K:$K))","v":0},{"$f":"IF($A61=\"\",0,SUMIF(勘定入力!$D:$D,2&$A61,勘定入力!$J:$J))","v":0},{"$f":"IF($A61=\"\",0,SUMIF(勘定入力!$D:$D,2&$A61,勘定入力!$K:$K))","v":0},{"$f":"IF($A61=\"\",0,SUMIF(勘定入力!$D:$D,3&$A61,勘定入力!$J:$J))","v":0},{"$f":"IF($A61=\"\",0,SUMIF(勘定入力!$D:$D,3&$A61,勘定入力!$K:$K))","v":0},{"$f":"IF($A61=\"\",0,SUMIF(勘定入力!$D:$D,4&$A61,勘定入力!$J:$J))","v":0},{"$f":"IF($A61=\"\",0,SUMIF(勘定入力!$D:$D,4&$A61,勘定入力!$K:$K))","v":0},{"$f":"IF($A61=\"\",0,SUMIF(勘定入力!$D:$D,5&$A61,勘定入力!$J:$J))","v":0},{"$f":"IF($A61=\"\",0,SUMIF(勘定入力!$D:$D,5&$A61,勘定入力!$K:$K))","v":0},{"$f":"IF($A61=\"\",0,SUMIF(勘定入力!$D:$D,6&$A61,勘定入力!$J:$J))","v":0},{"$f":"IF($A61=\"\",0,SUMIF(勘定入力!$D:$D,6&$A61,勘定入力!$K:$K))","v":0},{"$f":"IF($A61=\"\",0,SUMIF(勘定入力!$D:$D,7&$A61,勘定入力!$J:$J))","v":0},{"$f":"IF($A61=\"\",0,SUMIF(勘定入力!$D:$D,7&$A61,勘定入力!$K:$K))","v":0},{"$f":"IF($A61=\"\",0,SUMIF(勘定入力!$D:$D,8&$A61,勘定入力!$J:$J))","v":0},{"$f":"IF($A61=\"\",0,SUMIF(勘定入力!$D:$D,8&$A61,勘定入力!$K:$K))","v":0},{"$f":"IF($A61=\"\",0,SUMIF(勘定入力!$D:$D,9&$A61,勘定入力!$J:$J))","v":0},{"$f":"IF($A61=\"\",0,SUMIF(勘定入力!$D:$D,9&$A61,勘定入力!$K:$K))","v":0},{"$f":"IF($A61=\"\",0,SUMIF(勘定入力!$D:$D,10&$A61,勘定入力!$J:$J))","v":0},{"$f":"IF($A61=\"\",0,SUMIF(勘定入力!$D:$D,10&$A61,勘定入力!$K:$K))","v":0},{"$f":"IF($A61=\"\",0,SUMIF(勘定入力!$D:$D,11&$A61,勘定入力!$J:$J))","v":0},{"$f":"IF($A61=\"\",0,SUMIF(勘定入力!$D:$D,11&$A61,勘定入力!$K:$K))","v":0},{"$f":"IF($A61=\"\",0,SUMIF(勘定入力!$D:$D,12&$A61,勘定入力!$J:$J))","v":0},{"$f":"IF($A61=\"\",0,SUMIF(勘定入力!$D:$D,12&$A61,勘定入力!$K:$K))","v":0}]
["合計",{"$f":"SUM(B7:B61)","v":40500},35200,10000,1100,5000,1100,5000,2100,0,3100,0,4100,200,3100,0,6100,5000,4100,5300,4100,0,4100,5000,1100,5000,1100]
[]
[{"$f":"勘定入力!M3","v":"施工先"},"年間合計",null,"１月",null,"２月",null,"３月",null,"４月",null,"５月",null,"６月",null,"７月",null,"８月",null,"９月",null,"１０月",null,"１１月",null,"１２月"]
[{"$f":"IF(B3=B121,\"\",\"入力確認要\")","v":""},"入金","支払","入金","支払","入金","支払","入金","支払","入金","支払","入金","支払","入金","支払","入金","支払","入金","支払","入金","支払","入金","支払","入金","支払","入金","支払"]
[{"$f":"入力補助!J3","v":"○○会社"},{"$f":"D66+F66+H66+J66+L66+N66+P66+R66+T66+V66+X66+Z66","v":0},{"$f":"E66+G66+I66+K66+M66+O66+Q66+S66+U66+W66+Y66+AA66","v":1200},{"$f":"IF($A66=\"\",0,SUMIF(勘定入力!$E:$E,1&$A66,勘定入力!$J:$J))","v":0},{"$f":"IF($A66=\"\",0,SUMIF(勘定入力!$E:$E,1&$A66,勘定入力!$K:$K))","v":100},{"$f":"IF($A66=\"\",0,SUMIF(勘定入力!$E:$E,2&$A66,勘定入力!$J:$J))","v":0},{"$f":"IF($A66=\"\",0,SUMIF(勘定入力!$E:$E,2&$A66,勘定入力!$K:$K))","v":100},{"$f":"IF($A66=\"\",0,SUMIF(勘定入力!$E:$E,3&$A66,勘定入力!$J:$J))","v":0},{"$f":"IF($A66=\"\",0,SUMIF(勘定入力!$E:$E,3&$A66,勘定入力!$K:$K))","v":100},{"$f":"IF($A66=\"\",0,SUMIF(勘定入力!$E:$E,4&$A66,勘定入力!$J:$J))","v":0},{"$f":"IF($A66=\"\",0,SUMIF(勘定入力!$E:$E,4&$A66,勘定入力!$K:$K))","v":100},{"$f":"IF($A66=\"\",0,SUMIF(勘定入力!$E:$E,5&$A66,勘定入力!$J:$J))","v":0},{"$f":"IF($A66=\"\",0,SUMIF(勘定入力!$E:$E,5&$A66,勘定入力!$K:$K))","v":100},{"$f":"IF($A66=\"\",0,SUMIF(勘定入力!$E:$E,6&$A66,勘定入力!$J:$J))","v":0},{"$f":"IF($A66=\"\",0,SUMIF(勘定入力!$E:$E,6&$A66,勘定入力!$K:$K))","v":100},{"$f":"IF($A66=\"\",0,SUMIF(勘定入力!$E:$E,7&$A66,勘定入力!$J:$J))","v":0},{"$f":"IF($A66=\"\",0,SUMIF(勘定入力!$E:$E,7&$A66,勘定入力!$K:$K))","v":100},{"$f":"IF($A66=\"\",0,SUMIF(勘定入力!$E:$E,8&$A66,勘定入力!$J:$J))","v":0},{"$f":"IF($A66=\"\",0,SUMIF(勘定入力!$E:$E,8&$A66,勘定入力!$K:$K))","v":100},{"$f":"IF($A66=\"\",0,SUMIF(勘定入力!$E:$E,9&$A66,勘定入力!$J:$J))","v":0},{"$f":"IF($A66=\"\",0,SUMIF(勘定入力!$E:$E,9&$A66,勘定入力!$K:$K))","v":100},{"$f":"IF($A66=\"\",0,SUMIF(勘定入力!$E:$E,10&$A66,勘定入力!$J:$J))","v":0},{"$f":"IF($A66=\"\",0,SUMIF(勘定入力!$E:$E,10&$A66,勘定入力!$K:$K))","v":100},{"$f":"IF($A66=\"\",0,SUMIF(勘定入力!$E:$E,11&$A66,勘定入力!$J:$J))","v":0},{"$f":"IF($A66=\"\",0,SUMIF(勘定入力!$E:$E,11&$A66,勘定入力!$K:$K))","v":100},{"$f":"IF($A66=\"\",0,SUMIF(勘定入力!$E:$E,12&$A66,勘定入力!$J:$J))","v":0},{"$f":"IF($A66=\"\",0,SUMIF(勘定入力!$E:$E,12&$A66,勘定入力!$K:$K))","v":100}]
[{"$f":"入力補助!J4","v":"従業員（固定費）"},{"$f":"D67+F67+H67+J67+L67+N67+P67+R67+T67+V67+X67+Z67","v":0},{"$f":"E67+G67+I67+K67+M67+O67+Q67+S67+U67+W67+Y67+AA67","v":12000},{"$f":"IF($A67=\"\",0,SUMIF(勘定入力!$E:$E,1&$A67,勘定入力!$J:$J))","v":0},{"$f":"IF($A67=\"\",0,SUMIF(勘定入力!$E:$E,1&$A67,勘定入力!$K:$K))","v":1000},{"$f":"IF($A67=\"\",0,SUMIF(勘定入力!$E:$E,2&$A67,勘定入力!$J:$J))","v":0},{"$f":"IF($A67=\"\",0,SUMIF(勘定入力!$E:$E,2&$A67,勘定入力!$K:$K))","v":1000},{"$f":"IF($A67=\"\",0,SUMIF(勘定入力!$E:$E,3&$A67,勘定入力!$J:$J))","v":0},{"$f":"IF($A67=\"\",0,SUMIF(勘定入力!$E:$E,3&$A67,勘定入力!$K:$K))","v":1000},{"$f":"IF($A67=\"\",0,SUMIF(勘定入力!$E:$E,4&$A67,勘定入力!$J:$J))","v":0},{"$f":"IF($A67=\"\",0,SUMIF(勘定入力!$E:$E,4&$A67,勘定入力!$K:$K))","v":1000},{"$f":"IF($A67=\"\",0,SUMIF(勘定入力!$E:$E,5&$A67,勘定入力!$J:$J))","v":0},{"$f":"IF($A67=\"\",0,SUMIF(勘定入力!$E:$E,5&$A67,勘定入力!$K:$K))","v":1000},{"$f":"IF($A67=\"\",0,SUMIF(勘定入力!$E:$E,6&$A67,勘定入力!$J:$J))","v":0},{"$f":"IF($A67=\"\",0,SUMIF(勘定入力!$E:$E,6&$A67,勘定入力!$K:$K))","v":1000},{"$f":"IF($A67=\"\",0,SUMIF(勘定入力!$E:$E,7&$A67,勘定入力!$J:$J))","v":0},{"$f":"IF($A67=\"\",0,SUMIF(勘定入力!$E:$E,7&$A67,勘定入力!$K:$K))","v":1000},{"$f":"IF($A67=\"\",0,SUMIF(勘定入力!$E:$E,8&$A67,勘定入力!$J:$J))","v":0},{"$f":"IF($A67=\"\",0,SUMIF(勘定入力!$E:$E,8&$A67,勘定入力!$K:$K))","v":1000},{"$f":"IF($A67=\"\",0,SUMIF(勘定入力!$E:$E,9&$A67,勘定入力!$J:$J))","v":0},{"$f":"IF($A67=\"\",0,SUMIF(勘定入力!$E:$E,9&$A67,勘定入力!$K:$K))","v":1000},{"$f":"IF($A67=\"\",0,SUMIF(勘定入力!$E:$E,10&$A67,勘定入力!$J:$J))","v":0},{"$f":"IF($A67=\"\",0,SUMIF(勘定入力!$E:$E,10&$A67,勘定入力!$K:$K))","v":1000},{"$f":"IF($A67=\"\",0,SUMIF(勘定入力!$E:$E,11&$A67,勘定入力!$J:$J))","v":0},{"$f":"IF($A67=\"\",0,SUMIF(勘定入力!$E:$E,11&$A67,勘定入力!$K:$K))","v":1000},{"$f":"IF($A67=\"\",0,SUMIF(勘定入力!$E:$E,12&$A67,勘定入力!$J:$J))","v":0},{"$f":"IF($A67=\"\",0,SUMIF(勘定入力!$E:$E,12&$A67,勘定入力!$K:$K))","v":1000}]
[{"$f":"入力補助!J5","v":"一般ユーザ"},500,0,{"$f":"IF($A68=\"\",0,SUMIF(勘定入力!$E:$E,1&$A68,勘定入力!$J:$J))","v":0},{"$f":"IF($A68=\"\",0,SUMIF(勘定入力!$E:$E,1&$A68,勘定入力!$K:$K))","v":0},{"$f":"IF($A68=\"\",0,SUMIF(勘定入力!$E:$E,2&$A68,勘定入力!$J:$J))","v":0},{"$f":"IF($A68=\"\",0,SUMIF(勘定入力!$E:$E,2&$A68,勘定入力!$K:$K))","v":0},{"$f":"IF($A68=\"\",0,SUMIF(勘定入力!$E:$E,3&$A68,勘定入力!$J:$J))","v":0},{"$f":"IF($A68=\"\",0,SUMIF(勘定入力!$E:$E,3&$A68,勘定入力!$K:$K))","v":0},{"$f":"IF($A68=\"\",0,SUMIF(勘定入力!$E:$E,4&$A68,勘定入力!$J:$J))","v":0},{"$f":"IF($A68=\"\",0,SUMIF(勘定入力!$E:$E,4&$A68,勘定入力!$K:$K))","v":0},{"$f":"IF($A68=\"\",0,SUMIF(勘定入力!$E:$E,5&$A68,勘定入力!$J:$J))","v":0},{"$f":"IF($A68=\"\",0,SUMIF(勘定入力!$E:$E,5&$A68,勘定入力!$K:$K))","v":0},{"$f":"IF($A68=\"\",0,SUMIF(勘定入力!$E:$E,6&$A68,勘定入力!$J:$J))","v":200},{"$f":"IF($A68=\"\",0,SUMIF(勘定入力!$E:$E,6&$A68,勘定入力!$K:$K))","v":0},{"$f":"IF($A68=\"\",0,SUMIF(勘定入力!$E:$E,7&$A68,勘定入力!$J:$J))","v":0},{"$f":"IF($A68=\"\",0,SUMIF(勘定入力!$E:$E,7&$A68,勘定入力!$K:$K))","v":0},{"$f":"IF($A68=\"\",0,SUMIF(勘定入力!$E:$E,8&$A68,勘定入力!$J:$J))","v":0},{"$f":"IF($A68=\"\",0,SUMIF(勘定入力!$E:$E,8&$A68,勘定入力!$K:$K))","v":0},{"$f":"IF($A68=\"\",0,SUMIF(勘定入力!$E:$E,9&$A68,勘定入力!$J:$J))","v":300},{"$f":"IF($A68=\"\",0,SUMIF(勘定入力!$E:$E,9&$A68,勘定入力!$K:$K))","v":0},{"$f":"IF($A68=\"\",0,SUMIF(勘定入力!$E:$E,10&$A68,勘定入力!$J:$J))","v":0},{"$f":"IF($A68=\"\",0,SUMIF(勘定入力!$E:$E,10&$A68,勘定入力!$K:$K))","v":0},{"$f":"IF($A68=\"\",0,SUMIF(勘定入力!$E:$E,11&$A68,勘定入力!$J:$J))","v":0},{"$f":"IF($A68=\"\",0,SUMIF(勘定入力!$E:$E,11&$A68,勘定入力!$K:$K))","v":0},{"$f":"IF($A68=\"\",0,SUMIF(勘定入力!$E:$E,12&$A68,勘定入力!$J:$J))","v":0},{"$f":"IF($A68=\"\",0,SUMIF(勘定入力!$E:$E,12&$A68,勘定入力!$K:$K))","v":0}]
[{"$f":"入力補助!J6","v":"A1邸"},15000,11000,{"$f":"IF($A69=\"\",0,SUMIF(勘定入力!$E:$E,1&$A69,勘定入力!$J:$J))","v":0},{"$f":"IF($A69=\"\",0,SUMIF(勘定入力!$E:$E,1&$A69,勘定入力!$K:$K))","v":0},{"$f":"IF($A69=\"\",0,SUMIF(勘定入力!$E:$E,2&$A69,勘定入力!$J:$J))","v":5000},{"$f":"IF($A69=\"\",0,SUMIF(勘定入力!$E:$E,2&$A69,勘定入力!$K:$K))","v":0},{"$f":"IF($A69=\"\",0,SUMIF(勘定入力!$E:$E,3&$A69,勘定入力!$J:$J))","v":0},{"$f":"IF($A69=\"\",0,SUMIF(勘定入力!$E:$E,3&$A69,勘定入力!$K:$K))","v":1000},{"$f":"IF($A69=\"\",0,SUMIF(勘定入力!$E:$E,4&$A69,勘定入力!$J:$J))","v":0},{"$f":"IF($A69=\"\",0,SUMIF(勘定入力!$E:$E,4&$A69,勘定入力!$K:$K))","v":2000},{"$f":"IF($A69=\"\",0,SUMIF(勘定入力!$E:$E,5&$A69,勘定入力!$J:$J))","v":0},{"$f":"IF($A69=\"\",0,SUMIF(勘定入力!$E:$E,5&$A69,勘定入力!$K:$K))","v":0},{"$f":"IF($A69=\"\",0,SUMIF(勘定入力!$E:$E,6&$A69,勘定入力!$J:$J))","v":0},{"$f":"IF($A69=\"\",0,SUMIF(勘定入力!$E:$E,6&$A69,勘定入力!$K:$K))","v":2000},{"$f":"IF($A69=\"\",0,SUMIF(勘定入力!$E:$E,7&$A69,勘定入力!$J:$J))","v":0},{"$f":"IF($A69=\"\",0,SUMIF(勘定入力!$E:$E,7&$A69,勘定入力!$K:$K))","v":3000},{"$f":"IF($A69=\"\",0,SUMIF(勘定入力!$E:$E,8&$A69,勘定入力!$J:$J))","v":5000},{"$f":"IF($A69=\"\",0,SUMIF(勘定入力!$E:$E,8&$A69,勘定入力!$K:$K))","v":0},{"$f":"IF($A69=\"\",0,SUMIF(勘定入力!$E:$E,9&$A69,勘定入力!$J:$J))","v":0},{"$f":"IF($A69=\"\",0,SUMIF(勘定入力!$E:$E,9&$A69,勘定入力!$K:$K))","v":3000},{"$f":"IF($A69=\"\",0,SUMIF(勘定入力!$E:$E,10&$A69,勘定入力!$J:$J))","v":0},{"$f":"IF($A69=\"\",0,SUMIF(勘定入力!$E:$E,10&$A69,勘定入力!$K:$K))","v":0},{"$f":"IF($A69=\"\",0,SUMIF(勘定入力!$E:$E,11&$A69,勘定入力!$J:$J))","v":5000},{"$f":"IF($A69=\"\",0,SUMIF(勘定入力!$E:$E,11&$A69,勘定入力!$K:$K))","v":0},{"$f":"IF($A69=\"\",0,SUMIF(勘定入力!$E:$E,12&$A69,勘定入力!$J:$J))","v":0},{"$f":"IF($A69=\"\",0,SUMIF(勘定入力!$E:$E,12&$A69,勘定入力!$K:$K))","v":0}]
[{"$f":"入力補助!J7","v":"A2邸"},15000,11000,{"$f":"IF($A70=\"\",0,SUMIF(勘定入力!$E:$E,1&$A70,勘定入力!$J:$J))","v":0},{"$f":"IF($A70=\"\",0,SUMIF(勘定入力!$E:$E,1&$A70,勘定入力!$K:$K))","v":0},{"$f":"IF($A70=\"\",0,SUMIF(勘定入力!$E:$E,2&$A70,勘定入力!$J:$J))","v":0},{"$f":"IF($A70=\"\",0,SUMIF(勘定入力!$E:$E,2&$A70,勘定入力!$K:$K))","v":0},{"$f":"IF($A70=\"\",0,SUMIF(勘定入力!$E:$E,3&$A70,勘定入力!$J:$J))","v":5000},{"$f":"IF($A70=\"\",0,SUMIF(勘定入力!$E:$E,3&$A70,勘定入力!$K:$K))","v":0},{"$f":"IF($A70=\"\",0,SUMIF(勘定入力!$E:$E,4&$A70,勘定入力!$J:$J))","v":0},{"$f":"IF($A70=\"\",0,SUMIF(勘定入力!$E:$E,4&$A70,勘定入力!$K:$K))","v":0},{"$f":"IF($A70=\"\",0,SUMIF(勘定入力!$E:$E,5&$A70,勘定入力!$J:$J))","v":0},{"$f":"IF($A70=\"\",0,SUMIF(勘定入力!$E:$E,5&$A70,勘定入力!$K:$K))","v":3000},{"$f":"IF($A70=\"\",0,SUMIF(勘定入力!$E:$E,6&$A70,勘定入力!$J:$J))","v":0},{"$f":"IF($A70=\"\",0,SUMIF(勘定入力!$E:$E,6&$A70,勘定入力!$K:$K))","v":0},{"$f":"IF($A70=\"\",0,SUMIF(勘定入力!$E:$E,7&$A70,勘定入力!$J:$J))","v":0},{"$f":"IF($A70=\"\",0,SUMIF(勘定入力!$E:$E,7&$A70,勘定入力!$K:$K))","v":2000},{"$f":"IF($A70=\"\",0,SUMIF(勘定入力!$E:$E,8&$A70,勘定入力!$J:$J))","v":0},{"$f":"IF($A70=\"\",0,SUMIF(勘定入力!$E:$E,8&$A70,勘定入力!$K:$K))","v":3000},{"$f":"IF($A70=\"\",0,SUMIF(勘定入力!$E:$E,9&$A70,勘定入力!$J:$J))","v":5000},{"$f":"IF($A70=\"\",0,SUMIF(勘定入力!$E:$E,9&$A70,勘定入力!$K:$K))","v":0},{"$f":"IF($A70=\"\",0,SUMIF(勘定入力!$E:$E,10&$A70,勘定入力!$J:$J))","v":0},{"$f":"IF($A70=\"\",0,SUMIF(勘定入力!$E:$E,10&$A70,勘定入力!$K:$K))","v":3000},{"$f":"IF($A70=\"\",0,SUMIF(勘定入力!$E:$E,11&$A70,勘定入力!$J:$J))","v":0},{"$f":"IF($A70=\"\",0,SUMIF(勘定入力!$E:$E,11&$A70,勘定入力!$K:$K))","v":0},{"$f":"IF($A70=\"\",0,SUMIF(勘定入力!$E:$E,12&$A70,勘定入力!$J:$J))","v":5000},{"$f":"IF($A70=\"\",0,SUMIF(勘定入力!$E:$E,12&$A70,勘定入力!$K:$K))","v":0}]
[{"$f":"入力補助!J8","v":"A3邸"},0,0,{"$f":"IF($A71=\"\",0,SUMIF(勘定入力!$E:$E,1&$A71,勘定入力!$J:$J))","v":0},{"$f":"IF($A71=\"\",0,SUMIF(勘定入力!$E:$E,1&$A71,勘定入力!$K:$K))","v":0},{"$f":"IF($A71=\"\",0,SUMIF(勘定入力!$E:$E,2&$A71,勘定入力!$J:$J))","v":0},{"$f":"IF($A71=\"\",0,SUMIF(勘定入力!$E:$E,2&$A71,勘定入力!$K:$K))","v":0},{"$f":"IF($A71=\"\",0,SUMIF(勘定入力!$E:$E,3&$A71,勘定入力!$J:$J))","v":0},{"$f":"IF($A71=\"\",0,SUMIF(勘定入力!$E:$E,3&$A71,勘定入力!$K:$K))","v":0},{"$f":"IF($A71=\"\",0,SUMIF(勘定入力!$E:$E,4&$A71,勘定入力!$J:$J))","v":0},{"$f":"IF($A71=\"\",0,SUMIF(勘定入力!$E:$E,4&$A71,勘定入力!$K:$K))","v":0},{"$f":"IF($A71=\"\",0,SUMIF(勘定入力!$E:$E,5&$A71,勘定入力!$J:$J))","v":0},{"$f":"IF($A71=\"\",0,SUMIF(勘定入力!$E:$E,5&$A71,勘定入力!$K:$K))","v":0},{"$f":"IF($A71=\"\",0,SUMIF(勘定入力!$E:$E,6&$A71,勘定入力!$J:$J))","v":0},{"$f":"IF($A71=\"\",0,SUMIF(勘定入力!$E:$E,6&$A71,勘定入力!$K:$K))","v":0},{"$f":"IF($A71=\"\",0,SUMIF(勘定入力!$E:$E,7&$A71,勘定入力!$J:$J))","v":0},{"$f":"IF($A71=\"\",0,SUMIF(勘定入力!$E:$E,7&$A71,勘定入力!$K:$K))","v":0},{"$f":"IF($A71=\"\",0,SUMIF(勘定入力!$E:$E,8&$A71,勘定入力!$J:$J))","v":0},{"$f":"IF($A71=\"\",0,SUMIF(勘定入力!$E:$E,8&$A71,勘定入力!$K:$K))","v":0},{"$f":"IF($A71=\"\",0,SUMIF(勘定入力!$E:$E,9&$A71,勘定入力!$J:$J))","v":0},{"$f":"IF($A71=\"\",0,SUMIF(勘定入力!$E:$E,9&$A71,勘定入力!$K:$K))","v":0},{"$f":"IF($A71=\"\",0,SUMIF(勘定入力!$E:$E,10&$A71,勘定入力!$J:$J))","v":0},{"$f":"IF($A71=\"\",0,SUMIF(勘定入力!$E:$E,10&$A71,勘定入力!$K:$K))","v":0},{"$f":"IF($A71=\"\",0,SUMIF(勘定入力!$E:$E,11&$A71,勘定入力!$J:$J))","v":0},{"$f":"IF($A71=\"\",0,SUMIF(勘定入力!$E:$E,11&$A71,勘定入力!$K:$K))","v":0},{"$f":"IF($A71=\"\",0,SUMIF(勘定入力!$E:$E,12&$A71,勘定入力!$J:$J))","v":0},{"$f":"IF($A71=\"\",0,SUMIF(勘定入力!$E:$E,12&$A71,勘定入力!$K:$K))","v":0}]
[{"$f":"入力補助!J9","v":"A4邸"},0,0,{"$f":"IF($A72=\"\",0,SUMIF(勘定入力!$E:$E,1&$A72,勘定入力!$J:$J))","v":0},{"$f":"IF($A72=\"\",0,SUMIF(勘定入力!$E:$E,1&$A72,勘定入力!$K:$K))","v":0},{"$f":"IF($A72=\"\",0,SUMIF(勘定入力!$E:$E,2&$A72,勘定入力!$J:$J))","v":0},{"$f":"IF($A72=\"\",0,SUMIF(勘定入力!$E:$E,2&$A72,勘定入力!$K:$K))","v":0},{"$f":"IF($A72=\"\",0,SUMIF(勘定入力!$E:$E,3&$A72,勘定入力!$J:$J))","v":0},{"$f":"IF($A72=\"\",0,SUMIF(勘定入力!$E:$E,3&$A72,勘定入力!$K:$K))","v":0},{"$f":"IF($A72=\"\",0,SUMIF(勘定入力!$E:$E,4&$A72,勘定入力!$J:$J))","v":0},{"$f":"IF($A72=\"\",0,SUMIF(勘定入力!$E:$E,4&$A72,勘定入力!$K:$K))","v":0},{"$f":"IF($A72=\"\",0,SUMIF(勘定入力!$E:$E,5&$A72,勘定入力!$J:$J))","v":0},{"$f":"IF($A72=\"\",0,SUMIF(勘定入力!$E:$E,5&$A72,勘定入力!$K:$K))","v":0},{"$f":"IF($A72=\"\",0,SUMIF(勘定入力!$E:$E,6&$A72,勘定入力!$J:$J))","v":0},{"$f":"IF($A72=\"\",0,SUMIF(勘定入力!$E:$E,6&$A72,勘定入力!$K:$K))","v":0},{"$f":"IF($A72=\"\",0,SUMIF(勘定入力!$E:$E,7&$A72,勘定入力!$J:$J))","v":0},{"$f":"IF($A72=\"\",0,SUMIF(勘定入力!$E:$E,7&$A72,勘定入力!$K:$K))","v":0},{"$f":"IF($A72=\"\",0,SUMIF(勘定入力!$E:$E,8&$A72,勘定入力!$J:$J))","v":0},{"$f":"IF($A72=\"\",0,SUMIF(勘定入力!$E:$E,8&$A72,勘定入力!$K:$K))","v":0},{"$f":"IF($A72=\"\",0,SUMIF(勘定入力!$E:$E,9&$A72,勘定入力!$J:$J))","v":0},{"$f":"IF($A72=\"\",0,SUMIF(勘定入力!$E:$E,9&$A72,勘定入力!$K:$K))","v":0},{"$f":"IF($A72=\"\",0,SUMIF(勘定入力!$E:$E,10&$A72,勘定入力!$J:$J))","v":0},{"$f":"IF($A72=\"\",0,SUMIF(勘定入力!$E:$E,10&$A72,勘定入力!$K:$K))","v":0},{"$f":"IF($A72=\"\",0,SUMIF(勘定入力!$E:$E,11&$A72,勘定入力!$J:$J))","v":0},{"$f":"IF($A72=\"\",0,SUMIF(勘定入力!$E:$E,11&$A72,勘定入力!$K:$K))","v":0},{"$f":"IF($A72=\"\",0,SUMIF(勘定入力!$E:$E,12&$A72,勘定入力!$J:$J))","v":0},{"$f":"IF($A72=\"\",0,SUMIF(勘定入力!$E:$E,12&$A72,勘定入力!$K:$K))","v":0}]
[{"$f":"入力補助!J10","v":"A5邸"},0,0,{"$f":"IF($A73=\"\",0,SUMIF(勘定入力!$E:$E,1&$A73,勘定入力!$J:$J))","v":0},{"$f":"IF($A73=\"\",0,SUMIF(勘定入力!$E:$E,1&$A73,勘定入力!$K:$K))","v":0},{"$f":"IF($A73=\"\",0,SUMIF(勘定入力!$E:$E,2&$A73,勘定入力!$J:$J))","v":0},{"$f":"IF($A73=\"\",0,SUMIF(勘定入力!$E:$E,2&$A73,勘定入力!$K:$K))","v":0},{"$f":"IF($A73=\"\",0,SUMIF(勘定入力!$E:$E,3&$A73,勘定入力!$J:$J))","v":0},{"$f":"IF($A73=\"\",0,SUMIF(勘定入力!$E:$E,3&$A73,勘定入力!$K:$K))","v":0},{"$f":"IF($A73=\"\",0,SUMIF(勘定入力!$E:$E,4&$A73,勘定入力!$J:$J))","v":0},{"$f":"IF($A73=\"\",0,SUMIF(勘定入力!$E:$E,4&$A73,勘定入力!$K:$K))","v":0},{"$f":"IF($A73=\"\",0,SUMIF(勘定入力!$E:$E,5&$A73,勘定入力!$J:$J))","v":0},{"$f":"IF($A73=\"\",0,SUMIF(勘定入力!$E:$E,5&$A73,勘定入力!$K:$K))","v":0},{"$f":"IF($A73=\"\",0,SUMIF(勘定入力!$E:$E,6&$A73,勘定入力!$J:$J))","v":0},{"$f":"IF($A73=\"\",0,SUMIF(勘定入力!$E:$E,6&$A73,勘定入力!$K:$K))","v":0},{"$f":"IF($A73=\"\",0,SUMIF(勘定入力!$E:$E,7&$A73,勘定入力!$J:$J))","v":0},{"$f":"IF($A73=\"\",0,SUMIF(勘定入力!$E:$E,7&$A73,勘定入力!$K:$K))","v":0},{"$f":"IF($A73=\"\",0,SUMIF(勘定入力!$E:$E,8&$A73,勘定入力!$J:$J))","v":0},{"$f":"IF($A73=\"\",0,SUMIF(勘定入力!$E:$E,8&$A73,勘定入力!$K:$K))","v":0},{"$f":"IF($A73=\"\",0,SUMIF(勘定入力!$E:$E,9&$A73,勘定入力!$J:$J))","v":0},{"$f":"IF($A73=\"\",0,SUMIF(勘定入力!$E:$E,9&$A73,勘定入力!$K:$K))","v":0},{"$f":"IF($A73=\"\",0,SUMIF(勘定入力!$E:$E,10&$A73,勘定入力!$J:$J))","v":0},{"$f":"IF($A73=\"\",0,SUMIF(勘定入力!$E:$E,10&$A73,勘定入力!$K:$K))","v":0},{"$f":"IF($A73=\"\",0,SUMIF(勘定入力!$E:$E,11&$A73,勘定入力!$J:$J))","v":0},{"$f":"IF($A73=\"\",0,SUMIF(勘定入力!$E:$E,11&$A73,勘定入力!$K:$K))","v":0},{"$f":"IF($A73=\"\",0,SUMIF(勘定入力!$E:$E,12&$A73,勘定入力!$J:$J))","v":0},{"$f":"IF($A73=\"\",0,SUMIF(勘定入力!$E:$E,12&$A73,勘定入力!$K:$K))","v":0}]
[{"$f":"入力補助!J11","v":"A6邸"},0,0,{"$f":"IF($A74=\"\",0,SUMIF(勘定入力!$E:$E,1&$A74,勘定入力!$J:$J))","v":0},{"$f":"IF($A74=\"\",0,SUMIF(勘定入力!$E:$E,1&$A74,勘定入力!$K:$K))","v":0},{"$f":"IF($A74=\"\",0,SUMIF(勘定入力!$E:$E,2&$A74,勘定入力!$J:$J))","v":0},{"$f":"IF($A74=\"\",0,SUMIF(勘定入力!$E:$E,2&$A74,勘定入力!$K:$K))","v":0},{"$f":"IF($A74=\"\",0,SUMIF(勘定入力!$E:$E,3&$A74,勘定入力!$J:$J))","v":0},{"$f":"IF($A74=\"\",0,SUMIF(勘定入力!$E:$E,3&$A74,勘定入力!$K:$K))","v":0},{"$f":"IF($A74=\"\",0,SUMIF(勘定入力!$E:$E,4&$A74,勘定入力!$J:$J))","v":0},{"$f":"IF($A74=\"\",0,SUMIF(勘定入力!$E:$E,4&$A74,勘定入力!$K:$K))","v":0},{"$f":"IF($A74=\"\",0,SUMIF(勘定入力!$E:$E,5&$A74,勘定入力!$J:$J))","v":0},{"$f":"IF($A74=\"\",0,SUMIF(勘定入力!$E:$E,5&$A74,勘定入力!$K:$K))","v":0},{"$f":"IF($A74=\"\",0,SUMIF(勘定入力!$E:$E,6&$A74,勘定入力!$J:$J))","v":0},{"$f":"IF($A74=\"\",0,SUMIF(勘定入力!$E:$E,6&$A74,勘定入力!$K:$K))","v":0},{"$f":"IF($A74=\"\",0,SUMIF(勘定入力!$E:$E,7&$A74,勘定入力!$J:$J))","v":0},{"$f":"IF($A74=\"\",0,SUMIF(勘定入力!$E:$E,7&$A74,勘定入力!$K:$K))","v":0},{"$f":"IF($A74=\"\",0,SUMIF(勘定入力!$E:$E,8&$A74,勘定入力!$J:$J))","v":0},{"$f":"IF($A74=\"\",0,SUMIF(勘定入力!$E:$E,8&$A74,勘定入力!$K:$K))","v":0},{"$f":"IF($A74=\"\",0,SUMIF(勘定入力!$E:$E,9&$A74,勘定入力!$J:$J))","v":0},{"$f":"IF($A74=\"\",0,SUMIF(勘定入力!$E:$E,9&$A74,勘定入力!$K:$K))","v":0},{"$f":"IF($A74=\"\",0,SUMIF(勘定入力!$E:$E,10&$A74,勘定入力!$J:$J))","v":0},{"$f":"IF($A74=\"\",0,SUMIF(勘定入力!$E:$E,10&$A74,勘定入力!$K:$K))","v":0},{"$f":"IF($A74=\"\",0,SUMIF(勘定入力!$E:$E,11&$A74,勘定入力!$J:$J))","v":0},{"$f":"IF($A74=\"\",0,SUMIF(勘定入力!$E:$E,11&$A74,勘定入力!$K:$K))","v":0},{"$f":"IF($A74=\"\",0,SUMIF(勘定入力!$E:$E,12&$A74,勘定入力!$J:$J))","v":0},{"$f":"IF($A74=\"\",0,SUMIF(勘定入力!$E:$E,12&$A74,勘定入力!$K:$K))","v":0}]
[{"$f":"入力補助!J12","v":"A7邸"},0,0,{"$f":"IF($A75=\"\",0,SUMIF(勘定入力!$E:$E,1&$A75,勘定入力!$J:$J))","v":0},{"$f":"IF($A75=\"\",0,SUMIF(勘定入力!$E:$E,1&$A75,勘定入力!$K:$K))","v":0},{"$f":"IF($A75=\"\",0,SUMIF(勘定入力!$E:$E,2&$A75,勘定入力!$J:$J))","v":0},{"$f":"IF($A75=\"\",0,SUMIF(勘定入力!$E:$E,2&$A75,勘定入力!$K:$K))","v":0},{"$f":"IF($A75=\"\",0,SUMIF(勘定入力!$E:$E,3&$A75,勘定入力!$J:$J))","v":0},{"$f":"IF($A75=\"\",0,SUMIF(勘定入力!$E:$E,3&$A75,勘定入力!$K:$K))","v":0},{"$f":"IF($A75=\"\",0,SUMIF(勘定入力!$E:$E,4&$A75,勘定入力!$J:$J))","v":0},{"$f":"IF($A75=\"\",0,SUMIF(勘定入力!$E:$E,4&$A75,勘定入力!$K:$K))","v":0},{"$f":"IF($A75=\"\",0,SUMIF(勘定入力!$E:$E,5&$A75,勘定入力!$J:$J))","v":0},{"$f":"IF($A75=\"\",0,SUMIF(勘定入力!$E:$E,5&$A75,勘定入力!$K:$K))","v":0},{"$f":"IF($A75=\"\",0,SUMIF(勘定入力!$E:$E,6&$A75,勘定入力!$J:$J))","v":0},{"$f":"IF($A75=\"\",0,SUMIF(勘定入力!$E:$E,6&$A75,勘定入力!$K:$K))","v":0},{"$f":"IF($A75=\"\",0,SUMIF(勘定入力!$E:$E,7&$A75,勘定入力!$J:$J))","v":0},{"$f":"IF($A75=\"\",0,SUMIF(勘定入力!$E:$E,7&$A75,勘定入力!$K:$K))","v":0},{"$f":"IF($A75=\"\",0,SUMIF(勘定入力!$E:$E,8&$A75,勘定入力!$J:$J))","v":0},{"$f":"IF($A75=\"\",0,SUMIF(勘定入力!$E:$E,8&$A75,勘定入力!$K:$K))","v":0},{"$f":"IF($A75=\"\",0,SUMIF(勘定入力!$E:$E,9&$A75,勘定入力!$J:$J))","v":0},{"$f":"IF($A75=\"\",0,SUMIF(勘定入力!$E:$E,9&$A75,勘定入力!$K:$K))","v":0},{"$f":"IF($A75=\"\",0,SUMIF(勘定入力!$E:$E,10&$A75,勘定入力!$J:$J))","v":0},{"$f":"IF($A75=\"\",0,SUMIF(勘定入力!$E:$E,10&$A75,勘定入力!$K:$K))","v":0},{"$f":"IF($A75=\"\",0,SUMIF(勘定入力!$E:$E,11&$A75,勘定入力!$J:$J))","v":0},{"$f":"IF($A75=\"\",0,SUMIF(勘定入力!$E:$E,11&$A75,勘定入力!$K:$K))","v":0},{"$f":"IF($A75=\"\",0,SUMIF(勘定入力!$E:$E,12&$A75,勘定入力!$J:$J))","v":0},{"$f":"IF($A75=\"\",0,SUMIF(勘定入力!$E:$E,12&$A75,勘定入力!$K:$K))","v":0}]
[{"$f":"入力補助!J13","v":"A8邸"},0,0,{"$f":"IF($A76=\"\",0,SUMIF(勘定入力!$E:$E,1&$A76,勘定入力!$J:$J))","v":0},{"$f":"IF($A76=\"\",0,SUMIF(勘定入力!$E:$E,1&$A76,勘定入力!$K:$K))","v":0},{"$f":"IF($A76=\"\",0,SUMIF(勘定入力!$E:$E,2&$A76,勘定入力!$J:$J))","v":0},{"$f":"IF($A76=\"\",0,SUMIF(勘定入力!$E:$E,2&$A76,勘定入力!$K:$K))","v":0},{"$f":"IF($A76=\"\",0,SUMIF(勘定入力!$E:$E,3&$A76,勘定入力!$J:$J))","v":0},{"$f":"IF($A76=\"\",0,SUMIF(勘定入力!$E:$E,3&$A76,勘定入力!$K:$K))","v":0},{"$f":"IF($A76=\"\",0,SUMIF(勘定入力!$E:$E,4&$A76,勘定入力!$J:$J))","v":0},{"$f":"IF($A76=\"\",0,SUMIF(勘定入力!$E:$E,4&$A76,勘定入力!$K:$K))","v":0},{"$f":"IF($A76=\"\",0,SUMIF(勘定入力!$E:$E,5&$A76,勘定入力!$J:$J))","v":0},{"$f":"IF($A76=\"\",0,SUMIF(勘定入力!$E:$E,5&$A76,勘定入力!$K:$K))","v":0},{"$f":"IF($A76=\"\",0,SUMIF(勘定入力!$E:$E,6&$A76,勘定入力!$J:$J))","v":0},{"$f":"IF($A76=\"\",0,SUMIF(勘定入力!$E:$E,6&$A76,勘定入力!$K:$K))","v":0},{"$f":"IF($A76=\"\",0,SUMIF(勘定入力!$E:$E,7&$A76,勘定入力!$J:$J))","v":0},{"$f":"IF($A76=\"\",0,SUMIF(勘定入力!$E:$E,7&$A76,勘定入力!$K:$K))","v":0},{"$f":"IF($A76=\"\",0,SUMIF(勘定入力!$E:$E,8&$A76,勘定入力!$J:$J))","v":0},{"$f":"IF($A76=\"\",0,SUMIF(勘定入力!$E:$E,8&$A76,勘定入力!$K:$K))","v":0},{"$f":"IF($A76=\"\",0,SUMIF(勘定入力!$E:$E,9&$A76,勘定入力!$J:$J))","v":0},{"$f":"IF($A76=\"\",0,SUMIF(勘定入力!$E:$E,9&$A76,勘定入力!$K:$K))","v":0},{"$f":"IF($A76=\"\",0,SUMIF(勘定入力!$E:$E,10&$A76,勘定入力!$J:$J))","v":0},{"$f":"IF($A76=\"\",0,SUMIF(勘定入力!$E:$E,10&$A76,勘定入力!$K:$K))","v":0},{"$f":"IF($A76=\"\",0,SUMIF(勘定入力!$E:$E,11&$A76,勘定入力!$J:$J))","v":0},{"$f":"IF($A76=\"\",0,SUMIF(勘定入力!$E:$E,11&$A76,勘定入力!$K:$K))","v":0},{"$f":"IF($A76=\"\",0,SUMIF(勘定入力!$E:$E,12&$A76,勘定入力!$J:$J))","v":0},{"$f":"IF($A76=\"\",0,SUMIF(勘定入力!$E:$E,12&$A76,勘定入力!$K:$K))","v":0}]
[{"$f":"入力補助!J14","v":"A9邸"},0,0,{"$f":"IF($A77=\"\",0,SUMIF(勘定入力!$E:$E,1&$A77,勘定入力!$J:$J))","v":0},{"$f":"IF($A77=\"\",0,SUMIF(勘定入力!$E:$E,1&$A77,勘定入力!$K:$K))","v":0},{"$f":"IF($A77=\"\",0,SUMIF(勘定入力!$E:$E,2&$A77,勘定入力!$J:$J))","v":0},{"$f":"IF($A77=\"\",0,SUMIF(勘定入力!$E:$E,2&$A77,勘定入力!$K:$K))","v":0},{"$f":"IF($A77=\"\",0,SUMIF(勘定入力!$E:$E,3&$A77,勘定入力!$J:$J))","v":0},{"$f":"IF($A77=\"\",0,SUMIF(勘定入力!$E:$E,3&$A77,勘定入力!$K:$K))","v":0},{"$f":"IF($A77=\"\",0,SUMIF(勘定入力!$E:$E,4&$A77,勘定入力!$J:$J))","v":0},{"$f":"IF($A77=\"\",0,SUMIF(勘定入力!$E:$E,4&$A77,勘定入力!$K:$K))","v":0},{"$f":"IF($A77=\"\",0,SUMIF(勘定入力!$E:$E,5&$A77,勘定入力!$J:$J))","v":0},{"$f":"IF($A77=\"\",0,SUMIF(勘定入力!$E:$E,5&$A77,勘定入力!$K:$K))","v":0},{"$f":"IF($A77=\"\",0,SUMIF(勘定入力!$E:$E,6&$A77,勘定入力!$J:$J))","v":0},{"$f":"IF($A77=\"\",0,SUMIF(勘定入力!$E:$E,6&$A77,勘定入力!$K:$K))","v":0},{"$f":"IF($A77=\"\",0,SUMIF(勘定入力!$E:$E,7&$A77,勘定入力!$J:$J))","v":0},{"$f":"IF($A77=\"\",0,SUMIF(勘定入力!$E:$E,7&$A77,勘定入力!$K:$K))","v":0},{"$f":"IF($A77=\"\",0,SUMIF(勘定入力!$E:$E,8&$A77,勘定入力!$J:$J))","v":0},{"$f":"IF($A77=\"\",0,SUMIF(勘定入力!$E:$E,8&$A77,勘定入力!$K:$K))","v":0},{"$f":"IF($A77=\"\",0,SUMIF(勘定入力!$E:$E,9&$A77,勘定入力!$J:$J))","v":0},{"$f":"IF($A77=\"\",0,SUMIF(勘定入力!$E:$E,9&$A77,勘定入力!$K:$K))","v":0},{"$f":"IF($A77=\"\",0,SUMIF(勘定入力!$E:$E,10&$A77,勘定入力!$J:$J))","v":0},{"$f":"IF($A77=\"\",0,SUMIF(勘定入力!$E:$E,10&$A77,勘定入力!$K:$K))","v":0},{"$f":"IF($A77=\"\",0,SUMIF(勘定入力!$E:$E,11&$A77,勘定入力!$J:$J))","v":0},{"$f":"IF($A77=\"\",0,SUMIF(勘定入力!$E:$E,11&$A77,勘定入力!$K:$K))","v":0},{"$f":"IF($A77=\"\",0,SUMIF(勘定入力!$E:$E,12&$A77,勘定入力!$J:$J))","v":0},{"$f":"IF($A77=\"\",0,SUMIF(勘定入力!$E:$E,12&$A77,勘定入力!$K:$K))","v":0}]
[{"$f":"入力補助!J15","v":"A10邸"},0,0,{"$f":"IF($A78=\"\",0,SUMIF(勘定入力!$E:$E,1&$A78,勘定入力!$J:$J))","v":0},{"$f":"IF($A78=\"\",0,SUMIF(勘定入力!$E:$E,1&$A78,勘定入力!$K:$K))","v":0},{"$f":"IF($A78=\"\",0,SUMIF(勘定入力!$E:$E,2&$A78,勘定入力!$J:$J))","v":0},{"$f":"IF($A78=\"\",0,SUMIF(勘定入力!$E:$E,2&$A78,勘定入力!$K:$K))","v":0},{"$f":"IF($A78=\"\",0,SUMIF(勘定入力!$E:$E,3&$A78,勘定入力!$J:$J))","v":0},{"$f":"IF($A78=\"\",0,SUMIF(勘定入力!$E:$E,3&$A78,勘定入力!$K:$K))","v":0},{"$f":"IF($A78=\"\",0,SUMIF(勘定入力!$E:$E,4&$A78,勘定入力!$J:$J))","v":0},{"$f":"IF($A78=\"\",0,SUMIF(勘定入力!$E:$E,4&$A78,勘定入力!$K:$K))","v":0},{"$f":"IF($A78=\"\",0,SUMIF(勘定入力!$E:$E,5&$A78,勘定入力!$J:$J))","v":0},{"$f":"IF($A78=\"\",0,SUMIF(勘定入力!$E:$E,5&$A78,勘定入力!$K:$K))","v":0},{"$f":"IF($A78=\"\",0,SUMIF(勘定入力!$E:$E,6&$A78,勘定入力!$J:$J))","v":0},{"$f":"IF($A78=\"\",0,SUMIF(勘定入力!$E:$E,6&$A78,勘定入力!$K:$K))","v":0},{"$f":"IF($A78=\"\",0,SUMIF(勘定入力!$E:$E,7&$A78,勘定入力!$J:$J))","v":0},{"$f":"IF($A78=\"\",0,SUMIF(勘定入力!$E:$E,7&$A78,勘定入力!$K:$K))","v":0},{"$f":"IF($A78=\"\",0,SUMIF(勘定入力!$E:$E,8&$A78,勘定入力!$J:$J))","v":0},{"$f":"IF($A78=\"\",0,SUMIF(勘定入力!$E:$E,8&$A78,勘定入力!$K:$K))","v":0},{"$f":"IF($A78=\"\",0,SUMIF(勘定入力!$E:$E,9&$A78,勘定入力!$J:$J))","v":0},{"$f":"IF($A78=\"\",0,SUMIF(勘定入力!$E:$E,9&$A78,勘定入力!$K:$K))","v":0},{"$f":"IF($A78=\"\",0,SUMIF(勘定入力!$E:$E,10&$A78,勘定入力!$J:$J))","v":0},{"$f":"IF($A78=\"\",0,SUMIF(勘定入力!$E:$E,10&$A78,勘定入力!$K:$K))","v":0},{"$f":"IF($A78=\"\",0,SUMIF(勘定入力!$E:$E,11&$A78,勘定入力!$J:$J))","v":0},{"$f":"IF($A78=\"\",0,SUMIF(勘定入力!$E:$E,11&$A78,勘定入力!$K:$K))","v":0},{"$f":"IF($A78=\"\",0,SUMIF(勘定入力!$E:$E,12&$A78,勘定入力!$J:$J))","v":0},{"$f":"IF($A78=\"\",0,SUMIF(勘定入力!$E:$E,12&$A78,勘定入力!$K:$K))","v":0}]
[{"$f":"入力補助!J16","v":"A11邸"},0,0,{"$f":"IF($A79=\"\",0,SUMIF(勘定入力!$E:$E,1&$A79,勘定入力!$J:$J))","v":0},{"$f":"IF($A79=\"\",0,SUMIF(勘定入力!$E:$E,1&$A79,勘定入力!$K:$K))","v":0},{"$f":"IF($A79=\"\",0,SUMIF(勘定入力!$E:$E,2&$A79,勘定入力!$J:$J))","v":0},{"$f":"IF($A79=\"\",0,SUMIF(勘定入力!$E:$E,2&$A79,勘定入力!$K:$K))","v":0},{"$f":"IF($A79=\"\",0,SUMIF(勘定入力!$E:$E,3&$A79,勘定入力!$J:$J))","v":0},{"$f":"IF($A79=\"\",0,SUMIF(勘定入力!$E:$E,3&$A79,勘定入力!$K:$K))","v":0},{"$f":"IF($A79=\"\",0,SUMIF(勘定入力!$E:$E,4&$A79,勘定入力!$J:$J))","v":0},{"$f":"IF($A79=\"\",0,SUMIF(勘定入力!$E:$E,4&$A79,勘定入力!$K:$K))","v":0},{"$f":"IF($A79=\"\",0,SUMIF(勘定入力!$E:$E,5&$A79,勘定入力!$J:$J))","v":0},{"$f":"IF($A79=\"\",0,SUMIF(勘定入力!$E:$E,5&$A79,勘定入力!$K:$K))","v":0},{"$f":"IF($A79=\"\",0,SUMIF(勘定入力!$E:$E,6&$A79,勘定入力!$J:$J))","v":0},{"$f":"IF($A79=\"\",0,SUMIF(勘定入力!$E:$E,6&$A79,勘定入力!$K:$K))","v":0},{"$f":"IF($A79=\"\",0,SUMIF(勘定入力!$E:$E,7&$A79,勘定入力!$J:$J))","v":0},{"$f":"IF($A79=\"\",0,SUMIF(勘定入力!$E:$E,7&$A79,勘定入力!$K:$K))","v":0},{"$f":"IF($A79=\"\",0,SUMIF(勘定入力!$E:$E,8&$A79,勘定入力!$J:$J))","v":0},{"$f":"IF($A79=\"\",0,SUMIF(勘定入力!$E:$E,8&$A79,勘定入力!$K:$K))","v":0},{"$f":"IF($A79=\"\",0,SUMIF(勘定入力!$E:$E,9&$A79,勘定入力!$J:$J))","v":0},{"$f":"IF($A79=\"\",0,SUMIF(勘定入力!$E:$E,9&$A79,勘定入力!$K:$K))","v":0},{"$f":"IF($A79=\"\",0,SUMIF(勘定入力!$E:$E,10&$A79,勘定入力!$J:$J))","v":0},{"$f":"IF($A79=\"\",0,SUMIF(勘定入力!$E:$E,10&$A79,勘定入力!$K:$K))","v":0},{"$f":"IF($A79=\"\",0,SUMIF(勘定入力!$E:$E,11&$A79,勘定入力!$J:$J))","v":0},{"$f":"IF($A79=\"\",0,SUMIF(勘定入力!$E:$E,11&$A79,勘定入力!$K:$K))","v":0},{"$f":"IF($A79=\"\",0,SUMIF(勘定入力!$E:$E,12&$A79,勘定入力!$J:$J))","v":0},{"$f":"IF($A79=\"\",0,SUMIF(勘定入力!$E:$E,12&$A79,勘定入力!$K:$K))","v":0}]
[{"$f":"入力補助!J17","v":"A12邸"},0,0,{"$f":"IF($A80=\"\",0,SUMIF(勘定入力!$E:$E,1&$A80,勘定入力!$J:$J))","v":0},{"$f":"IF($A80=\"\",0,SUMIF(勘定入力!$E:$E,1&$A80,勘定入力!$K:$K))","v":0},{"$f":"IF($A80=\"\",0,SUMIF(勘定入力!$E:$E,2&$A80,勘定入力!$J:$J))","v":0},{"$f":"IF($A80=\"\",0,SUMIF(勘定入力!$E:$E,2&$A80,勘定入力!$K:$K))","v":0},{"$f":"IF($A80=\"\",0,SUMIF(勘定入力!$E:$E,3&$A80,勘定入力!$J:$J))","v":0},{"$f":"IF($A80=\"\",0,SUMIF(勘定入力!$E:$E,3&$A80,勘定入力!$K:$K))","v":0},{"$f":"IF($A80=\"\",0,SUMIF(勘定入力!$E:$E,4&$A80,勘定入力!$J:$J))","v":0},{"$f":"IF($A80=\"\",0,SUMIF(勘定入力!$E:$E,4&$A80,勘定入力!$K:$K))","v":0},{"$f":"IF($A80=\"\",0,SUMIF(勘定入力!$E:$E,5&$A80,勘定入力!$J:$J))","v":0},{"$f":"IF($A80=\"\",0,SUMIF(勘定入力!$E:$E,5&$A80,勘定入力!$K:$K))","v":0},{"$f":"IF($A80=\"\",0,SUMIF(勘定入力!$E:$E,6&$A80,勘定入力!$J:$J))","v":0},{"$f":"IF($A80=\"\",0,SUMIF(勘定入力!$E:$E,6&$A80,勘定入力!$K:$K))","v":0},{"$f":"IF($A80=\"\",0,SUMIF(勘定入力!$E:$E,7&$A80,勘定入力!$J:$J))","v":0},{"$f":"IF($A80=\"\",0,SUMIF(勘定入力!$E:$E,7&$A80,勘定入力!$K:$K))","v":0},{"$f":"IF($A80=\"\",0,SUMIF(勘定入力!$E:$E,8&$A80,勘定入力!$J:$J))","v":0},{"$f":"IF($A80=\"\",0,SUMIF(勘定入力!$E:$E,8&$A80,勘定入力!$K:$K))","v":0},{"$f":"IF($A80=\"\",0,SUMIF(勘定入力!$E:$E,9&$A80,勘定入力!$J:$J))","v":0},{"$f":"IF($A80=\"\",0,SUMIF(勘定入力!$E:$E,9&$A80,勘定入力!$K:$K))","v":0},{"$f":"IF($A80=\"\",0,SUMIF(勘定入力!$E:$E,10&$A80,勘定入力!$J:$J))","v":0},{"$f":"IF($A80=\"\",0,SUMIF(勘定入力!$E:$E,10&$A80,勘定入力!$K:$K))","v":0},{"$f":"IF($A80=\"\",0,SUMIF(勘定入力!$E:$E,11&$A80,勘定入力!$J:$J))","v":0},{"$f":"IF($A80=\"\",0,SUMIF(勘定入力!$E:$E,11&$A80,勘定入力!$K:$K))","v":0},{"$f":"IF($A80=\"\",0,SUMIF(勘定入力!$E:$E,12&$A80,勘定入力!$J:$J))","v":0},{"$f":"IF($A80=\"\",0,SUMIF(勘定入力!$E:$E,12&$A80,勘定入力!$K:$K))","v":0}]
[{"$f":"入力補助!J18","v":"A13邸"},0,0,{"$f":"IF($A81=\"\",0,SUMIF(勘定入力!$E:$E,1&$A81,勘定入力!$J:$J))","v":0},{"$f":"IF($A81=\"\",0,SUMIF(勘定入力!$E:$E,1&$A81,勘定入力!$K:$K))","v":0},{"$f":"IF($A81=\"\",0,SUMIF(勘定入力!$E:$E,2&$A81,勘定入力!$J:$J))","v":0},{"$f":"IF($A81=\"\",0,SUMIF(勘定入力!$E:$E,2&$A81,勘定入力!$K:$K))","v":0},{"$f":"IF($A81=\"\",0,SUMIF(勘定入力!$E:$E,3&$A81,勘定入力!$J:$J))","v":0},{"$f":"IF($A81=\"\",0,SUMIF(勘定入力!$E:$E,3&$A81,勘定入力!$K:$K))","v":0},{"$f":"IF($A81=\"\",0,SUMIF(勘定入力!$E:$E,4&$A81,勘定入力!$J:$J))","v":0},{"$f":"IF($A81=\"\",0,SUMIF(勘定入力!$E:$E,4&$A81,勘定入力!$K:$K))","v":0},{"$f":"IF($A81=\"\",0,SUMIF(勘定入力!$E:$E,5&$A81,勘定入力!$J:$J))","v":0},{"$f":"IF($A81=\"\",0,SUMIF(勘定入力!$E:$E,5&$A81,勘定入力!$K:$K))","v":0},{"$f":"IF($A81=\"\",0,SUMIF(勘定入力!$E:$E,6&$A81,勘定入力!$J:$J))","v":0},{"$f":"IF($A81=\"\",0,SUMIF(勘定入力!$E:$E,6&$A81,勘定入力!$K:$K))","v":0},{"$f":"IF($A81=\"\",0,SUMIF(勘定入力!$E:$E,7&$A81,勘定入力!$J:$J))","v":0},{"$f":"IF($A81=\"\",0,SUMIF(勘定入力!$E:$E,7&$A81,勘定入力!$K:$K))","v":0},{"$f":"IF($A81=\"\",0,SUMIF(勘定入力!$E:$E,8&$A81,勘定入力!$J:$J))","v":0},{"$f":"IF($A81=\"\",0,SUMIF(勘定入力!$E:$E,8&$A81,勘定入力!$K:$K))","v":0},{"$f":"IF($A81=\"\",0,SUMIF(勘定入力!$E:$E,9&$A81,勘定入力!$J:$J))","v":0},{"$f":"IF($A81=\"\",0,SUMIF(勘定入力!$E:$E,9&$A81,勘定入力!$K:$K))","v":0},{"$f":"IF($A81=\"\",0,SUMIF(勘定入力!$E:$E,10&$A81,勘定入力!$J:$J))","v":0},{"$f":"IF($A81=\"\",0,SUMIF(勘定入力!$E:$E,10&$A81,勘定入力!$K:$K))","v":0},{"$f":"IF($A81=\"\",0,SUMIF(勘定入力!$E:$E,11&$A81,勘定入力!$J:$J))","v":0},{"$f":"IF($A81=\"\",0,SUMIF(勘定入力!$E:$E,11&$A81,勘定入力!$K:$K))","v":0},{"$f":"IF($A81=\"\",0,SUMIF(勘定入力!$E:$E,12&$A81,勘定入力!$J:$J))","v":0},{"$f":"IF($A81=\"\",0,SUMIF(勘定入力!$E:$E,12&$A81,勘定入力!$K:$K))","v":0}]
[{"$f":"入力補助!J19","v":"A14邸"},0,0,{"$f":"IF($A82=\"\",0,SUMIF(勘定入力!$E:$E,1&$A82,勘定入力!$J:$J))","v":0},{"$f":"IF($A82=\"\",0,SUMIF(勘定入力!$E:$E,1&$A82,勘定入力!$K:$K))","v":0},{"$f":"IF($A82=\"\",0,SUMIF(勘定入力!$E:$E,2&$A82,勘定入力!$J:$J))","v":0},{"$f":"IF($A82=\"\",0,SUMIF(勘定入力!$E:$E,2&$A82,勘定入力!$K:$K))","v":0},{"$f":"IF($A82=\"\",0,SUMIF(勘定入力!$E:$E,3&$A82,勘定入力!$J:$J))","v":0},{"$f":"IF($A82=\"\",0,SUMIF(勘定入力!$E:$E,3&$A82,勘定入力!$K:$K))","v":0},{"$f":"IF($A82=\"\",0,SUMIF(勘定入力!$E:$E,4&$A82,勘定入力!$J:$J))","v":0},{"$f":"IF($A82=\"\",0,SUMIF(勘定入力!$E:$E,4&$A82,勘定入力!$K:$K))","v":0},{"$f":"IF($A82=\"\",0,SUMIF(勘定入力!$E:$E,5&$A82,勘定入力!$J:$J))","v":0},{"$f":"IF($A82=\"\",0,SUMIF(勘定入力!$E:$E,5&$A82,勘定入力!$K:$K))","v":0},{"$f":"IF($A82=\"\",0,SUMIF(勘定入力!$E:$E,6&$A82,勘定入力!$J:$J))","v":0},{"$f":"IF($A82=\"\",0,SUMIF(勘定入力!$E:$E,6&$A82,勘定入力!$K:$K))","v":0},{"$f":"IF($A82=\"\",0,SUMIF(勘定入力!$E:$E,7&$A82,勘定入力!$J:$J))","v":0},{"$f":"IF($A82=\"\",0,SUMIF(勘定入力!$E:$E,7&$A82,勘定入力!$K:$K))","v":0},{"$f":"IF($A82=\"\",0,SUMIF(勘定入力!$E:$E,8&$A82,勘定入力!$J:$J))","v":0},{"$f":"IF($A82=\"\",0,SUMIF(勘定入力!$E:$E,8&$A82,勘定入力!$K:$K))","v":0},{"$f":"IF($A82=\"\",0,SUMIF(勘定入力!$E:$E,9&$A82,勘定入力!$J:$J))","v":0},{"$f":"IF($A82=\"\",0,SUMIF(勘定入力!$E:$E,9&$A82,勘定入力!$K:$K))","v":0},{"$f":"IF($A82=\"\",0,SUMIF(勘定入力!$E:$E,10&$A82,勘定入力!$J:$J))","v":0},{"$f":"IF($A82=\"\",0,SUMIF(勘定入力!$E:$E,10&$A82,勘定入力!$K:$K))","v":0},{"$f":"IF($A82=\"\",0,SUMIF(勘定入力!$E:$E,11&$A82,勘定入力!$J:$J))","v":0},{"$f":"IF($A82=\"\",0,SUMIF(勘定入力!$E:$E,11&$A82,勘定入力!$K:$K))","v":0},{"$f":"IF($A82=\"\",0,SUMIF(勘定入力!$E:$E,12&$A82,勘定入力!$J:$J))","v":0},{"$f":"IF($A82=\"\",0,SUMIF(勘定入力!$E:$E,12&$A82,勘定入力!$K:$K))","v":0}]
[{"$f":"入力補助!J20","v":"A15邸"},0,0,{"$f":"IF($A83=\"\",0,SUMIF(勘定入力!$E:$E,1&$A83,勘定入力!$J:$J))","v":0},{"$f":"IF($A83=\"\",0,SUMIF(勘定入力!$E:$E,1&$A83,勘定入力!$K:$K))","v":0},{"$f":"IF($A83=\"\",0,SUMIF(勘定入力!$E:$E,2&$A83,勘定入力!$J:$J))","v":0},{"$f":"IF($A83=\"\",0,SUMIF(勘定入力!$E:$E,2&$A83,勘定入力!$K:$K))","v":0},{"$f":"IF($A83=\"\",0,SUMIF(勘定入力!$E:$E,3&$A83,勘定入力!$J:$J))","v":0},{"$f":"IF($A83=\"\",0,SUMIF(勘定入力!$E:$E,3&$A83,勘定入力!$K:$K))","v":0},{"$f":"IF($A83=\"\",0,SUMIF(勘定入力!$E:$E,4&$A83,勘定入力!$J:$J))","v":0},{"$f":"IF($A83=\"\",0,SUMIF(勘定入力!$E:$E,4&$A83,勘定入力!$K:$K))","v":0},{"$f":"IF($A83=\"\",0,SUMIF(勘定入力!$E:$E,5&$A83,勘定入力!$J:$J))","v":0},{"$f":"IF($A83=\"\",0,SUMIF(勘定入力!$E:$E,5&$A83,勘定入力!$K:$K))","v":0},{"$f":"IF($A83=\"\",0,SUMIF(勘定入力!$E:$E,6&$A83,勘定入力!$J:$J))","v":0},{"$f":"IF($A83=\"\",0,SUMIF(勘定入力!$E:$E,6&$A83,勘定入力!$K:$K))","v":0},{"$f":"IF($A83=\"\",0,SUMIF(勘定入力!$E:$E,7&$A83,勘定入力!$J:$J))","v":0},{"$f":"IF($A83=\"\",0,SUMIF(勘定入力!$E:$E,7&$A83,勘定入力!$K:$K))","v":0},{"$f":"IF($A83=\"\",0,SUMIF(勘定入力!$E:$E,8&$A83,勘定入力!$J:$J))","v":0},{"$f":"IF($A83=\"\",0,SUMIF(勘定入力!$E:$E,8&$A83,勘定入力!$K:$K))","v":0},{"$f":"IF($A83=\"\",0,SUMIF(勘定入力!$E:$E,9&$A83,勘定入力!$J:$J))","v":0},{"$f":"IF($A83=\"\",0,SUMIF(勘定入力!$E:$E,9&$A83,勘定入力!$K:$K))","v":0},{"$f":"IF($A83=\"\",0,SUMIF(勘定入力!$E:$E,10&$A83,勘定入力!$J:$J))","v":0},{"$f":"IF($A83=\"\",0,SUMIF(勘定入力!$E:$E,10&$A83,勘定入力!$K:$K))","v":0},{"$f":"IF($A83=\"\",0,SUMIF(勘定入力!$E:$E,11&$A83,勘定入力!$J:$J))","v":0},{"$f":"IF($A83=\"\",0,SUMIF(勘定入力!$E:$E,11&$A83,勘定入力!$K:$K))","v":0},{"$f":"IF($A83=\"\",0,SUMIF(勘定入力!$E:$E,12&$A83,勘定入力!$J:$J))","v":0},{"$f":"IF($A83=\"\",0,SUMIF(勘定入力!$E:$E,12&$A83,勘定入力!$K:$K))","v":0}]
[{"$f":"入力補助!J21","v":0},0,0,{"$f":"IF($A84=\"\",0,SUMIF(勘定入力!$E:$E,1&$A84,勘定入力!$J:$J))","v":0},{"$f":"IF($A84=\"\",0,SUMIF(勘定入力!$E:$E,1&$A84,勘定入力!$K:$K))","v":0},{"$f":"IF($A84=\"\",0,SUMIF(勘定入力!$E:$E,2&$A84,勘定入力!$J:$J))","v":0},{"$f":"IF($A84=\"\",0,SUMIF(勘定入力!$E:$E,2&$A84,勘定入力!$K:$K))","v":0},{"$f":"IF($A84=\"\",0,SUMIF(勘定入力!$E:$E,3&$A84,勘定入力!$J:$J))","v":0},{"$f":"IF($A84=\"\",0,SUMIF(勘定入力!$E:$E,3&$A84,勘定入力!$K:$K))","v":0},{"$f":"IF($A84=\"\",0,SUMIF(勘定入力!$E:$E,4&$A84,勘定入力!$J:$J))","v":0},{"$f":"IF($A84=\"\",0,SUMIF(勘定入力!$E:$E,4&$A84,勘定入力!$K:$K))","v":0},{"$f":"IF($A84=\"\",0,SUMIF(勘定入力!$E:$E,5&$A84,勘定入力!$J:$J))","v":0},{"$f":"IF($A84=\"\",0,SUMIF(勘定入力!$E:$E,5&$A84,勘定入力!$K:$K))","v":0},{"$f":"IF($A84=\"\",0,SUMIF(勘定入力!$E:$E,6&$A84,勘定入力!$J:$J))","v":0},{"$f":"IF($A84=\"\",0,SUMIF(勘定入力!$E:$E,6&$A84,勘定入力!$K:$K))","v":0},{"$f":"IF($A84=\"\",0,SUMIF(勘定入力!$E:$E,7&$A84,勘定入力!$J:$J))","v":0},{"$f":"IF($A84=\"\",0,SUMIF(勘定入力!$E:$E,7&$A84,勘定入力!$K:$K))","v":0},{"$f":"IF($A84=\"\",0,SUMIF(勘定入力!$E:$E,8&$A84,勘定入力!$J:$J))","v":0},{"$f":"IF($A84=\"\",0,SUMIF(勘定入力!$E:$E,8&$A84,勘定入力!$K:$K))","v":0},{"$f":"IF($A84=\"\",0,SUMIF(勘定入力!$E:$E,9&$A84,勘定入力!$J:$J))","v":0},{"$f":"IF($A84=\"\",0,SUMIF(勘定入力!$E:$E,9&$A84,勘定入力!$K:$K))","v":0},{"$f":"IF($A84=\"\",0,SUMIF(勘定入力!$E:$E,10&$A84,勘定入力!$J:$J))","v":0},{"$f":"IF($A84=\"\",0,SUMIF(勘定入力!$E:$E,10&$A84,勘定入力!$K:$K))","v":0},{"$f":"IF($A84=\"\",0,SUMIF(勘定入力!$E:$E,11&$A84,勘定入力!$J:$J))","v":0},{"$f":"IF($A84=\"\",0,SUMIF(勘定入力!$E:$E,11&$A84,勘定入力!$K:$K))","v":0},{"$f":"IF($A84=\"\",0,SUMIF(勘定入力!$E:$E,12&$A84,勘定入力!$J:$J))","v":0},{"$f":"IF($A84=\"\",0,SUMIF(勘定入力!$E:$E,12&$A84,勘定入力!$K:$K))","v":0}]
[{"$f":"入力補助!J22","v":0},0,0,{"$f":"IF($A85=\"\",0,SUMIF(勘定入力!$E:$E,1&$A85,勘定入力!$J:$J))","v":0},{"$f":"IF($A85=\"\",0,SUMIF(勘定入力!$E:$E,1&$A85,勘定入力!$K:$K))","v":0},{"$f":"IF($A85=\"\",0,SUMIF(勘定入力!$E:$E,2&$A85,勘定入力!$J:$J))","v":0},{"$f":"IF($A85=\"\",0,SUMIF(勘定入力!$E:$E,2&$A85,勘定入力!$K:$K))","v":0},{"$f":"IF($A85=\"\",0,SUMIF(勘定入力!$E:$E,3&$A85,勘定入力!$J:$J))","v":0},{"$f":"IF($A85=\"\",0,SUMIF(勘定入力!$E:$E,3&$A85,勘定入力!$K:$K))","v":0},{"$f":"IF($A85=\"\",0,SUMIF(勘定入力!$E:$E,4&$A85,勘定入力!$J:$J))","v":0},{"$f":"IF($A85=\"\",0,SUMIF(勘定入力!$E:$E,4&$A85,勘定入力!$K:$K))","v":0},{"$f":"IF($A85=\"\",0,SUMIF(勘定入力!$E:$E,5&$A85,勘定入力!$J:$J))","v":0},{"$f":"IF($A85=\"\",0,SUMIF(勘定入力!$E:$E,5&$A85,勘定入力!$K:$K))","v":0},{"$f":"IF($A85=\"\",0,SUMIF(勘定入力!$E:$E,6&$A85,勘定入力!$J:$J))","v":0},{"$f":"IF($A85=\"\",0,SUMIF(勘定入力!$E:$E,6&$A85,勘定入力!$K:$K))","v":0},{"$f":"IF($A85=\"\",0,SUMIF(勘定入力!$E:$E,7&$A85,勘定入力!$J:$J))","v":0},{"$f":"IF($A85=\"\",0,SUMIF(勘定入力!$E:$E,7&$A85,勘定入力!$K:$K))","v":0},{"$f":"IF($A85=\"\",0,SUMIF(勘定入力!$E:$E,8&$A85,勘定入力!$J:$J))","v":0},{"$f":"IF($A85=\"\",0,SUMIF(勘定入力!$E:$E,8&$A85,勘定入力!$K:$K))","v":0},{"$f":"IF($A85=\"\",0,SUMIF(勘定入力!$E:$E,9&$A85,勘定入力!$J:$J))","v":0},{"$f":"IF($A85=\"\",0,SUMIF(勘定入力!$E:$E,9&$A85,勘定入力!$K:$K))","v":0},{"$f":"IF($A85=\"\",0,SUMIF(勘定入力!$E:$E,10&$A85,勘定入力!$J:$J))","v":0},{"$f":"IF($A85=\"\",0,SUMIF(勘定入力!$E:$E,10&$A85,勘定入力!$K:$K))","v":0},{"$f":"IF($A85=\"\",0,SUMIF(勘定入力!$E:$E,11&$A85,勘定入力!$J:$J))","v":0},{"$f":"IF($A85=\"\",0,SUMIF(勘定入力!$E:$E,11&$A85,勘定入力!$K:$K))","v":0},{"$f":"IF($A85=\"\",0,SUMIF(勘定入力!$E:$E,12&$A85,勘定入力!$J:$J))","v":0},{"$f":"IF($A85=\"\",0,SUMIF(勘定入力!$E:$E,12&$A85,勘定入力!$K:$K))","v":0}]
[{"$f":"入力補助!J23","v":0},0,0,{"$f":"IF($A86=\"\",0,SUMIF(勘定入力!$E:$E,1&$A86,勘定入力!$J:$J))","v":0},{"$f":"IF($A86=\"\",0,SUMIF(勘定入力!$E:$E,1&$A86,勘定入力!$K:$K))","v":0},{"$f":"IF($A86=\"\",0,SUMIF(勘定入力!$E:$E,2&$A86,勘定入力!$J:$J))","v":0},{"$f":"IF($A86=\"\",0,SUMIF(勘定入力!$E:$E,2&$A86,勘定入力!$K:$K))","v":0},{"$f":"IF($A86=\"\",0,SUMIF(勘定入力!$E:$E,3&$A86,勘定入力!$J:$J))","v":0},{"$f":"IF($A86=\"\",0,SUMIF(勘定入力!$E:$E,3&$A86,勘定入力!$K:$K))","v":0},{"$f":"IF($A86=\"\",0,SUMIF(勘定入力!$E:$E,4&$A86,勘定入力!$J:$J))","v":0},{"$f":"IF($A86=\"\",0,SUMIF(勘定入力!$E:$E,4&$A86,勘定入力!$K:$K))","v":0},{"$f":"IF($A86=\"\",0,SUMIF(勘定入力!$E:$E,5&$A86,勘定入力!$J:$J))","v":0},{"$f":"IF($A86=\"\",0,SUMIF(勘定入力!$E:$E,5&$A86,勘定入力!$K:$K))","v":0},{"$f":"IF($A86=\"\",0,SUMIF(勘定入力!$E:$E,6&$A86,勘定入力!$J:$J))","v":0},{"$f":"IF($A86=\"\",0,SUMIF(勘定入力!$E:$E,6&$A86,勘定入力!$K:$K))","v":0},{"$f":"IF($A86=\"\",0,SUMIF(勘定入力!$E:$E,7&$A86,勘定入力!$J:$J))","v":0},{"$f":"IF($A86=\"\",0,SUMIF(勘定入力!$E:$E,7&$A86,勘定入力!$K:$K))","v":0},{"$f":"IF($A86=\"\",0,SUMIF(勘定入力!$E:$E,8&$A86,勘定入力!$J:$J))","v":0},{"$f":"IF($A86=\"\",0,SUMIF(勘定入力!$E:$E,8&$A86,勘定入力!$K:$K))","v":0},{"$f":"IF($A86=\"\",0,SUMIF(勘定入力!$E:$E,9&$A86,勘定入力!$J:$J))","v":0},{"$f":"IF($A86=\"\",0,SUMIF(勘定入力!$E:$E,9&$A86,勘定入力!$K:$K))","v":0},{"$f":"IF($A86=\"\",0,SUMIF(勘定入力!$E:$E,10&$A86,勘定入力!$J:$J))","v":0},{"$f":"IF($A86=\"\",0,SUMIF(勘定入力!$E:$E,10&$A86,勘定入力!$K:$K))","v":0},{"$f":"IF($A86=\"\",0,SUMIF(勘定入力!$E:$E,11&$A86,勘定入力!$J:$J))","v":0},{"$f":"IF($A86=\"\",0,SUMIF(勘定入力!$E:$E,11&$A86,勘定入力!$K:$K))","v":0},{"$f":"IF($A86=\"\",0,SUMIF(勘定入力!$E:$E,12&$A86,勘定入力!$J:$J))","v":0},{"$f":"IF($A86=\"\",0,SUMIF(勘定入力!$E:$E,12&$A86,勘定入力!$K:$K))","v":0}]
[{"$f":"入力補助!J24","v":0},0,0,{"$f":"IF($A87=\"\",0,SUMIF(勘定入力!$E:$E,1&$A87,勘定入力!$J:$J))","v":0},{"$f":"IF($A87=\"\",0,SUMIF(勘定入力!$E:$E,1&$A87,勘定入力!$K:$K))","v":0},{"$f":"IF($A87=\"\",0,SUMIF(勘定入力!$E:$E,2&$A87,勘定入力!$J:$J))","v":0},{"$f":"IF($A87=\"\",0,SUMIF(勘定入力!$E:$E,2&$A87,勘定入力!$K:$K))","v":0},{"$f":"IF($A87=\"\",0,SUMIF(勘定入力!$E:$E,3&$A87,勘定入力!$J:$J))","v":0},{"$f":"IF($A87=\"\",0,SUMIF(勘定入力!$E:$E,3&$A87,勘定入力!$K:$K))","v":0},{"$f":"IF($A87=\"\",0,SUMIF(勘定入力!$E:$E,4&$A87,勘定入力!$J:$J))","v":0},{"$f":"IF($A87=\"\",0,SUMIF(勘定入力!$E:$E,4&$A87,勘定入力!$K:$K))","v":0},{"$f":"IF($A87=\"\",0,SUMIF(勘定入力!$E:$E,5&$A87,勘定入力!$J:$J))","v":0},{"$f":"IF($A87=\"\",0,SUMIF(勘定入力!$E:$E,5&$A87,勘定入力!$K:$K))","v":0},{"$f":"IF($A87=\"\",0,SUMIF(勘定入力!$E:$E,6&$A87,勘定入力!$J:$J))","v":0},{"$f":"IF($A87=\"\",0,SUMIF(勘定入力!$E:$E,6&$A87,勘定入力!$K:$K))","v":0},{"$f":"IF($A87=\"\",0,SUMIF(勘定入力!$E:$E,7&$A87,勘定入力!$J:$J))","v":0},{"$f":"IF($A87=\"\",0,SUMIF(勘定入力!$E:$E,7&$A87,勘定入力!$K:$K))","v":0},{"$f":"IF($A87=\"\",0,SUMIF(勘定入力!$E:$E,8&$A87,勘定入力!$J:$J))","v":0},{"$f":"IF($A87=\"\",0,SUMIF(勘定入力!$E:$E,8&$A87,勘定入力!$K:$K))","v":0},{"$f":"IF($A87=\"\",0,SUMIF(勘定入力!$E:$E,9&$A87,勘定入力!$J:$J))","v":0},{"$f":"IF($A87=\"\",0,SUMIF(勘定入力!$E:$E,9&$A87,勘定入力!$K:$K))","v":0},{"$f":"IF($A87=\"\",0,SUMIF(勘定入力!$E:$E,10&$A87,勘定入力!$J:$J))","v":0},{"$f":"IF($A87=\"\",0,SUMIF(勘定入力!$E:$E,10&$A87,勘定入力!$K:$K))","v":0},{"$f":"IF($A87=\"\",0,SUMIF(勘定入力!$E:$E,11&$A87,勘定入力!$J:$J))","v":0},{"$f":"IF($A87=\"\",0,SUMIF(勘定入力!$E:$E,11&$A87,勘定入力!$K:$K))","v":0},{"$f":"IF($A87=\"\",0,SUMIF(勘定入力!$E:$E,12&$A87,勘定入力!$J:$J))","v":0},{"$f":"IF($A87=\"\",0,SUMIF(勘定入力!$E:$E,12&$A87,勘定入力!$K:$K))","v":0}]
[{"$f":"入力補助!J25","v":0},0,0,{"$f":"IF($A88=\"\",0,SUMIF(勘定入力!$E:$E,1&$A88,勘定入力!$J:$J))","v":0},{"$f":"IF($A88=\"\",0,SUMIF(勘定入力!$E:$E,1&$A88,勘定入力!$K:$K))","v":0},{"$f":"IF($A88=\"\",0,SUMIF(勘定入力!$E:$E,2&$A88,勘定入力!$J:$J))","v":0},{"$f":"IF($A88=\"\",0,SUMIF(勘定入力!$E:$E,2&$A88,勘定入力!$K:$K))","v":0},{"$f":"IF($A88=\"\",0,SUMIF(勘定入力!$E:$E,3&$A88,勘定入力!$J:$J))","v":0},{"$f":"IF($A88=\"\",0,SUMIF(勘定入力!$E:$E,3&$A88,勘定入力!$K:$K))","v":0},{"$f":"IF($A88=\"\",0,SUMIF(勘定入力!$E:$E,4&$A88,勘定入力!$J:$J))","v":0},{"$f":"IF($A88=\"\",0,SUMIF(勘定入力!$E:$E,4&$A88,勘定入力!$K:$K))","v":0},{"$f":"IF($A88=\"\",0,SUMIF(勘定入力!$E:$E,5&$A88,勘定入力!$J:$J))","v":0},{"$f":"IF($A88=\"\",0,SUMIF(勘定入力!$E:$E,5&$A88,勘定入力!$K:$K))","v":0},{"$f":"IF($A88=\"\",0,SUMIF(勘定入力!$E:$E,6&$A88,勘定入力!$J:$J))","v":0},{"$f":"IF($A88=\"\",0,SUMIF(勘定入力!$E:$E,6&$A88,勘定入力!$K:$K))","v":0},{"$f":"IF($A88=\"\",0,SUMIF(勘定入力!$E:$E,7&$A88,勘定入力!$J:$J))","v":0},{"$f":"IF($A88=\"\",0,SUMIF(勘定入力!$E:$E,7&$A88,勘定入力!$K:$K))","v":0},{"$f":"IF($A88=\"\",0,SUMIF(勘定入力!$E:$E,8&$A88,勘定入力!$J:$J))","v":0},{"$f":"IF($A88=\"\",0,SUMIF(勘定入力!$E:$E,8&$A88,勘定入力!$K:$K))","v":0},{"$f":"IF($A88=\"\",0,SUMIF(勘定入力!$E:$E,9&$A88,勘定入力!$J:$J))","v":0},{"$f":"IF($A88=\"\",0,SUMIF(勘定入力!$E:$E,9&$A88,勘定入力!$K:$K))","v":0},{"$f":"IF($A88=\"\",0,SUMIF(勘定入力!$E:$E,10&$A88,勘定入力!$J:$J))","v":0},{"$f":"IF($A88=\"\",0,SUMIF(勘定入力!$E:$E,10&$A88,勘定入力!$K:$K))","v":0},{"$f":"IF($A88=\"\",0,SUMIF(勘定入力!$E:$E,11&$A88,勘定入力!$J:$J))","v":0},{"$f":"IF($A88=\"\",0,SUMIF(勘定入力!$E:$E,11&$A88,勘定入力!$K:$K))","v":0},{"$f":"IF($A88=\"\",0,SUMIF(勘定入力!$E:$E,12&$A88,勘定入力!$J:$J))","v":0},{"$f":"IF($A88=\"\",0,SUMIF(勘定入力!$E:$E,12&$A88,勘定入力!$K:$K))","v":0}]
[{"$f":"入力補助!J26","v":0},0,0,{"$f":"IF($A89=\"\",0,SUMIF(勘定入力!$E:$E,1&$A89,勘定入力!$J:$J))","v":0},{"$f":"IF($A89=\"\",0,SUMIF(勘定入力!$E:$E,1&$A89,勘定入力!$K:$K))","v":0},{"$f":"IF($A89=\"\",0,SUMIF(勘定入力!$E:$E,2&$A89,勘定入力!$J:$J))","v":0},{"$f":"IF($A89=\"\",0,SUMIF(勘定入力!$E:$E,2&$A89,勘定入力!$K:$K))","v":0},{"$f":"IF($A89=\"\",0,SUMIF(勘定入力!$E:$E,3&$A89,勘定入力!$J:$J))","v":0},{"$f":"IF($A89=\"\",0,SUMIF(勘定入力!$E:$E,3&$A89,勘定入力!$K:$K))","v":0},{"$f":"IF($A89=\"\",0,SUMIF(勘定入力!$E:$E,4&$A89,勘定入力!$J:$J))","v":0},{"$f":"IF($A89=\"\",0,SUMIF(勘定入力!$E:$E,4&$A89,勘定入力!$K:$K))","v":0},{"$f":"IF($A89=\"\",0,SUMIF(勘定入力!$E:$E,5&$A89,勘定入力!$J:$J))","v":0},{"$f":"IF($A89=\"\",0,SUMIF(勘定入力!$E:$E,5&$A89,勘定入力!$K:$K))","v":0},{"$f":"IF($A89=\"\",0,SUMIF(勘定入力!$E:$E,6&$A89,勘定入力!$J:$J))","v":0},{"$f":"IF($A89=\"\",0,SUMIF(勘定入力!$E:$E,6&$A89,勘定入力!$K:$K))","v":0},{"$f":"IF($A89=\"\",0,SUMIF(勘定入力!$E:$E,7&$A89,勘定入力!$J:$J))","v":0},{"$f":"IF($A89=\"\",0,SUMIF(勘定入力!$E:$E,7&$A89,勘定入力!$K:$K))","v":0},{"$f":"IF($A89=\"\",0,SUMIF(勘定入力!$E:$E,8&$A89,勘定入力!$J:$J))","v":0},{"$f":"IF($A89=\"\",0,SUMIF(勘定入力!$E:$E,8&$A89,勘定入力!$K:$K))","v":0},{"$f":"IF($A89=\"\",0,SUMIF(勘定入力!$E:$E,9&$A89,勘定入力!$J:$J))","v":0},{"$f":"IF($A89=\"\",0,SUMIF(勘定入力!$E:$E,9&$A89,勘定入力!$K:$K))","v":0},{"$f":"IF($A89=\"\",0,SUMIF(勘定入力!$E:$E,10&$A89,勘定入力!$J:$J))","v":0},{"$f":"IF($A89=\"\",0,SUMIF(勘定入力!$E:$E,10&$A89,勘定入力!$K:$K))","v":0},{"$f":"IF($A89=\"\",0,SUMIF(勘定入力!$E:$E,11&$A89,勘定入力!$J:$J))","v":0},{"$f":"IF($A89=\"\",0,SUMIF(勘定入力!$E:$E,11&$A89,勘定入力!$K:$K))","v":0},{"$f":"IF($A89=\"\",0,SUMIF(勘定入力!$E:$E,12&$A89,勘定入力!$J:$J))","v":0},{"$f":"IF($A89=\"\",0,SUMIF(勘定入力!$E:$E,12&$A89,勘定入力!$K:$K))","v":0}]
[{"$f":"入力補助!J27","v":0},0,0,{"$f":"IF($A90=\"\",0,SUMIF(勘定入力!$E:$E,1&$A90,勘定入力!$J:$J))","v":0},{"$f":"IF($A90=\"\",0,SUMIF(勘定入力!$E:$E,1&$A90,勘定入力!$K:$K))","v":0},{"$f":"IF($A90=\"\",0,SUMIF(勘定入力!$E:$E,2&$A90,勘定入力!$J:$J))","v":0},{"$f":"IF($A90=\"\",0,SUMIF(勘定入力!$E:$E,2&$A90,勘定入力!$K:$K))","v":0},{"$f":"IF($A90=\"\",0,SUMIF(勘定入力!$E:$E,3&$A90,勘定入力!$J:$J))","v":0},{"$f":"IF($A90=\"\",0,SUMIF(勘定入力!$E:$E,3&$A90,勘定入力!$K:$K))","v":0},{"$f":"IF($A90=\"\",0,SUMIF(勘定入力!$E:$E,4&$A90,勘定入力!$J:$J))","v":0},{"$f":"IF($A90=\"\",0,SUMIF(勘定入力!$E:$E,4&$A90,勘定入力!$K:$K))","v":0},{"$f":"IF($A90=\"\",0,SUMIF(勘定入力!$E:$E,5&$A90,勘定入力!$J:$J))","v":0},{"$f":"IF($A90=\"\",0,SUMIF(勘定入力!$E:$E,5&$A90,勘定入力!$K:$K))","v":0},{"$f":"IF($A90=\"\",0,SUMIF(勘定入力!$E:$E,6&$A90,勘定入力!$J:$J))","v":0},{"$f":"IF($A90=\"\",0,SUMIF(勘定入力!$E:$E,6&$A90,勘定入力!$K:$K))","v":0},{"$f":"IF($A90=\"\",0,SUMIF(勘定入力!$E:$E,7&$A90,勘定入力!$J:$J))","v":0},{"$f":"IF($A90=\"\",0,SUMIF(勘定入力!$E:$E,7&$A90,勘定入力!$K:$K))","v":0},{"$f":"IF($A90=\"\",0,SUMIF(勘定入力!$E:$E,8&$A90,勘定入力!$J:$J))","v":0},{"$f":"IF($A90=\"\",0,SUMIF(勘定入力!$E:$E,8&$A90,勘定入力!$K:$K))","v":0},{"$f":"IF($A90=\"\",0,SUMIF(勘定入力!$E:$E,9&$A90,勘定入力!$J:$J))","v":0},{"$f":"IF($A90=\"\",0,SUMIF(勘定入力!$E:$E,9&$A90,勘定入力!$K:$K))","v":0},{"$f":"IF($A90=\"\",0,SUMIF(勘定入力!$E:$E,10&$A90,勘定入力!$J:$J))","v":0},{"$f":"IF($A90=\"\",0,SUMIF(勘定入力!$E:$E,10&$A90,勘定入力!$K:$K))","v":0},{"$f":"IF($A90=\"\",0,SUMIF(勘定入力!$E:$E,11&$A90,勘定入力!$J:$J))","v":0},{"$f":"IF($A90=\"\",0,SUMIF(勘定入力!$E:$E,11&$A90,勘定入力!$K:$K))","v":0},{"$f":"IF($A90=\"\",0,SUMIF(勘定入力!$E:$E,12&$A90,勘定入力!$J:$J))","v":0},{"$f":"IF($A90=\"\",0,SUMIF(勘定入力!$E:$E,12&$A90,勘定入力!$K:$K))","v":0}]
[{"$f":"入力補助!J28","v":0},0,0,{"$f":"IF($A91=\"\",0,SUMIF(勘定入力!$E:$E,1&$A91,勘定入力!$J:$J))","v":0},{"$f":"IF($A91=\"\",0,SUMIF(勘定入力!$E:$E,1&$A91,勘定入力!$K:$K))","v":0},{"$f":"IF($A91=\"\",0,SUMIF(勘定入力!$E:$E,2&$A91,勘定入力!$J:$J))","v":0},{"$f":"IF($A91=\"\",0,SUMIF(勘定入力!$E:$E,2&$A91,勘定入力!$K:$K))","v":0},{"$f":"IF($A91=\"\",0,SUMIF(勘定入力!$E:$E,3&$A91,勘定入力!$J:$J))","v":0},{"$f":"IF($A91=\"\",0,SUMIF(勘定入力!$E:$E,3&$A91,勘定入力!$K:$K))","v":0},{"$f":"IF($A91=\"\",0,SUMIF(勘定入力!$E:$E,4&$A91,勘定入力!$J:$J))","v":0},{"$f":"IF($A91=\"\",0,SUMIF(勘定入力!$E:$E,4&$A91,勘定入力!$K:$K))","v":0},{"$f":"IF($A91=\"\",0,SUMIF(勘定入力!$E:$E,5&$A91,勘定入力!$J:$J))","v":0},{"$f":"IF($A91=\"\",0,SUMIF(勘定入力!$E:$E,5&$A91,勘定入力!$K:$K))","v":0},{"$f":"IF($A91=\"\",0,SUMIF(勘定入力!$E:$E,6&$A91,勘定入力!$J:$J))","v":0},{"$f":"IF($A91=\"\",0,SUMIF(勘定入力!$E:$E,6&$A91,勘定入力!$K:$K))","v":0},{"$f":"IF($A91=\"\",0,SUMIF(勘定入力!$E:$E,7&$A91,勘定入力!$J:$J))","v":0},{"$f":"IF($A91=\"\",0,SUMIF(勘定入力!$E:$E,7&$A91,勘定入力!$K:$K))","v":0},{"$f":"IF($A91=\"\",0,SUMIF(勘定入力!$E:$E,8&$A91,勘定入力!$J:$J))","v":0},{"$f":"IF($A91=\"\",0,SUMIF(勘定入力!$E:$E,8&$A91,勘定入力!$K:$K))","v":0},{"$f":"IF($A91=\"\",0,SUMIF(勘定入力!$E:$E,9&$A91,勘定入力!$J:$J))","v":0},{"$f":"IF($A91=\"\",0,SUMIF(勘定入力!$E:$E,9&$A91,勘定入力!$K:$K))","v":0},{"$f":"IF($A91=\"\",0,SUMIF(勘定入力!$E:$E,10&$A91,勘定入力!$J:$J))","v":0},{"$f":"IF($A91=\"\",0,SUMIF(勘定入力!$E:$E,10&$A91,勘定入力!$K:$K))","v":0},{"$f":"IF($A91=\"\",0,SUMIF(勘定入力!$E:$E,11&$A91,勘定入力!$J:$J))","v":0},{"$f":"IF($A91=\"\",0,SUMIF(勘定入力!$E:$E,11&$A91,勘定入力!$K:$K))","v":0},{"$f":"IF($A91=\"\",0,SUMIF(勘定入力!$E:$E,12&$A91,勘定入力!$J:$J))","v":0},{"$f":"IF($A91=\"\",0,SUMIF(勘定入力!$E:$E,12&$A91,勘定入力!$K:$K))","v":0}]
[{"$f":"入力補助!J29","v":0},0,0,{"$f":"IF($A92=\"\",0,SUMIF(勘定入力!$E:$E,1&$A92,勘定入力!$J:$J))","v":0},{"$f":"IF($A92=\"\",0,SUMIF(勘定入力!$E:$E,1&$A92,勘定入力!$K:$K))","v":0},{"$f":"IF($A92=\"\",0,SUMIF(勘定入力!$E:$E,2&$A92,勘定入力!$J:$J))","v":0},{"$f":"IF($A92=\"\",0,SUMIF(勘定入力!$E:$E,2&$A92,勘定入力!$K:$K))","v":0},{"$f":"IF($A92=\"\",0,SUMIF(勘定入力!$E:$E,3&$A92,勘定入力!$J:$J))","v":0},{"$f":"IF($A92=\"\",0,SUMIF(勘定入力!$E:$E,3&$A92,勘定入力!$K:$K))","v":0},{"$f":"IF($A92=\"\",0,SUMIF(勘定入力!$E:$E,4&$A92,勘定入力!$J:$J))","v":0},{"$f":"IF($A92=\"\",0,SUMIF(勘定入力!$E:$E,4&$A92,勘定入力!$K:$K))","v":0},{"$f":"IF($A92=\"\",0,SUMIF(勘定入力!$E:$E,5&$A92,勘定入力!$J:$J))","v":0},{"$f":"IF($A92=\"\",0,SUMIF(勘定入力!$E:$E,5&$A92,勘定入力!$K:$K))","v":0},{"$f":"IF($A92=\"\",0,SUMIF(勘定入力!$E:$E,6&$A92,勘定入力!$J:$J))","v":0},{"$f":"IF($A92=\"\",0,SUMIF(勘定入力!$E:$E,6&$A92,勘定入力!$K:$K))","v":0},{"$f":"IF($A92=\"\",0,SUMIF(勘定入力!$E:$E,7&$A92,勘定入力!$J:$J))","v":0},{"$f":"IF($A92=\"\",0,SUMIF(勘定入力!$E:$E,7&$A92,勘定入力!$K:$K))","v":0},{"$f":"IF($A92=\"\",0,SUMIF(勘定入力!$E:$E,8&$A92,勘定入力!$J:$J))","v":0},{"$f":"IF($A92=\"\",0,SUMIF(勘定入力!$E:$E,8&$A92,勘定入力!$K:$K))","v":0},{"$f":"IF($A92=\"\",0,SUMIF(勘定入力!$E:$E,9&$A92,勘定入力!$J:$J))","v":0},{"$f":"IF($A92=\"\",0,SUMIF(勘定入力!$E:$E,9&$A92,勘定入力!$K:$K))","v":0},{"$f":"IF($A92=\"\",0,SUMIF(勘定入力!$E:$E,10&$A92,勘定入力!$J:$J))","v":0},{"$f":"IF($A92=\"\",0,SUMIF(勘定入力!$E:$E,10&$A92,勘定入力!$K:$K))","v":0},{"$f":"IF($A92=\"\",0,SUMIF(勘定入力!$E:$E,11&$A92,勘定入力!$J:$J))","v":0},{"$f":"IF($A92=\"\",0,SUMIF(勘定入力!$E:$E,11&$A92,勘定入力!$K:$K))","v":0},{"$f":"IF($A92=\"\",0,SUMIF(勘定入力!$E:$E,12&$A92,勘定入力!$J:$J))","v":0},{"$f":"IF($A92=\"\",0,SUMIF(勘定入力!$E:$E,12&$A92,勘定入力!$K:$K))","v":0}]
[{"$f":"入力補助!J30","v":0},0,0,{"$f":"IF($A93=\"\",0,SUMIF(勘定入力!$E:$E,1&$A93,勘定入力!$J:$J))","v":0},{"$f":"IF($A93=\"\",0,SUMIF(勘定入力!$E:$E,1&$A93,勘定入力!$K:$K))","v":0},{"$f":"IF($A93=\"\",0,SUMIF(勘定入力!$E:$E,2&$A93,勘定入力!$J:$J))","v":0},{"$f":"IF($A93=\"\",0,SUMIF(勘定入力!$E:$E,2&$A93,勘定入力!$K:$K))","v":0},{"$f":"IF($A93=\"\",0,SUMIF(勘定入力!$E:$E,3&$A93,勘定入力!$J:$J))","v":0},{"$f":"IF($A93=\"\",0,SUMIF(勘定入力!$E:$E,3&$A93,勘定入力!$K:$K))","v":0},{"$f":"IF($A93=\"\",0,SUMIF(勘定入力!$E:$E,4&$A93,勘定入力!$J:$J))","v":0},{"$f":"IF($A93=\"\",0,SUMIF(勘定入力!$E:$E,4&$A93,勘定入力!$K:$K))","v":0},{"$f":"IF($A93=\"\",0,SUMIF(勘定入力!$E:$E,5&$A93,勘定入力!$J:$J))","v":0},{"$f":"IF($A93=\"\",0,SUMIF(勘定入力!$E:$E,5&$A93,勘定入力!$K:$K))","v":0},{"$f":"IF($A93=\"\",0,SUMIF(勘定入力!$E:$E,6&$A93,勘定入力!$J:$J))","v":0},{"$f":"IF($A93=\"\",0,SUMIF(勘定入力!$E:$E,6&$A93,勘定入力!$K:$K))","v":0},{"$f":"IF($A93=\"\",0,SUMIF(勘定入力!$E:$E,7&$A93,勘定入力!$J:$J))","v":0},{"$f":"IF($A93=\"\",0,SUMIF(勘定入力!$E:$E,7&$A93,勘定入力!$K:$K))","v":0},{"$f":"IF($A93=\"\",0,SUMIF(勘定入力!$E:$E,8&$A93,勘定入力!$J:$J))","v":0},{"$f":"IF($A93=\"\",0,SUMIF(勘定入力!$E:$E,8&$A93,勘定入力!$K:$K))","v":0},{"$f":"IF($A93=\"\",0,SUMIF(勘定入力!$E:$E,9&$A93,勘定入力!$J:$J))","v":0},{"$f":"IF($A93=\"\",0,SUMIF(勘定入力!$E:$E,9&$A93,勘定入力!$K:$K))","v":0},{"$f":"IF($A93=\"\",0,SUMIF(勘定入力!$E:$E,10&$A93,勘定入力!$J:$J))","v":0},{"$f":"IF($A93=\"\",0,SUMIF(勘定入力!$E:$E,10&$A93,勘定入力!$K:$K))","v":0},{"$f":"IF($A93=\"\",0,SUMIF(勘定入力!$E:$E,11&$A93,勘定入力!$J:$J))","v":0},{"$f":"IF($A93=\"\",0,SUMIF(勘定入力!$E:$E,11&$A93,勘定入力!$K:$K))","v":0},{"$f":"IF($A93=\"\",0,SUMIF(勘定入力!$E:$E,12&$A93,勘定入力!$J:$J))","v":0},{"$f":"IF($A93=\"\",0,SUMIF(勘定入力!$E:$E,12&$A93,勘定入力!$K:$K))","v":0}]
[{"$f":"入力補助!J31","v":0},0,0,{"$f":"IF($A94=\"\",0,SUMIF(勘定入力!$E:$E,1&$A94,勘定入力!$J:$J))","v":0},{"$f":"IF($A94=\"\",0,SUMIF(勘定入力!$E:$E,1&$A94,勘定入力!$K:$K))","v":0},{"$f":"IF($A94=\"\",0,SUMIF(勘定入力!$E:$E,2&$A94,勘定入力!$J:$J))","v":0},{"$f":"IF($A94=\"\",0,SUMIF(勘定入力!$E:$E,2&$A94,勘定入力!$K:$K))","v":0},{"$f":"IF($A94=\"\",0,SUMIF(勘定入力!$E:$E,3&$A94,勘定入力!$J:$J))","v":0},{"$f":"IF($A94=\"\",0,SUMIF(勘定入力!$E:$E,3&$A94,勘定入力!$K:$K))","v":0},{"$f":"IF($A94=\"\",0,SUMIF(勘定入力!$E:$E,4&$A94,勘定入力!$J:$J))","v":0},{"$f":"IF($A94=\"\",0,SUMIF(勘定入力!$E:$E,4&$A94,勘定入力!$K:$K))","v":0},{"$f":"IF($A94=\"\",0,SUMIF(勘定入力!$E:$E,5&$A94,勘定入力!$J:$J))","v":0},{"$f":"IF($A94=\"\",0,SUMIF(勘定入力!$E:$E,5&$A94,勘定入力!$K:$K))","v":0},{"$f":"IF($A94=\"\",0,SUMIF(勘定入力!$E:$E,6&$A94,勘定入力!$J:$J))","v":0},{"$f":"IF($A94=\"\",0,SUMIF(勘定入力!$E:$E,6&$A94,勘定入力!$K:$K))","v":0},{"$f":"IF($A94=\"\",0,SUMIF(勘定入力!$E:$E,7&$A94,勘定入力!$J:$J))","v":0},{"$f":"IF($A94=\"\",0,SUMIF(勘定入力!$E:$E,7&$A94,勘定入力!$K:$K))","v":0},{"$f":"IF($A94=\"\",0,SUMIF(勘定入力!$E:$E,8&$A94,勘定入力!$J:$J))","v":0},{"$f":"IF($A94=\"\",0,SUMIF(勘定入力!$E:$E,8&$A94,勘定入力!$K:$K))","v":0},{"$f":"IF($A94=\"\",0,SUMIF(勘定入力!$E:$E,9&$A94,勘定入力!$J:$J))","v":0},{"$f":"IF($A94=\"\",0,SUMIF(勘定入力!$E:$E,9&$A94,勘定入力!$K:$K))","v":0},{"$f":"IF($A94=\"\",0,SUMIF(勘定入力!$E:$E,10&$A94,勘定入力!$J:$J))","v":0},{"$f":"IF($A94=\"\",0,SUMIF(勘定入力!$E:$E,10&$A94,勘定入力!$K:$K))","v":0},{"$f":"IF($A94=\"\",0,SUMIF(勘定入力!$E:$E,11&$A94,勘定入力!$J:$J))","v":0},{"$f":"IF($A94=\"\",0,SUMIF(勘定入力!$E:$E,11&$A94,勘定入力!$K:$K))","v":0},{"$f":"IF($A94=\"\",0,SUMIF(勘定入力!$E:$E,12&$A94,勘定入力!$J:$J))","v":0},{"$f":"IF($A94=\"\",0,SUMIF(勘定入力!$E:$E,12&$A94,勘定入力!$K:$K))","v":0}]
[{"$f":"入力補助!J32","v":0},0,0,{"$f":"IF($A95=\"\",0,SUMIF(勘定入力!$E:$E,1&$A95,勘定入力!$J:$J))","v":0},{"$f":"IF($A95=\"\",0,SUMIF(勘定入力!$E:$E,1&$A95,勘定入力!$K:$K))","v":0},{"$f":"IF($A95=\"\",0,SUMIF(勘定入力!$E:$E,2&$A95,勘定入力!$J:$J))","v":0},{"$f":"IF($A95=\"\",0,SUMIF(勘定入力!$E:$E,2&$A95,勘定入力!$K:$K))","v":0},{"$f":"IF($A95=\"\",0,SUMIF(勘定入力!$E:$E,3&$A95,勘定入力!$J:$J))","v":0},{"$f":"IF($A95=\"\",0,SUMIF(勘定入力!$E:$E,3&$A95,勘定入力!$K:$K))","v":0},{"$f":"IF($A95=\"\",0,SUMIF(勘定入力!$E:$E,4&$A95,勘定入力!$J:$J))","v":0},{"$f":"IF($A95=\"\",0,SUMIF(勘定入力!$E:$E,4&$A95,勘定入力!$K:$K))","v":0},{"$f":"IF($A95=\"\",0,SUMIF(勘定入力!$E:$E,5&$A95,勘定入力!$J:$J))","v":0},{"$f":"IF($A95=\"\",0,SUMIF(勘定入力!$E:$E,5&$A95,勘定入力!$K:$K))","v":0},{"$f":"IF($A95=\"\",0,SUMIF(勘定入力!$E:$E,6&$A95,勘定入力!$J:$J))","v":0},{"$f":"IF($A95=\"\",0,SUMIF(勘定入力!$E:$E,6&$A95,勘定入力!$K:$K))","v":0},{"$f":"IF($A95=\"\",0,SUMIF(勘定入力!$E:$E,7&$A95,勘定入力!$J:$J))","v":0},{"$f":"IF($A95=\"\",0,SUMIF(勘定入力!$E:$E,7&$A95,勘定入力!$K:$K))","v":0},{"$f":"IF($A95=\"\",0,SUMIF(勘定入力!$E:$E,8&$A95,勘定入力!$J:$J))","v":0},{"$f":"IF($A95=\"\",0,SUMIF(勘定入力!$E:$E,8&$A95,勘定入力!$K:$K))","v":0},{"$f":"IF($A95=\"\",0,SUMIF(勘定入力!$E:$E,9&$A95,勘定入力!$J:$J))","v":0},{"$f":"IF($A95=\"\",0,SUMIF(勘定入力!$E:$E,9&$A95,勘定入力!$K:$K))","v":0},{"$f":"IF($A95=\"\",0,SUMIF(勘定入力!$E:$E,10&$A95,勘定入力!$J:$J))","v":0},{"$f":"IF($A95=\"\",0,SUMIF(勘定入力!$E:$E,10&$A95,勘定入力!$K:$K))","v":0},{"$f":"IF($A95=\"\",0,SUMIF(勘定入力!$E:$E,11&$A95,勘定入力!$J:$J))","v":0},{"$f":"IF($A95=\"\",0,SUMIF(勘定入力!$E:$E,11&$A95,勘定入力!$K:$K))","v":0},{"$f":"IF($A95=\"\",0,SUMIF(勘定入力!$E:$E,12&$A95,勘定入力!$J:$J))","v":0},{"$f":"IF($A95=\"\",0,SUMIF(勘定入力!$E:$E,12&$A95,勘定入力!$K:$K))","v":0}]
[{"$f":"入力補助!J33","v":0},0,0,{"$f":"IF($A96=\"\",0,SUMIF(勘定入力!$E:$E,1&$A96,勘定入力!$J:$J))","v":0},{"$f":"IF($A96=\"\",0,SUMIF(勘定入力!$E:$E,1&$A96,勘定入力!$K:$K))","v":0},{"$f":"IF($A96=\"\",0,SUMIF(勘定入力!$E:$E,2&$A96,勘定入力!$J:$J))","v":0},{"$f":"IF($A96=\"\",0,SUMIF(勘定入力!$E:$E,2&$A96,勘定入力!$K:$K))","v":0},{"$f":"IF($A96=\"\",0,SUMIF(勘定入力!$E:$E,3&$A96,勘定入力!$J:$J))","v":0},{"$f":"IF($A96=\"\",0,SUMIF(勘定入力!$E:$E,3&$A96,勘定入力!$K:$K))","v":0},{"$f":"IF($A96=\"\",0,SUMIF(勘定入力!$E:$E,4&$A96,勘定入力!$J:$J))","v":0},{"$f":"IF($A96=\"\",0,SUMIF(勘定入力!$E:$E,4&$A96,勘定入力!$K:$K))","v":0},{"$f":"IF($A96=\"\",0,SUMIF(勘定入力!$E:$E,5&$A96,勘定入力!$J:$J))","v":0},{"$f":"IF($A96=\"\",0,SUMIF(勘定入力!$E:$E,5&$A96,勘定入力!$K:$K))","v":0},{"$f":"IF($A96=\"\",0,SUMIF(勘定入力!$E:$E,6&$A96,勘定入力!$J:$J))","v":0},{"$f":"IF($A96=\"\",0,SUMIF(勘定入力!$E:$E,6&$A96,勘定入力!$K:$K))","v":0},{"$f":"IF($A96=\"\",0,SUMIF(勘定入力!$E:$E,7&$A96,勘定入力!$J:$J))","v":0},{"$f":"IF($A96=\"\",0,SUMIF(勘定入力!$E:$E,7&$A96,勘定入力!$K:$K))","v":0},{"$f":"IF($A96=\"\",0,SUMIF(勘定入力!$E:$E,8&$A96,勘定入力!$J:$J))","v":0},{"$f":"IF($A96=\"\",0,SUMIF(勘定入力!$E:$E,8&$A96,勘定入力!$K:$K))","v":0},{"$f":"IF($A96=\"\",0,SUMIF(勘定入力!$E:$E,9&$A96,勘定入力!$J:$J))","v":0},{"$f":"IF($A96=\"\",0,SUMIF(勘定入力!$E:$E,9&$A96,勘定入力!$K:$K))","v":0},{"$f":"IF($A96=\"\",0,SUMIF(勘定入力!$E:$E,10&$A96,勘定入力!$J:$J))","v":0},{"$f":"IF($A96=\"\",0,SUMIF(勘定入力!$E:$E,10&$A96,勘定入力!$K:$K))","v":0},{"$f":"IF($A96=\"\",0,SUMIF(勘定入力!$E:$E,11&$A96,勘定入力!$J:$J))","v":0},{"$f":"IF($A96=\"\",0,SUMIF(勘定入力!$E:$E,11&$A96,勘定入力!$K:$K))","v":0},{"$f":"IF($A96=\"\",0,SUMIF(勘定入力!$E:$E,12&$A96,勘定入力!$J:$J))","v":0},{"$f":"IF($A96=\"\",0,SUMIF(勘定入力!$E:$E,12&$A96,勘定入力!$K:$K))","v":0}]
[{"$f":"入力補助!J34","v":0},0,0,{"$f":"IF($A97=\"\",0,SUMIF(勘定入力!$E:$E,1&$A97,勘定入力!$J:$J))","v":0},{"$f":"IF($A97=\"\",0,SUMIF(勘定入力!$E:$E,1&$A97,勘定入力!$K:$K))","v":0},{"$f":"IF($A97=\"\",0,SUMIF(勘定入力!$E:$E,2&$A97,勘定入力!$J:$J))","v":0},{"$f":"IF($A97=\"\",0,SUMIF(勘定入力!$E:$E,2&$A97,勘定入力!$K:$K))","v":0},{"$f":"IF($A97=\"\",0,SUMIF(勘定入力!$E:$E,3&$A97,勘定入力!$J:$J))","v":0},{"$f":"IF($A97=\"\",0,SUMIF(勘定入力!$E:$E,3&$A97,勘定入力!$K:$K))","v":0},{"$f":"IF($A97=\"\",0,SUMIF(勘定入力!$E:$E,4&$A97,勘定入力!$J:$J))","v":0},{"$f":"IF($A97=\"\",0,SUMIF(勘定入力!$E:$E,4&$A97,勘定入力!$K:$K))","v":0},{"$f":"IF($A97=\"\",0,SUMIF(勘定入力!$E:$E,5&$A97,勘定入力!$J:$J))","v":0},{"$f":"IF($A97=\"\",0,SUMIF(勘定入力!$E:$E,5&$A97,勘定入力!$K:$K))","v":0},{"$f":"IF($A97=\"\",0,SUMIF(勘定入力!$E:$E,6&$A97,勘定入力!$J:$J))","v":0},{"$f":"IF($A97=\"\",0,SUMIF(勘定入力!$E:$E,6&$A97,勘定入力!$K:$K))","v":0},{"$f":"IF($A97=\"\",0,SUMIF(勘定入力!$E:$E,7&$A97,勘定入力!$J:$J))","v":0},{"$f":"IF($A97=\"\",0,SUMIF(勘定入力!$E:$E,7&$A97,勘定入力!$K:$K))","v":0},{"$f":"IF($A97=\"\",0,SUMIF(勘定入力!$E:$E,8&$A97,勘定入力!$J:$J))","v":0},{"$f":"IF($A97=\"\",0,SUMIF(勘定入力!$E:$E,8&$A97,勘定入力!$K:$K))","v":0},{"$f":"IF($A97=\"\",0,SUMIF(勘定入力!$E:$E,9&$A97,勘定入力!$J:$J))","v":0},{"$f":"IF($A97=\"\",0,SUMIF(勘定入力!$E:$E,9&$A97,勘定入力!$K:$K))","v":0},{"$f":"IF($A97=\"\",0,SUMIF(勘定入力!$E:$E,10&$A97,勘定入力!$J:$J))","v":0},{"$f":"IF($A97=\"\",0,SUMIF(勘定入力!$E:$E,10&$A97,勘定入力!$K:$K))","v":0},{"$f":"IF($A97=\"\",0,SUMIF(勘定入力!$E:$E,11&$A97,勘定入力!$J:$J))","v":0},{"$f":"IF($A97=\"\",0,SUMIF(勘定入力!$E:$E,11&$A97,勘定入力!$K:$K))","v":0},{"$f":"IF($A97=\"\",0,SUMIF(勘定入力!$E:$E,12&$A97,勘定入力!$J:$J))","v":0},{"$f":"IF($A97=\"\",0,SUMIF(勘定入力!$E:$E,12&$A97,勘定入力!$K:$K))","v":0}]
[{"$f":"入力補助!J35","v":0},0,0,{"$f":"IF($A98=\"\",0,SUMIF(勘定入力!$E:$E,1&$A98,勘定入力!$J:$J))","v":0},{"$f":"IF($A98=\"\",0,SUMIF(勘定入力!$E:$E,1&$A98,勘定入力!$K:$K))","v":0},{"$f":"IF($A98=\"\",0,SUMIF(勘定入力!$E:$E,2&$A98,勘定入力!$J:$J))","v":0},{"$f":"IF($A98=\"\",0,SUMIF(勘定入力!$E:$E,2&$A98,勘定入力!$K:$K))","v":0},{"$f":"IF($A98=\"\",0,SUMIF(勘定入力!$E:$E,3&$A98,勘定入力!$J:$J))","v":0},{"$f":"IF($A98=\"\",0,SUMIF(勘定入力!$E:$E,3&$A98,勘定入力!$K:$K))","v":0},{"$f":"IF($A98=\"\",0,SUMIF(勘定入力!$E:$E,4&$A98,勘定入力!$J:$J))","v":0},{"$f":"IF($A98=\"\",0,SUMIF(勘定入力!$E:$E,4&$A98,勘定入力!$K:$K))","v":0},{"$f":"IF($A98=\"\",0,SUMIF(勘定入力!$E:$E,5&$A98,勘定入力!$J:$J))","v":0},{"$f":"IF($A98=\"\",0,SUMIF(勘定入力!$E:$E,5&$A98,勘定入力!$K:$K))","v":0},{"$f":"IF($A98=\"\",0,SUMIF(勘定入力!$E:$E,6&$A98,勘定入力!$J:$J))","v":0},{"$f":"IF($A98=\"\",0,SUMIF(勘定入力!$E:$E,6&$A98,勘定入力!$K:$K))","v":0},{"$f":"IF($A98=\"\",0,SUMIF(勘定入力!$E:$E,7&$A98,勘定入力!$J:$J))","v":0},{"$f":"IF($A98=\"\",0,SUMIF(勘定入力!$E:$E,7&$A98,勘定入力!$K:$K))","v":0},{"$f":"IF($A98=\"\",0,SUMIF(勘定入力!$E:$E,8&$A98,勘定入力!$J:$J))","v":0},{"$f":"IF($A98=\"\",0,SUMIF(勘定入力!$E:$E,8&$A98,勘定入力!$K:$K))","v":0},{"$f":"IF($A98=\"\",0,SUMIF(勘定入力!$E:$E,9&$A98,勘定入力!$J:$J))","v":0},{"$f":"IF($A98=\"\",0,SUMIF(勘定入力!$E:$E,9&$A98,勘定入力!$K:$K))","v":0},{"$f":"IF($A98=\"\",0,SUMIF(勘定入力!$E:$E,10&$A98,勘定入力!$J:$J))","v":0},{"$f":"IF($A98=\"\",0,SUMIF(勘定入力!$E:$E,10&$A98,勘定入力!$K:$K))","v":0},{"$f":"IF($A98=\"\",0,SUMIF(勘定入力!$E:$E,11&$A98,勘定入力!$J:$J))","v":0},{"$f":"IF($A98=\"\",0,SUMIF(勘定入力!$E:$E,11&$A98,勘定入力!$K:$K))","v":0},{"$f":"IF($A98=\"\",0,SUMIF(勘定入力!$E:$E,12&$A98,勘定入力!$J:$J))","v":0},{"$f":"IF($A98=\"\",0,SUMIF(勘定入力!$E:$E,12&$A98,勘定入力!$K:$K))","v":0}]
[{"$f":"入力補助!J36","v":0},0,0,{"$f":"IF($A99=\"\",0,SUMIF(勘定入力!$E:$E,1&$A99,勘定入力!$J:$J))","v":0},{"$f":"IF($A99=\"\",0,SUMIF(勘定入力!$E:$E,1&$A99,勘定入力!$K:$K))","v":0},{"$f":"IF($A99=\"\",0,SUMIF(勘定入力!$E:$E,2&$A99,勘定入力!$J:$J))","v":0},{"$f":"IF($A99=\"\",0,SUMIF(勘定入力!$E:$E,2&$A99,勘定入力!$K:$K))","v":0},{"$f":"IF($A99=\"\",0,SUMIF(勘定入力!$E:$E,3&$A99,勘定入力!$J:$J))","v":0},{"$f":"IF($A99=\"\",0,SUMIF(勘定入力!$E:$E,3&$A99,勘定入力!$K:$K))","v":0},{"$f":"IF($A99=\"\",0,SUMIF(勘定入力!$E:$E,4&$A99,勘定入力!$J:$J))","v":0},{"$f":"IF($A99=\"\",0,SUMIF(勘定入力!$E:$E,4&$A99,勘定入力!$K:$K))","v":0},{"$f":"IF($A99=\"\",0,SUMIF(勘定入力!$E:$E,5&$A99,勘定入力!$J:$J))","v":0},{"$f":"IF($A99=\"\",0,SUMIF(勘定入力!$E:$E,5&$A99,勘定入力!$K:$K))","v":0},{"$f":"IF($A99=\"\",0,SUMIF(勘定入力!$E:$E,6&$A99,勘定入力!$J:$J))","v":0},{"$f":"IF($A99=\"\",0,SUMIF(勘定入力!$E:$E,6&$A99,勘定入力!$K:$K))","v":0},{"$f":"IF($A99=\"\",0,SUMIF(勘定入力!$E:$E,7&$A99,勘定入力!$J:$J))","v":0},{"$f":"IF($A99=\"\",0,SUMIF(勘定入力!$E:$E,7&$A99,勘定入力!$K:$K))","v":0},{"$f":"IF($A99=\"\",0,SUMIF(勘定入力!$E:$E,8&$A99,勘定入力!$J:$J))","v":0},{"$f":"IF($A99=\"\",0,SUMIF(勘定入力!$E:$E,8&$A99,勘定入力!$K:$K))","v":0},{"$f":"IF($A99=\"\",0,SUMIF(勘定入力!$E:$E,9&$A99,勘定入力!$J:$J))","v":0},{"$f":"IF($A99=\"\",0,SUMIF(勘定入力!$E:$E,9&$A99,勘定入力!$K:$K))","v":0},{"$f":"IF($A99=\"\",0,SUMIF(勘定入力!$E:$E,10&$A99,勘定入力!$J:$J))","v":0},{"$f":"IF($A99=\"\",0,SUMIF(勘定入力!$E:$E,10&$A99,勘定入力!$K:$K))","v":0},{"$f":"IF($A99=\"\",0,SUMIF(勘定入力!$E:$E,11&$A99,勘定入力!$J:$J))","v":0},{"$f":"IF($A99=\"\",0,SUMIF(勘定入力!$E:$E,11&$A99,勘定入力!$K:$K))","v":0},{"$f":"IF($A99=\"\",0,SUMIF(勘定入力!$E:$E,12&$A99,勘定入力!$J:$J))","v":0},{"$f":"IF($A99=\"\",0,SUMIF(勘定入力!$E:$E,12&$A99,勘定入力!$K:$K))","v":0}]
[{"$f":"入力補助!J37","v":0},0,0,{"$f":"IF($A100=\"\",0,SUMIF(勘定入力!$E:$E,1&$A100,勘定入力!$J:$J))","v":0},{"$f":"IF($A100=\"\",0,SUMIF(勘定入力!$E:$E,1&$A100,勘定入力!$K:$K))","v":0},{"$f":"IF($A100=\"\",0,SUMIF(勘定入力!$E:$E,2&$A100,勘定入力!$J:$J))","v":0},{"$f":"IF($A100=\"\",0,SUMIF(勘定入力!$E:$E,2&$A100,勘定入力!$K:$K))","v":0},{"$f":"IF($A100=\"\",0,SUMIF(勘定入力!$E:$E,3&$A100,勘定入力!$J:$J))","v":0},{"$f":"IF($A100=\"\",0,SUMIF(勘定入力!$E:$E,3&$A100,勘定入力!$K:$K))","v":0},{"$f":"IF($A100=\"\",0,SUMIF(勘定入力!$E:$E,4&$A100,勘定入力!$J:$J))","v":0},{"$f":"IF($A100=\"\",0,SUMIF(勘定入力!$E:$E,4&$A100,勘定入力!$K:$K))","v":0},{"$f":"IF($A100=\"\",0,SUMIF(勘定入力!$E:$E,5&$A100,勘定入力!$J:$J))","v":0},{"$f":"IF($A100=\"\",0,SUMIF(勘定入力!$E:$E,5&$A100,勘定入力!$K:$K))","v":0},{"$f":"IF($A100=\"\",0,SUMIF(勘定入力!$E:$E,6&$A100,勘定入力!$J:$J))","v":0},{"$f":"IF($A100=\"\",0,SUMIF(勘定入力!$E:$E,6&$A100,勘定入力!$K:$K))","v":0},{"$f":"IF($A100=\"\",0,SUMIF(勘定入力!$E:$E,7&$A100,勘定入力!$J:$J))","v":0},{"$f":"IF($A100=\"\",0,SUMIF(勘定入力!$E:$E,7&$A100,勘定入力!$K:$K))","v":0},{"$f":"IF($A100=\"\",0,SUMIF(勘定入力!$E:$E,8&$A100,勘定入力!$J:$J))","v":0},{"$f":"IF($A100=\"\",0,SUMIF(勘定入力!$E:$E,8&$A100,勘定入力!$K:$K))","v":0},{"$f":"IF($A100=\"\",0,SUMIF(勘定入力!$E:$E,9&$A100,勘定入力!$J:$J))","v":0},{"$f":"IF($A100=\"\",0,SUMIF(勘定入力!$E:$E,9&$A100,勘定入力!$K:$K))","v":0},{"$f":"IF($A100=\"\",0,SUMIF(勘定入力!$E:$E,10&$A100,勘定入力!$J:$J))","v":0},{"$f":"IF($A100=\"\",0,SUMIF(勘定入力!$E:$E,10&$A100,勘定入力!$K:$K))","v":0},{"$f":"IF($A100=\"\",0,SUMIF(勘定入力!$E:$E,11&$A100,勘定入力!$J:$J))","v":0},{"$f":"IF($A100=\"\",0,SUMIF(勘定入力!$E:$E,11&$A100,勘定入力!$K:$K))","v":0},{"$f":"IF($A100=\"\",0,SUMIF(勘定入力!$E:$E,12&$A100,勘定入力!$J:$J))","v":0},{"$f":"IF($A100=\"\",0,SUMIF(勘定入力!$E:$E,12&$A100,勘定入力!$K:$K))","v":0}]
[{"$f":"入力補助!J38","v":0},0,0,{"$f":"IF($A101=\"\",0,SUMIF(勘定入力!$E:$E,1&$A101,勘定入力!$J:$J))","v":0},{"$f":"IF($A101=\"\",0,SUMIF(勘定入力!$E:$E,1&$A101,勘定入力!$K:$K))","v":0},{"$f":"IF($A101=\"\",0,SUMIF(勘定入力!$E:$E,2&$A101,勘定入力!$J:$J))","v":0},{"$f":"IF($A101=\"\",0,SUMIF(勘定入力!$E:$E,2&$A101,勘定入力!$K:$K))","v":0},{"$f":"IF($A101=\"\",0,SUMIF(勘定入力!$E:$E,3&$A101,勘定入力!$J:$J))","v":0},{"$f":"IF($A101=\"\",0,SUMIF(勘定入力!$E:$E,3&$A101,勘定入力!$K:$K))","v":0},{"$f":"IF($A101=\"\",0,SUMIF(勘定入力!$E:$E,4&$A101,勘定入力!$J:$J))","v":0},{"$f":"IF($A101=\"\",0,SUMIF(勘定入力!$E:$E,4&$A101,勘定入力!$K:$K))","v":0},{"$f":"IF($A101=\"\",0,SUMIF(勘定入力!$E:$E,5&$A101,勘定入力!$J:$J))","v":0},{"$f":"IF($A101=\"\",0,SUMIF(勘定入力!$E:$E,5&$A101,勘定入力!$K:$K))","v":0},{"$f":"IF($A101=\"\",0,SUMIF(勘定入力!$E:$E,6&$A101,勘定入力!$J:$J))","v":0},{"$f":"IF($A101=\"\",0,SUMIF(勘定入力!$E:$E,6&$A101,勘定入力!$K:$K))","v":0},{"$f":"IF($A101=\"\",0,SUMIF(勘定入力!$E:$E,7&$A101,勘定入力!$J:$J))","v":0},{"$f":"IF($A101=\"\",0,SUMIF(勘定入力!$E:$E,7&$A101,勘定入力!$K:$K))","v":0},{"$f":"IF($A101=\"\",0,SUMIF(勘定入力!$E:$E,8&$A101,勘定入力!$J:$J))","v":0},{"$f":"IF($A101=\"\",0,SUMIF(勘定入力!$E:$E,8&$A101,勘定入力!$K:$K))","v":0},{"$f":"IF($A101=\"\",0,SUMIF(勘定入力!$E:$E,9&$A101,勘定入力!$J:$J))","v":0},{"$f":"IF($A101=\"\",0,SUMIF(勘定入力!$E:$E,9&$A101,勘定入力!$K:$K))","v":0},{"$f":"IF($A101=\"\",0,SUMIF(勘定入力!$E:$E,10&$A101,勘定入力!$J:$J))","v":0},{"$f":"IF($A101=\"\",0,SUMIF(勘定入力!$E:$E,10&$A101,勘定入力!$K:$K))","v":0},{"$f":"IF($A101=\"\",0,SUMIF(勘定入力!$E:$E,11&$A101,勘定入力!$J:$J))","v":0},{"$f":"IF($A101=\"\",0,SUMIF(勘定入力!$E:$E,11&$A101,勘定入力!$K:$K))","v":0},{"$f":"IF($A101=\"\",0,SUMIF(勘定入力!$E:$E,12&$A101,勘定入力!$J:$J))","v":0},{"$f":"IF($A101=\"\",0,SUMIF(勘定入力!$E:$E,12&$A101,勘定入力!$K:$K))","v":0}]
[{"$f":"入力補助!J39","v":0},0,0,{"$f":"IF($A102=\"\",0,SUMIF(勘定入力!$E:$E,1&$A102,勘定入力!$J:$J))","v":0},{"$f":"IF($A102=\"\",0,SUMIF(勘定入力!$E:$E,1&$A102,勘定入力!$K:$K))","v":0},{"$f":"IF($A102=\"\",0,SUMIF(勘定入力!$E:$E,2&$A102,勘定入力!$J:$J))","v":0},{"$f":"IF($A102=\"\",0,SUMIF(勘定入力!$E:$E,2&$A102,勘定入力!$K:$K))","v":0},{"$f":"IF($A102=\"\",0,SUMIF(勘定入力!$E:$E,3&$A102,勘定入力!$J:$J))","v":0},{"$f":"IF($A102=\"\",0,SUMIF(勘定入力!$E:$E,3&$A102,勘定入力!$K:$K))","v":0},{"$f":"IF($A102=\"\",0,SUMIF(勘定入力!$E:$E,4&$A102,勘定入力!$J:$J))","v":0},{"$f":"IF($A102=\"\",0,SUMIF(勘定入力!$E:$E,4&$A102,勘定入力!$K:$K))","v":0},{"$f":"IF($A102=\"\",0,SUMIF(勘定入力!$E:$E,5&$A102,勘定入力!$J:$J))","v":0},{"$f":"IF($A102=\"\",0,SUMIF(勘定入力!$E:$E,5&$A102,勘定入力!$K:$K))","v":0},{"$f":"IF($A102=\"\",0,SUMIF(勘定入力!$E:$E,6&$A102,勘定入力!$J:$J))","v":0},{"$f":"IF($A102=\"\",0,SUMIF(勘定入力!$E:$E,6&$A102,勘定入力!$K:$K))","v":0},{"$f":"IF($A102=\"\",0,SUMIF(勘定入力!$E:$E,7&$A102,勘定入力!$J:$J))","v":0},{"$f":"IF($A102=\"\",0,SUMIF(勘定入力!$E:$E,7&$A102,勘定入力!$K:$K))","v":0},{"$f":"IF($A102=\"\",0,SUMIF(勘定入力!$E:$E,8&$A102,勘定入力!$J:$J))","v":0},{"$f":"IF($A102=\"\",0,SUMIF(勘定入力!$E:$E,8&$A102,勘定入力!$K:$K))","v":0},{"$f":"IF($A102=\"\",0,SUMIF(勘定入力!$E:$E,9&$A102,勘定入力!$J:$J))","v":0},{"$f":"IF($A102=\"\",0,SUMIF(勘定入力!$E:$E,9&$A102,勘定入力!$K:$K))","v":0},{"$f":"IF($A102=\"\",0,SUMIF(勘定入力!$E:$E,10&$A102,勘定入力!$J:$J))","v":0},{"$f":"IF($A102=\"\",0,SUMIF(勘定入力!$E:$E,10&$A102,勘定入力!$K:$K))","v":0},{"$f":"IF($A102=\"\",0,SUMIF(勘定入力!$E:$E,11&$A102,勘定入力!$J:$J))","v":0},{"$f":"IF($A102=\"\",0,SUMIF(勘定入力!$E:$E,11&$A102,勘定入力!$K:$K))","v":0},{"$f":"IF($A102=\"\",0,SUMIF(勘定入力!$E:$E,12&$A102,勘定入力!$J:$J))","v":0},{"$f":"IF($A102=\"\",0,SUMIF(勘定入力!$E:$E,12&$A102,勘定入力!$K:$K))","v":0}]
[{"$f":"入力補助!J40","v":0},0,0,{"$f":"IF($A103=\"\",0,SUMIF(勘定入力!$E:$E,1&$A103,勘定入力!$J:$J))","v":0},{"$f":"IF($A103=\"\",0,SUMIF(勘定入力!$E:$E,1&$A103,勘定入力!$K:$K))","v":0},{"$f":"IF($A103=\"\",0,SUMIF(勘定入力!$E:$E,2&$A103,勘定入力!$J:$J))","v":0},{"$f":"IF($A103=\"\",0,SUMIF(勘定入力!$E:$E,2&$A103,勘定入力!$K:$K))","v":0},{"$f":"IF($A103=\"\",0,SUMIF(勘定入力!$E:$E,3&$A103,勘定入力!$J:$J))","v":0},{"$f":"IF($A103=\"\",0,SUMIF(勘定入力!$E:$E,3&$A103,勘定入力!$K:$K))","v":0},{"$f":"IF($A103=\"\",0,SUMIF(勘定入力!$E:$E,4&$A103,勘定入力!$J:$J))","v":0},{"$f":"IF($A103=\"\",0,SUMIF(勘定入力!$E:$E,4&$A103,勘定入力!$K:$K))","v":0},{"$f":"IF($A103=\"\",0,SUMIF(勘定入力!$E:$E,5&$A103,勘定入力!$J:$J))","v":0},{"$f":"IF($A103=\"\",0,SUMIF(勘定入力!$E:$E,5&$A103,勘定入力!$K:$K))","v":0},{"$f":"IF($A103=\"\",0,SUMIF(勘定入力!$E:$E,6&$A103,勘定入力!$J:$J))","v":0},{"$f":"IF($A103=\"\",0,SUMIF(勘定入力!$E:$E,6&$A103,勘定入力!$K:$K))","v":0},{"$f":"IF($A103=\"\",0,SUMIF(勘定入力!$E:$E,7&$A103,勘定入力!$J:$J))","v":0},{"$f":"IF($A103=\"\",0,SUMIF(勘定入力!$E:$E,7&$A103,勘定入力!$K:$K))","v":0},{"$f":"IF($A103=\"\",0,SUMIF(勘定入力!$E:$E,8&$A103,勘定入力!$J:$J))","v":0},{"$f":"IF($A103=\"\",0,SUMIF(勘定入力!$E:$E,8&$A103,勘定入力!$K:$K))","v":0},{"$f":"IF($A103=\"\",0,SUMIF(勘定入力!$E:$E,9&$A103,勘定入力!$J:$J))","v":0},{"$f":"IF($A103=\"\",0,SUMIF(勘定入力!$E:$E,9&$A103,勘定入力!$K:$K))","v":0},{"$f":"IF($A103=\"\",0,SUMIF(勘定入力!$E:$E,10&$A103,勘定入力!$J:$J))","v":0},{"$f":"IF($A103=\"\",0,SUMIF(勘定入力!$E:$E,10&$A103,勘定入力!$K:$K))","v":0},{"$f":"IF($A103=\"\",0,SUMIF(勘定入力!$E:$E,11&$A103,勘定入力!$J:$J))","v":0},{"$f":"IF($A103=\"\",0,SUMIF(勘定入力!$E:$E,11&$A103,勘定入力!$K:$K))","v":0},{"$f":"IF($A103=\"\",0,SUMIF(勘定入力!$E:$E,12&$A103,勘定入力!$J:$J))","v":0},{"$f":"IF($A103=\"\",0,SUMIF(勘定入力!$E:$E,12&$A103,勘定入力!$K:$K))","v":0}]
[{"$f":"入力補助!J41","v":0},0,0,{"$f":"IF($A104=\"\",0,SUMIF(勘定入力!$E:$E,1&$A104,勘定入力!$J:$J))","v":0},{"$f":"IF($A104=\"\",0,SUMIF(勘定入力!$E:$E,1&$A104,勘定入力!$K:$K))","v":0},{"$f":"IF($A104=\"\",0,SUMIF(勘定入力!$E:$E,2&$A104,勘定入力!$J:$J))","v":0},{"$f":"IF($A104=\"\",0,SUMIF(勘定入力!$E:$E,2&$A104,勘定入力!$K:$K))","v":0},{"$f":"IF($A104=\"\",0,SUMIF(勘定入力!$E:$E,3&$A104,勘定入力!$J:$J))","v":0},{"$f":"IF($A104=\"\",0,SUMIF(勘定入力!$E:$E,3&$A104,勘定入力!$K:$K))","v":0},{"$f":"IF($A104=\"\",0,SUMIF(勘定入力!$E:$E,4&$A104,勘定入力!$J:$J))","v":0},{"$f":"IF($A104=\"\",0,SUMIF(勘定入力!$E:$E,4&$A104,勘定入力!$K:$K))","v":0},{"$f":"IF($A104=\"\",0,SUMIF(勘定入力!$E:$E,5&$A104,勘定入力!$J:$J))","v":0},{"$f":"IF($A104=\"\",0,SUMIF(勘定入力!$E:$E,5&$A104,勘定入力!$K:$K))","v":0},{"$f":"IF($A104=\"\",0,SUMIF(勘定入力!$E:$E,6&$A104,勘定入力!$J:$J))","v":0},{"$f":"IF($A104=\"\",0,SUMIF(勘定入力!$E:$E,6&$A104,勘定入力!$K:$K))","v":0},{"$f":"IF($A104=\"\",0,SUMIF(勘定入力!$E:$E,7&$A104,勘定入力!$J:$J))","v":0},{"$f":"IF($A104=\"\",0,SUMIF(勘定入力!$E:$E,7&$A104,勘定入力!$K:$K))","v":0},{"$f":"IF($A104=\"\",0,SUMIF(勘定入力!$E:$E,8&$A104,勘定入力!$J:$J))","v":0},{"$f":"IF($A104=\"\",0,SUMIF(勘定入力!$E:$E,8&$A104,勘定入力!$K:$K))","v":0},{"$f":"IF($A104=\"\",0,SUMIF(勘定入力!$E:$E,9&$A104,勘定入力!$J:$J))","v":0},{"$f":"IF($A104=\"\",0,SUMIF(勘定入力!$E:$E,9&$A104,勘定入力!$K:$K))","v":0},{"$f":"IF($A104=\"\",0,SUMIF(勘定入力!$E:$E,10&$A104,勘定入力!$J:$J))","v":0},{"$f":"IF($A104=\"\",0,SUMIF(勘定入力!$E:$E,10&$A104,勘定入力!$K:$K))","v":0},{"$f":"IF($A104=\"\",0,SUMIF(勘定入力!$E:$E,11&$A104,勘定入力!$J:$J))","v":0},{"$f":"IF($A104=\"\",0,SUMIF(勘定入力!$E:$E,11&$A104,勘定入力!$K:$K))","v":0},{"$f":"IF($A104=\"\",0,SUMIF(勘定入力!$E:$E,12&$A104,勘定入力!$J:$J))","v":0},{"$f":"IF($A104=\"\",0,SUMIF(勘定入力!$E:$E,12&$A104,勘定入力!$K:$K))","v":0}]
[{"$f":"入力補助!J42","v":0},0,0,{"$f":"IF($A105=\"\",0,SUMIF(勘定入力!$E:$E,1&$A105,勘定入力!$J:$J))","v":0},{"$f":"IF($A105=\"\",0,SUMIF(勘定入力!$E:$E,1&$A105,勘定入力!$K:$K))","v":0},{"$f":"IF($A105=\"\",0,SUMIF(勘定入力!$E:$E,2&$A105,勘定入力!$J:$J))","v":0},{"$f":"IF($A105=\"\",0,SUMIF(勘定入力!$E:$E,2&$A105,勘定入力!$K:$K))","v":0},{"$f":"IF($A105=\"\",0,SUMIF(勘定入力!$E:$E,3&$A105,勘定入力!$J:$J))","v":0},{"$f":"IF($A105=\"\",0,SUMIF(勘定入力!$E:$E,3&$A105,勘定入力!$K:$K))","v":0},{"$f":"IF($A105=\"\",0,SUMIF(勘定入力!$E:$E,4&$A105,勘定入力!$J:$J))","v":0},{"$f":"IF($A105=\"\",0,SUMIF(勘定入力!$E:$E,4&$A105,勘定入力!$K:$K))","v":0},{"$f":"IF($A105=\"\",0,SUMIF(勘定入力!$E:$E,5&$A105,勘定入力!$J:$J))","v":0},{"$f":"IF($A105=\"\",0,SUMIF(勘定入力!$E:$E,5&$A105,勘定入力!$K:$K))","v":0},{"$f":"IF($A105=\"\",0,SUMIF(勘定入力!$E:$E,6&$A105,勘定入力!$J:$J))","v":0},{"$f":"IF($A105=\"\",0,SUMIF(勘定入力!$E:$E,6&$A105,勘定入力!$K:$K))","v":0},{"$f":"IF($A105=\"\",0,SUMIF(勘定入力!$E:$E,7&$A105,勘定入力!$J:$J))","v":0},{"$f":"IF($A105=\"\",0,SUMIF(勘定入力!$E:$E,7&$A105,勘定入力!$K:$K))","v":0},{"$f":"IF($A105=\"\",0,SUMIF(勘定入力!$E:$E,8&$A105,勘定入力!$J:$J))","v":0},{"$f":"IF($A105=\"\",0,SUMIF(勘定入力!$E:$E,8&$A105,勘定入力!$K:$K))","v":0},{"$f":"IF($A105=\"\",0,SUMIF(勘定入力!$E:$E,9&$A105,勘定入力!$J:$J))","v":0},{"$f":"IF($A105=\"\",0,SUMIF(勘定入力!$E:$E,9&$A105,勘定入力!$K:$K))","v":0},{"$f":"IF($A105=\"\",0,SUMIF(勘定入力!$E:$E,10&$A105,勘定入力!$J:$J))","v":0},{"$f":"IF($A105=\"\",0,SUMIF(勘定入力!$E:$E,10&$A105,勘定入力!$K:$K))","v":0},{"$f":"IF($A105=\"\",0,SUMIF(勘定入力!$E:$E,11&$A105,勘定入力!$J:$J))","v":0},{"$f":"IF($A105=\"\",0,SUMIF(勘定入力!$E:$E,11&$A105,勘定入力!$K:$K))","v":0},{"$f":"IF($A105=\"\",0,SUMIF(勘定入力!$E:$E,12&$A105,勘定入力!$J:$J))","v":0},{"$f":"IF($A105=\"\",0,SUMIF(勘定入力!$E:$E,12&$A105,勘定入力!$K:$K))","v":0}]
[{"$f":"入力補助!J43","v":0},0,0,{"$f":"IF($A106=\"\",0,SUMIF(勘定入力!$E:$E,1&$A106,勘定入力!$J:$J))","v":0},{"$f":"IF($A106=\"\",0,SUMIF(勘定入力!$E:$E,1&$A106,勘定入力!$K:$K))","v":0},{"$f":"IF($A106=\"\",0,SUMIF(勘定入力!$E:$E,2&$A106,勘定入力!$J:$J))","v":0},{"$f":"IF($A106=\"\",0,SUMIF(勘定入力!$E:$E,2&$A106,勘定入力!$K:$K))","v":0},{"$f":"IF($A106=\"\",0,SUMIF(勘定入力!$E:$E,3&$A106,勘定入力!$J:$J))","v":0},{"$f":"IF($A106=\"\",0,SUMIF(勘定入力!$E:$E,3&$A106,勘定入力!$K:$K))","v":0},{"$f":"IF($A106=\"\",0,SUMIF(勘定入力!$E:$E,4&$A106,勘定入力!$J:$J))","v":0},{"$f":"IF($A106=\"\",0,SUMIF(勘定入力!$E:$E,4&$A106,勘定入力!$K:$K))","v":0},{"$f":"IF($A106=\"\",0,SUMIF(勘定入力!$E:$E,5&$A106,勘定入力!$J:$J))","v":0},{"$f":"IF($A106=\"\",0,SUMIF(勘定入力!$E:$E,5&$A106,勘定入力!$K:$K))","v":0},{"$f":"IF($A106=\"\",0,SUMIF(勘定入力!$E:$E,6&$A106,勘定入力!$J:$J))","v":0},{"$f":"IF($A106=\"\",0,SUMIF(勘定入力!$E:$E,6&$A106,勘定入力!$K:$K))","v":0},{"$f":"IF($A106=\"\",0,SUMIF(勘定入力!$E:$E,7&$A106,勘定入力!$J:$J))","v":0},{"$f":"IF($A106=\"\",0,SUMIF(勘定入力!$E:$E,7&$A106,勘定入力!$K:$K))","v":0},{"$f":"IF($A106=\"\",0,SUMIF(勘定入力!$E:$E,8&$A106,勘定入力!$J:$J))","v":0},{"$f":"IF($A106=\"\",0,SUMIF(勘定入力!$E:$E,8&$A106,勘定入力!$K:$K))","v":0},{"$f":"IF($A106=\"\",0,SUMIF(勘定入力!$E:$E,9&$A106,勘定入力!$J:$J))","v":0},{"$f":"IF($A106=\"\",0,SUMIF(勘定入力!$E:$E,9&$A106,勘定入力!$K:$K))","v":0},{"$f":"IF($A106=\"\",0,SUMIF(勘定入力!$E:$E,10&$A106,勘定入力!$J:$J))","v":0},{"$f":"IF($A106=\"\",0,SUMIF(勘定入力!$E:$E,10&$A106,勘定入力!$K:$K))","v":0},{"$f":"IF($A106=\"\",0,SUMIF(勘定入力!$E:$E,11&$A106,勘定入力!$J:$J))","v":0},{"$f":"IF($A106=\"\",0,SUMIF(勘定入力!$E:$E,11&$A106,勘定入力!$K:$K))","v":0},{"$f":"IF($A106=\"\",0,SUMIF(勘定入力!$E:$E,12&$A106,勘定入力!$J:$J))","v":0},{"$f":"IF($A106=\"\",0,SUMIF(勘定入力!$E:$E,12&$A106,勘定入力!$K:$K))","v":0}]
[{"$f":"入力補助!J44","v":0},0,0,{"$f":"IF($A107=\"\",0,SUMIF(勘定入力!$E:$E,1&$A107,勘定入力!$J:$J))","v":0},{"$f":"IF($A107=\"\",0,SUMIF(勘定入力!$E:$E,1&$A107,勘定入力!$K:$K))","v":0},{"$f":"IF($A107=\"\",0,SUMIF(勘定入力!$E:$E,2&$A107,勘定入力!$J:$J))","v":0},{"$f":"IF($A107=\"\",0,SUMIF(勘定入力!$E:$E,2&$A107,勘定入力!$K:$K))","v":0},{"$f":"IF($A107=\"\",0,SUMIF(勘定入力!$E:$E,3&$A107,勘定入力!$J:$J))","v":0},{"$f":"IF($A107=\"\",0,SUMIF(勘定入力!$E:$E,3&$A107,勘定入力!$K:$K))","v":0},{"$f":"IF($A107=\"\",0,SUMIF(勘定入力!$E:$E,4&$A107,勘定入力!$J:$J))","v":0},{"$f":"IF($A107=\"\",0,SUMIF(勘定入力!$E:$E,4&$A107,勘定入力!$K:$K))","v":0},{"$f":"IF($A107=\"\",0,SUMIF(勘定入力!$E:$E,5&$A107,勘定入力!$J:$J))","v":0},{"$f":"IF($A107=\"\",0,SUMIF(勘定入力!$E:$E,5&$A107,勘定入力!$K:$K))","v":0},{"$f":"IF($A107=\"\",0,SUMIF(勘定入力!$E:$E,6&$A107,勘定入力!$J:$J))","v":0},{"$f":"IF($A107=\"\",0,SUMIF(勘定入力!$E:$E,6&$A107,勘定入力!$K:$K))","v":0},{"$f":"IF($A107=\"\",0,SUMIF(勘定入力!$E:$E,7&$A107,勘定入力!$J:$J))","v":0},{"$f":"IF($A107=\"\",0,SUMIF(勘定入力!$E:$E,7&$A107,勘定入力!$K:$K))","v":0},{"$f":"IF($A107=\"\",0,SUMIF(勘定入力!$E:$E,8&$A107,勘定入力!$J:$J))","v":0},{"$f":"IF($A107=\"\",0,SUMIF(勘定入力!$E:$E,8&$A107,勘定入力!$K:$K))","v":0},{"$f":"IF($A107=\"\",0,SUMIF(勘定入力!$E:$E,9&$A107,勘定入力!$J:$J))","v":0},{"$f":"IF($A107=\"\",0,SUMIF(勘定入力!$E:$E,9&$A107,勘定入力!$K:$K))","v":0},{"$f":"IF($A107=\"\",0,SUMIF(勘定入力!$E:$E,10&$A107,勘定入力!$J:$J))","v":0},{"$f":"IF($A107=\"\",0,SUMIF(勘定入力!$E:$E,10&$A107,勘定入力!$K:$K))","v":0},{"$f":"IF($A107=\"\",0,SUMIF(勘定入力!$E:$E,11&$A107,勘定入力!$J:$J))","v":0},{"$f":"IF($A107=\"\",0,SUMIF(勘定入力!$E:$E,11&$A107,勘定入力!$K:$K))","v":0},{"$f":"IF($A107=\"\",0,SUMIF(勘定入力!$E:$E,12&$A107,勘定入力!$J:$J))","v":0},{"$f":"IF($A107=\"\",0,SUMIF(勘定入力!$E:$E,12&$A107,勘定入力!$K:$K))","v":0}]
[{"$f":"入力補助!J45","v":0},0,0,{"$f":"IF($A108=\"\",0,SUMIF(勘定入力!$E:$E,1&$A108,勘定入力!$J:$J))","v":0},{"$f":"IF($A108=\"\",0,SUMIF(勘定入力!$E:$E,1&$A108,勘定入力!$K:$K))","v":0},{"$f":"IF($A108=\"\",0,SUMIF(勘定入力!$E:$E,2&$A108,勘定入力!$J:$J))","v":0},{"$f":"IF($A108=\"\",0,SUMIF(勘定入力!$E:$E,2&$A108,勘定入力!$K:$K))","v":0},{"$f":"IF($A108=\"\",0,SUMIF(勘定入力!$E:$E,3&$A108,勘定入力!$J:$J))","v":0},{"$f":"IF($A108=\"\",0,SUMIF(勘定入力!$E:$E,3&$A108,勘定入力!$K:$K))","v":0},{"$f":"IF($A108=\"\",0,SUMIF(勘定入力!$E:$E,4&$A108,勘定入力!$J:$J))","v":0},{"$f":"IF($A108=\"\",0,SUMIF(勘定入力!$E:$E,4&$A108,勘定入力!$K:$K))","v":0},{"$f":"IF($A108=\"\",0,SUMIF(勘定入力!$E:$E,5&$A108,勘定入力!$J:$J))","v":0},{"$f":"IF($A108=\"\",0,SUMIF(勘定入力!$E:$E,5&$A108,勘定入力!$K:$K))","v":0},{"$f":"IF($A108=\"\",0,SUMIF(勘定入力!$E:$E,6&$A108,勘定入力!$J:$J))","v":0},{"$f":"IF($A108=\"\",0,SUMIF(勘定入力!$E:$E,6&$A108,勘定入力!$K:$K))","v":0},{"$f":"IF($A108=\"\",0,SUMIF(勘定入力!$E:$E,7&$A108,勘定入力!$J:$J))","v":0},{"$f":"IF($A108=\"\",0,SUMIF(勘定入力!$E:$E,7&$A108,勘定入力!$K:$K))","v":0},{"$f":"IF($A108=\"\",0,SUMIF(勘定入力!$E:$E,8&$A108,勘定入力!$J:$J))","v":0},{"$f":"IF($A108=\"\",0,SUMIF(勘定入力!$E:$E,8&$A108,勘定入力!$K:$K))","v":0},{"$f":"IF($A108=\"\",0,SUMIF(勘定入力!$E:$E,9&$A108,勘定入力!$J:$J))","v":0},{"$f":"IF($A108=\"\",0,SUMIF(勘定入力!$E:$E,9&$A108,勘定入力!$K:$K))","v":0},{"$f":"IF($A108=\"\",0,SUMIF(勘定入力!$E:$E,10&$A108,勘定入力!$J:$J))","v":0},{"$f":"IF($A108=\"\",0,SUMIF(勘定入力!$E:$E,10&$A108,勘定入力!$K:$K))","v":0},{"$f":"IF($A108=\"\",0,SUMIF(勘定入力!$E:$E,11&$A108,勘定入力!$J:$J))","v":0},{"$f":"IF($A108=\"\",0,SUMIF(勘定入力!$E:$E,11&$A108,勘定入力!$K:$K))","v":0},{"$f":"IF($A108=\"\",0,SUMIF(勘定入力!$E:$E,12&$A108,勘定入力!$J:$J))","v":0},{"$f":"IF($A108=\"\",0,SUMIF(勘定入力!$E:$E,12&$A108,勘定入力!$K:$K))","v":0}]
[{"$f":"入力補助!J46","v":0},0,0,{"$f":"IF($A109=\"\",0,SUMIF(勘定入力!$E:$E,1&$A109,勘定入力!$J:$J))","v":0},{"$f":"IF($A109=\"\",0,SUMIF(勘定入力!$E:$E,1&$A109,勘定入力!$K:$K))","v":0},{"$f":"IF($A109=\"\",0,SUMIF(勘定入力!$E:$E,2&$A109,勘定入力!$J:$J))","v":0},{"$f":"IF($A109=\"\",0,SUMIF(勘定入力!$E:$E,2&$A109,勘定入力!$K:$K))","v":0},{"$f":"IF($A109=\"\",0,SUMIF(勘定入力!$E:$E,3&$A109,勘定入力!$J:$J))","v":0},{"$f":"IF($A109=\"\",0,SUMIF(勘定入力!$E:$E,3&$A109,勘定入力!$K:$K))","v":0},{"$f":"IF($A109=\"\",0,SUMIF(勘定入力!$E:$E,4&$A109,勘定入力!$J:$J))","v":0},{"$f":"IF($A109=\"\",0,SUMIF(勘定入力!$E:$E,4&$A109,勘定入力!$K:$K))","v":0},{"$f":"IF($A109=\"\",0,SUMIF(勘定入力!$E:$E,5&$A109,勘定入力!$J:$J))","v":0},{"$f":"IF($A109=\"\",0,SUMIF(勘定入力!$E:$E,5&$A109,勘定入力!$K:$K))","v":0},{"$f":"IF($A109=\"\",0,SUMIF(勘定入力!$E:$E,6&$A109,勘定入力!$J:$J))","v":0},{"$f":"IF($A109=\"\",0,SUMIF(勘定入力!$E:$E,6&$A109,勘定入力!$K:$K))","v":0},{"$f":"IF($A109=\"\",0,SUMIF(勘定入力!$E:$E,7&$A109,勘定入力!$J:$J))","v":0},{"$f":"IF($A109=\"\",0,SUMIF(勘定入力!$E:$E,7&$A109,勘定入力!$K:$K))","v":0},{"$f":"IF($A109=\"\",0,SUMIF(勘定入力!$E:$E,8&$A109,勘定入力!$J:$J))","v":0},{"$f":"IF($A109=\"\",0,SUMIF(勘定入力!$E:$E,8&$A109,勘定入力!$K:$K))","v":0},{"$f":"IF($A109=\"\",0,SUMIF(勘定入力!$E:$E,9&$A109,勘定入力!$J:$J))","v":0},{"$f":"IF($A109=\"\",0,SUMIF(勘定入力!$E:$E,9&$A109,勘定入力!$K:$K))","v":0},{"$f":"IF($A109=\"\",0,SUMIF(勘定入力!$E:$E,10&$A109,勘定入力!$J:$J))","v":0},{"$f":"IF($A109=\"\",0,SUMIF(勘定入力!$E:$E,10&$A109,勘定入力!$K:$K))","v":0},{"$f":"IF($A109=\"\",0,SUMIF(勘定入力!$E:$E,11&$A109,勘定入力!$J:$J))","v":0},{"$f":"IF($A109=\"\",0,SUMIF(勘定入力!$E:$E,11&$A109,勘定入力!$K:$K))","v":0},{"$f":"IF($A109=\"\",0,SUMIF(勘定入力!$E:$E,12&$A109,勘定入力!$J:$J))","v":0},{"$f":"IF($A109=\"\",0,SUMIF(勘定入力!$E:$E,12&$A109,勘定入力!$K:$K))","v":0}]
[{"$f":"入力補助!J47","v":0},0,0,{"$f":"IF($A110=\"\",0,SUMIF(勘定入力!$E:$E,1&$A110,勘定入力!$J:$J))","v":0},{"$f":"IF($A110=\"\",0,SUMIF(勘定入力!$E:$E,1&$A110,勘定入力!$K:$K))","v":0},{"$f":"IF($A110=\"\",0,SUMIF(勘定入力!$E:$E,2&$A110,勘定入力!$J:$J))","v":0},{"$f":"IF($A110=\"\",0,SUMIF(勘定入力!$E:$E,2&$A110,勘定入力!$K:$K))","v":0},{"$f":"IF($A110=\"\",0,SUMIF(勘定入力!$E:$E,3&$A110,勘定入力!$J:$J))","v":0},{"$f":"IF($A110=\"\",0,SUMIF(勘定入力!$E:$E,3&$A110,勘定入力!$K:$K))","v":0},{"$f":"IF($A110=\"\",0,SUMIF(勘定入力!$E:$E,4&$A110,勘定入力!$J:$J))","v":0},{"$f":"IF($A110=\"\",0,SUMIF(勘定入力!$E:$E,4&$A110,勘定入力!$K:$K))","v":0},{"$f":"IF($A110=\"\",0,SUMIF(勘定入力!$E:$E,5&$A110,勘定入力!$J:$J))","v":0},{"$f":"IF($A110=\"\",0,SUMIF(勘定入力!$E:$E,5&$A110,勘定入力!$K:$K))","v":0},{"$f":"IF($A110=\"\",0,SUMIF(勘定入力!$E:$E,6&$A110,勘定入力!$J:$J))","v":0},{"$f":"IF($A110=\"\",0,SUMIF(勘定入力!$E:$E,6&$A110,勘定入力!$K:$K))","v":0},{"$f":"IF($A110=\"\",0,SUMIF(勘定入力!$E:$E,7&$A110,勘定入力!$J:$J))","v":0},{"$f":"IF($A110=\"\",0,SUMIF(勘定入力!$E:$E,7&$A110,勘定入力!$K:$K))","v":0},{"$f":"IF($A110=\"\",0,SUMIF(勘定入力!$E:$E,8&$A110,勘定入力!$J:$J))","v":0},{"$f":"IF($A110=\"\",0,SUMIF(勘定入力!$E:$E,8&$A110,勘定入力!$K:$K))","v":0},{"$f":"IF($A110=\"\",0,SUMIF(勘定入力!$E:$E,9&$A110,勘定入力!$J:$J))","v":0},{"$f":"IF($A110=\"\",0,SUMIF(勘定入力!$E:$E,9&$A110,勘定入力!$K:$K))","v":0},{"$f":"IF($A110=\"\",0,SUMIF(勘定入力!$E:$E,10&$A110,勘定入力!$J:$J))","v":0},{"$f":"IF($A110=\"\",0,SUMIF(勘定入力!$E:$E,10&$A110,勘定入力!$K:$K))","v":0},{"$f":"IF($A110=\"\",0,SUMIF(勘定入力!$E:$E,11&$A110,勘定入力!$J:$J))","v":0},{"$f":"IF($A110=\"\",0,SUMIF(勘定入力!$E:$E,11&$A110,勘定入力!$K:$K))","v":0},{"$f":"IF($A110=\"\",0,SUMIF(勘定入力!$E:$E,12&$A110,勘定入力!$J:$J))","v":0},{"$f":"IF($A110=\"\",0,SUMIF(勘定入力!$E:$E,12&$A110,勘定入力!$K:$K))","v":0}]
[{"$f":"入力補助!J48","v":0},0,0,{"$f":"IF($A111=\"\",0,SUMIF(勘定入力!$E:$E,1&$A111,勘定入力!$J:$J))","v":0},{"$f":"IF($A111=\"\",0,SUMIF(勘定入力!$E:$E,1&$A111,勘定入力!$K:$K))","v":0},{"$f":"IF($A111=\"\",0,SUMIF(勘定入力!$E:$E,2&$A111,勘定入力!$J:$J))","v":0},{"$f":"IF($A111=\"\",0,SUMIF(勘定入力!$E:$E,2&$A111,勘定入力!$K:$K))","v":0},{"$f":"IF($A111=\"\",0,SUMIF(勘定入力!$E:$E,3&$A111,勘定入力!$J:$J))","v":0},{"$f":"IF($A111=\"\",0,SUMIF(勘定入力!$E:$E,3&$A111,勘定入力!$K:$K))","v":0},{"$f":"IF($A111=\"\",0,SUMIF(勘定入力!$E:$E,4&$A111,勘定入力!$J:$J))","v":0},{"$f":"IF($A111=\"\",0,SUMIF(勘定入力!$E:$E,4&$A111,勘定入力!$K:$K))","v":0},{"$f":"IF($A111=\"\",0,SUMIF(勘定入力!$E:$E,5&$A111,勘定入力!$J:$J))","v":0},{"$f":"IF($A111=\"\",0,SUMIF(勘定入力!$E:$E,5&$A111,勘定入力!$K:$K))","v":0},{"$f":"IF($A111=\"\",0,SUMIF(勘定入力!$E:$E,6&$A111,勘定入力!$J:$J))","v":0},{"$f":"IF($A111=\"\",0,SUMIF(勘定入力!$E:$E,6&$A111,勘定入力!$K:$K))","v":0},{"$f":"IF($A111=\"\",0,SUMIF(勘定入力!$E:$E,7&$A111,勘定入力!$J:$J))","v":0},{"$f":"IF($A111=\"\",0,SUMIF(勘定入力!$E:$E,7&$A111,勘定入力!$K:$K))","v":0},{"$f":"IF($A111=\"\",0,SUMIF(勘定入力!$E:$E,8&$A111,勘定入力!$J:$J))","v":0},{"$f":"IF($A111=\"\",0,SUMIF(勘定入力!$E:$E,8&$A111,勘定入力!$K:$K))","v":0},{"$f":"IF($A111=\"\",0,SUMIF(勘定入力!$E:$E,9&$A111,勘定入力!$J:$J))","v":0},{"$f":"IF($A111=\"\",0,SUMIF(勘定入力!$E:$E,9&$A111,勘定入力!$K:$K))","v":0},{"$f":"IF($A111=\"\",0,SUMIF(勘定入力!$E:$E,10&$A111,勘定入力!$J:$J))","v":0},{"$f":"IF($A111=\"\",0,SUMIF(勘定入力!$E:$E,10&$A111,勘定入力!$K:$K))","v":0},{"$f":"IF($A111=\"\",0,SUMIF(勘定入力!$E:$E,11&$A111,勘定入力!$J:$J))","v":0},{"$f":"IF($A111=\"\",0,SUMIF(勘定入力!$E:$E,11&$A111,勘定入力!$K:$K))","v":0},{"$f":"IF($A111=\"\",0,SUMIF(勘定入力!$E:$E,12&$A111,勘定入力!$J:$J))","v":0},{"$f":"IF($A111=\"\",0,SUMIF(勘定入力!$E:$E,12&$A111,勘定入力!$K:$K))","v":0}]
[{"$f":"入力補助!J49","v":0},0,0,{"$f":"IF($A112=\"\",0,SUMIF(勘定入力!$E:$E,1&$A112,勘定入力!$J:$J))","v":0},{"$f":"IF($A112=\"\",0,SUMIF(勘定入力!$E:$E,1&$A112,勘定入力!$K:$K))","v":0},{"$f":"IF($A112=\"\",0,SUMIF(勘定入力!$E:$E,2&$A112,勘定入力!$J:$J))","v":0},{"$f":"IF($A112=\"\",0,SUMIF(勘定入力!$E:$E,2&$A112,勘定入力!$K:$K))","v":0},{"$f":"IF($A112=\"\",0,SUMIF(勘定入力!$E:$E,3&$A112,勘定入力!$J:$J))","v":0},{"$f":"IF($A112=\"\",0,SUMIF(勘定入力!$E:$E,3&$A112,勘定入力!$K:$K))","v":0},{"$f":"IF($A112=\"\",0,SUMIF(勘定入力!$E:$E,4&$A112,勘定入力!$J:$J))","v":0},{"$f":"IF($A112=\"\",0,SUMIF(勘定入力!$E:$E,4&$A112,勘定入力!$K:$K))","v":0},{"$f":"IF($A112=\"\",0,SUMIF(勘定入力!$E:$E,5&$A112,勘定入力!$J:$J))","v":0},{"$f":"IF($A112=\"\",0,SUMIF(勘定入力!$E:$E,5&$A112,勘定入力!$K:$K))","v":0},{"$f":"IF($A112=\"\",0,SUMIF(勘定入力!$E:$E,6&$A112,勘定入力!$J:$J))","v":0},{"$f":"IF($A112=\"\",0,SUMIF(勘定入力!$E:$E,6&$A112,勘定入力!$K:$K))","v":0},{"$f":"IF($A112=\"\",0,SUMIF(勘定入力!$E:$E,7&$A112,勘定入力!$J:$J))","v":0},{"$f":"IF($A112=\"\",0,SUMIF(勘定入力!$E:$E,7&$A112,勘定入力!$K:$K))","v":0},{"$f":"IF($A112=\"\",0,SUMIF(勘定入力!$E:$E,8&$A112,勘定入力!$J:$J))","v":0},{"$f":"IF($A112=\"\",0,SUMIF(勘定入力!$E:$E,8&$A112,勘定入力!$K:$K))","v":0},{"$f":"IF($A112=\"\",0,SUMIF(勘定入力!$E:$E,9&$A112,勘定入力!$J:$J))","v":0},{"$f":"IF($A112=\"\",0,SUMIF(勘定入力!$E:$E,9&$A112,勘定入力!$K:$K))","v":0},{"$f":"IF($A112=\"\",0,SUMIF(勘定入力!$E:$E,10&$A112,勘定入力!$J:$J))","v":0},{"$f":"IF($A112=\"\",0,SUMIF(勘定入力!$E:$E,10&$A112,勘定入力!$K:$K))","v":0},{"$f":"IF($A112=\"\",0,SUMIF(勘定入力!$E:$E,11&$A112,勘定入力!$J:$J))","v":0},{"$f":"IF($A112=\"\",0,SUMIF(勘定入力!$E:$E,11&$A112,勘定入力!$K:$K))","v":0},{"$f":"IF($A112=\"\",0,SUMIF(勘定入力!$E:$E,12&$A112,勘定入力!$J:$J))","v":0},{"$f":"IF($A112=\"\",0,SUMIF(勘定入力!$E:$E,12&$A112,勘定入力!$K:$K))","v":0}]
[{"$f":"入力補助!J50","v":0},0,0,{"$f":"IF($A113=\"\",0,SUMIF(勘定入力!$E:$E,1&$A113,勘定入力!$J:$J))","v":0},{"$f":"IF($A113=\"\",0,SUMIF(勘定入力!$E:$E,1&$A113,勘定入力!$K:$K))","v":0},{"$f":"IF($A113=\"\",0,SUMIF(勘定入力!$E:$E,2&$A113,勘定入力!$J:$J))","v":0},{"$f":"IF($A113=\"\",0,SUMIF(勘定入力!$E:$E,2&$A113,勘定入力!$K:$K))","v":0},{"$f":"IF($A113=\"\",0,SUMIF(勘定入力!$E:$E,3&$A113,勘定入力!$J:$J))","v":0},{"$f":"IF($A113=\"\",0,SUMIF(勘定入力!$E:$E,3&$A113,勘定入力!$K:$K))","v":0},{"$f":"IF($A113=\"\",0,SUMIF(勘定入力!$E:$E,4&$A113,勘定入力!$J:$J))","v":0},{"$f":"IF($A113=\"\",0,SUMIF(勘定入力!$E:$E,4&$A113,勘定入力!$K:$K))","v":0},{"$f":"IF($A113=\"\",0,SUMIF(勘定入力!$E:$E,5&$A113,勘定入力!$J:$J))","v":0},{"$f":"IF($A113=\"\",0,SUMIF(勘定入力!$E:$E,5&$A113,勘定入力!$K:$K))","v":0},{"$f":"IF($A113=\"\",0,SUMIF(勘定入力!$E:$E,6&$A113,勘定入力!$J:$J))","v":0},{"$f":"IF($A113=\"\",0,SUMIF(勘定入力!$E:$E,6&$A113,勘定入力!$K:$K))","v":0},{"$f":"IF($A113=\"\",0,SUMIF(勘定入力!$E:$E,7&$A113,勘定入力!$J:$J))","v":0},{"$f":"IF($A113=\"\",0,SUMIF(勘定入力!$E:$E,7&$A113,勘定入力!$K:$K))","v":0},{"$f":"IF($A113=\"\",0,SUMIF(勘定入力!$E:$E,8&$A113,勘定入力!$J:$J))","v":0},{"$f":"IF($A113=\"\",0,SUMIF(勘定入力!$E:$E,8&$A113,勘定入力!$K:$K))","v":0},{"$f":"IF($A113=\"\",0,SUMIF(勘定入力!$E:$E,9&$A113,勘定入力!$J:$J))","v":0},{"$f":"IF($A113=\"\",0,SUMIF(勘定入力!$E:$E,9&$A113,勘定入力!$K:$K))","v":0},{"$f":"IF($A113=\"\",0,SUMIF(勘定入力!$E:$E,10&$A113,勘定入力!$J:$J))","v":0},{"$f":"IF($A113=\"\",0,SUMIF(勘定入力!$E:$E,10&$A113,勘定入力!$K:$K))","v":0},{"$f":"IF($A113=\"\",0,SUMIF(勘定入力!$E:$E,11&$A113,勘定入力!$J:$J))","v":0},{"$f":"IF($A113=\"\",0,SUMIF(勘定入力!$E:$E,11&$A113,勘定入力!$K:$K))","v":0},{"$f":"IF($A113=\"\",0,SUMIF(勘定入力!$E:$E,12&$A113,勘定入力!$J:$J))","v":0},{"$f":"IF($A113=\"\",0,SUMIF(勘定入力!$E:$E,12&$A113,勘定入力!$K:$K))","v":0}]
[{"$f":"入力補助!J51","v":0},0,0,{"$f":"IF($A114=\"\",0,SUMIF(勘定入力!$E:$E,1&$A114,勘定入力!$J:$J))","v":0},{"$f":"IF($A114=\"\",0,SUMIF(勘定入力!$E:$E,1&$A114,勘定入力!$K:$K))","v":0},{"$f":"IF($A114=\"\",0,SUMIF(勘定入力!$E:$E,2&$A114,勘定入力!$J:$J))","v":0},{"$f":"IF($A114=\"\",0,SUMIF(勘定入力!$E:$E,2&$A114,勘定入力!$K:$K))","v":0},{"$f":"IF($A114=\"\",0,SUMIF(勘定入力!$E:$E,3&$A114,勘定入力!$J:$J))","v":0},{"$f":"IF($A114=\"\",0,SUMIF(勘定入力!$E:$E,3&$A114,勘定入力!$K:$K))","v":0},{"$f":"IF($A114=\"\",0,SUMIF(勘定入力!$E:$E,4&$A114,勘定入力!$J:$J))","v":0},{"$f":"IF($A114=\"\",0,SUMIF(勘定入力!$E:$E,4&$A114,勘定入力!$K:$K))","v":0},{"$f":"IF($A114=\"\",0,SUMIF(勘定入力!$E:$E,5&$A114,勘定入力!$J:$J))","v":0},{"$f":"IF($A114=\"\",0,SUMIF(勘定入力!$E:$E,5&$A114,勘定入力!$K:$K))","v":0},{"$f":"IF($A114=\"\",0,SUMIF(勘定入力!$E:$E,6&$A114,勘定入力!$J:$J))","v":0},{"$f":"IF($A114=\"\",0,SUMIF(勘定入力!$E:$E,6&$A114,勘定入力!$K:$K))","v":0},{"$f":"IF($A114=\"\",0,SUMIF(勘定入力!$E:$E,7&$A114,勘定入力!$J:$J))","v":0},{"$f":"IF($A114=\"\",0,SUMIF(勘定入力!$E:$E,7&$A114,勘定入力!$K:$K))","v":0},{"$f":"IF($A114=\"\",0,SUMIF(勘定入力!$E:$E,8&$A114,勘定入力!$J:$J))","v":0},{"$f":"IF($A114=\"\",0,SUMIF(勘定入力!$E:$E,8&$A114,勘定入力!$K:$K))","v":0},{"$f":"IF($A114=\"\",0,SUMIF(勘定入力!$E:$E,9&$A114,勘定入力!$J:$J))","v":0},{"$f":"IF($A114=\"\",0,SUMIF(勘定入力!$E:$E,9&$A114,勘定入力!$K:$K))","v":0},{"$f":"IF($A114=\"\",0,SUMIF(勘定入力!$E:$E,10&$A114,勘定入力!$J:$J))","v":0},{"$f":"IF($A114=\"\",0,SUMIF(勘定入力!$E:$E,10&$A114,勘定入力!$K:$K))","v":0},{"$f":"IF($A114=\"\",0,SUMIF(勘定入力!$E:$E,11&$A114,勘定入力!$J:$J))","v":0},{"$f":"IF($A114=\"\",0,SUMIF(勘定入力!$E:$E,11&$A114,勘定入力!$K:$K))","v":0},{"$f":"IF($A114=\"\",0,SUMIF(勘定入力!$E:$E,12&$A114,勘定入力!$J:$J))","v":0},{"$f":"IF($A114=\"\",0,SUMIF(勘定入力!$E:$E,12&$A114,勘定入力!$K:$K))","v":0}]
[{"$f":"入力補助!J52","v":0},0,0,{"$f":"IF($A115=\"\",0,SUMIF(勘定入力!$E:$E,1&$A115,勘定入力!$J:$J))","v":0},{"$f":"IF($A115=\"\",0,SUMIF(勘定入力!$E:$E,1&$A115,勘定入力!$K:$K))","v":0},{"$f":"IF($A115=\"\",0,SUMIF(勘定入力!$E:$E,2&$A115,勘定入力!$J:$J))","v":0},{"$f":"IF($A115=\"\",0,SUMIF(勘定入力!$E:$E,2&$A115,勘定入力!$K:$K))","v":0},{"$f":"IF($A115=\"\",0,SUMIF(勘定入力!$E:$E,3&$A115,勘定入力!$J:$J))","v":0},{"$f":"IF($A115=\"\",0,SUMIF(勘定入力!$E:$E,3&$A115,勘定入力!$K:$K))","v":0},{"$f":"IF($A115=\"\",0,SUMIF(勘定入力!$E:$E,4&$A115,勘定入力!$J:$J))","v":0},{"$f":"IF($A115=\"\",0,SUMIF(勘定入力!$E:$E,4&$A115,勘定入力!$K:$K))","v":0},{"$f":"IF($A115=\"\",0,SUMIF(勘定入力!$E:$E,5&$A115,勘定入力!$J:$J))","v":0},{"$f":"IF($A115=\"\",0,SUMIF(勘定入力!$E:$E,5&$A115,勘定入力!$K:$K))","v":0},{"$f":"IF($A115=\"\",0,SUMIF(勘定入力!$E:$E,6&$A115,勘定入力!$J:$J))","v":0},{"$f":"IF($A115=\"\",0,SUMIF(勘定入力!$E:$E,6&$A115,勘定入力!$K:$K))","v":0},{"$f":"IF($A115=\"\",0,SUMIF(勘定入力!$E:$E,7&$A115,勘定入力!$J:$J))","v":0},{"$f":"IF($A115=\"\",0,SUMIF(勘定入力!$E:$E,7&$A115,勘定入力!$K:$K))","v":0},{"$f":"IF($A115=\"\",0,SUMIF(勘定入力!$E:$E,8&$A115,勘定入力!$J:$J))","v":0},{"$f":"IF($A115=\"\",0,SUMIF(勘定入力!$E:$E,8&$A115,勘定入力!$K:$K))","v":0},{"$f":"IF($A115=\"\",0,SUMIF(勘定入力!$E:$E,9&$A115,勘定入力!$J:$J))","v":0},{"$f":"IF($A115=\"\",0,SUMIF(勘定入力!$E:$E,9&$A115,勘定入力!$K:$K))","v":0},{"$f":"IF($A115=\"\",0,SUMIF(勘定入力!$E:$E,10&$A115,勘定入力!$J:$J))","v":0},{"$f":"IF($A115=\"\",0,SUMIF(勘定入力!$E:$E,10&$A115,勘定入力!$K:$K))","v":0},{"$f":"IF($A115=\"\",0,SUMIF(勘定入力!$E:$E,11&$A115,勘定入力!$J:$J))","v":0},{"$f":"IF($A115=\"\",0,SUMIF(勘定入力!$E:$E,11&$A115,勘定入力!$K:$K))","v":0},{"$f":"IF($A115=\"\",0,SUMIF(勘定入力!$E:$E,12&$A115,勘定入力!$J:$J))","v":0},{"$f":"IF($A115=\"\",0,SUMIF(勘定入力!$E:$E,12&$A115,勘定入力!$K:$K))","v":0}]
[{"$f":"入力補助!J53","v":0},0,0,{"$f":"IF($A116=\"\",0,SUMIF(勘定入力!$E:$E,1&$A116,勘定入力!$J:$J))","v":0},{"$f":"IF($A116=\"\",0,SUMIF(勘定入力!$E:$E,1&$A116,勘定入力!$K:$K))","v":0},{"$f":"IF($A116=\"\",0,SUMIF(勘定入力!$E:$E,2&$A116,勘定入力!$J:$J))","v":0},{"$f":"IF($A116=\"\",0,SUMIF(勘定入力!$E:$E,2&$A116,勘定入力!$K:$K))","v":0},{"$f":"IF($A116=\"\",0,SUMIF(勘定入力!$E:$E,3&$A116,勘定入力!$J:$J))","v":0},{"$f":"IF($A116=\"\",0,SUMIF(勘定入力!$E:$E,3&$A116,勘定入力!$K:$K))","v":0},{"$f":"IF($A116=\"\",0,SUMIF(勘定入力!$E:$E,4&$A116,勘定入力!$J:$J))","v":0},{"$f":"IF($A116=\"\",0,SUMIF(勘定入力!$E:$E,4&$A116,勘定入力!$K:$K))","v":0},{"$f":"IF($A116=\"\",0,SUMIF(勘定入力!$E:$E,5&$A116,勘定入力!$J:$J))","v":0},{"$f":"IF($A116=\"\",0,SUMIF(勘定入力!$E:$E,5&$A116,勘定入力!$K:$K))","v":0},{"$f":"IF($A116=\"\",0,SUMIF(勘定入力!$E:$E,6&$A116,勘定入力!$J:$J))","v":0},{"$f":"IF($A116=\"\",0,SUMIF(勘定入力!$E:$E,6&$A116,勘定入力!$K:$K))","v":0},{"$f":"IF($A116=\"\",0,SUMIF(勘定入力!$E:$E,7&$A116,勘定入力!$J:$J))","v":0},{"$f":"IF($A116=\"\",0,SUMIF(勘定入力!$E:$E,7&$A116,勘定入力!$K:$K))","v":0},{"$f":"IF($A116=\"\",0,SUMIF(勘定入力!$E:$E,8&$A116,勘定入力!$J:$J))","v":0},{"$f":"IF($A116=\"\",0,SUMIF(勘定入力!$E:$E,8&$A116,勘定入力!$K:$K))","v":0},{"$f":"IF($A116=\"\",0,SUMIF(勘定入力!$E:$E,9&$A116,勘定入力!$J:$J))","v":0},{"$f":"IF($A116=\"\",0,SUMIF(勘定入力!$E:$E,9&$A116,勘定入力!$K:$K))","v":0},{"$f":"IF($A116=\"\",0,SUMIF(勘定入力!$E:$E,10&$A116,勘定入力!$J:$J))","v":0},{"$f":"IF($A116=\"\",0,SUMIF(勘定入力!$E:$E,10&$A116,勘定入力!$K:$K))","v":0},{"$f":"IF($A116=\"\",0,SUMIF(勘定入力!$E:$E,11&$A116,勘定入力!$J:$J))","v":0},{"$f":"IF($A116=\"\",0,SUMIF(勘定入力!$E:$E,11&$A116,勘定入力!$K:$K))","v":0},{"$f":"IF($A116=\"\",0,SUMIF(勘定入力!$E:$E,12&$A116,勘定入力!$J:$J))","v":0},{"$f":"IF($A116=\"\",0,SUMIF(勘定入力!$E:$E,12&$A116,勘定入力!$K:$K))","v":0}]
[{"$f":"入力補助!J54","v":0},0,0,{"$f":"IF($A117=\"\",0,SUMIF(勘定入力!$E:$E,1&$A117,勘定入力!$J:$J))","v":0},{"$f":"IF($A117=\"\",0,SUMIF(勘定入力!$E:$E,1&$A117,勘定入力!$K:$K))","v":0},{"$f":"IF($A117=\"\",0,SUMIF(勘定入力!$E:$E,2&$A117,勘定入力!$J:$J))","v":0},{"$f":"IF($A117=\"\",0,SUMIF(勘定入力!$E:$E,2&$A117,勘定入力!$K:$K))","v":0},{"$f":"IF($A117=\"\",0,SUMIF(勘定入力!$E:$E,3&$A117,勘定入力!$J:$J))","v":0},{"$f":"IF($A117=\"\",0,SUMIF(勘定入力!$E:$E,3&$A117,勘定入力!$K:$K))","v":0},{"$f":"IF($A117=\"\",0,SUMIF(勘定入力!$E:$E,4&$A117,勘定入力!$J:$J))","v":0},{"$f":"IF($A117=\"\",0,SUMIF(勘定入力!$E:$E,4&$A117,勘定入力!$K:$K))","v":0},{"$f":"IF($A117=\"\",0,SUMIF(勘定入力!$E:$E,5&$A117,勘定入力!$J:$J))","v":0},{"$f":"IF($A117=\"\",0,SUMIF(勘定入力!$E:$E,5&$A117,勘定入力!$K:$K))","v":0},{"$f":"IF($A117=\"\",0,SUMIF(勘定入力!$E:$E,6&$A117,勘定入力!$J:$J))","v":0},{"$f":"IF($A117=\"\",0,SUMIF(勘定入力!$E:$E,6&$A117,勘定入力!$K:$K))","v":0},{"$f":"IF($A117=\"\",0,SUMIF(勘定入力!$E:$E,7&$A117,勘定入力!$J:$J))","v":0},{"$f":"IF($A117=\"\",0,SUMIF(勘定入力!$E:$E,7&$A117,勘定入力!$K:$K))","v":0},{"$f":"IF($A117=\"\",0,SUMIF(勘定入力!$E:$E,8&$A117,勘定入力!$J:$J))","v":0},{"$f":"IF($A117=\"\",0,SUMIF(勘定入力!$E:$E,8&$A117,勘定入力!$K:$K))","v":0},{"$f":"IF($A117=\"\",0,SUMIF(勘定入力!$E:$E,9&$A117,勘定入力!$J:$J))","v":0},{"$f":"IF($A117=\"\",0,SUMIF(勘定入力!$E:$E,9&$A117,勘定入力!$K:$K))","v":0},{"$f":"IF($A117=\"\",0,SUMIF(勘定入力!$E:$E,10&$A117,勘定入力!$J:$J))","v":0},{"$f":"IF($A117=\"\",0,SUMIF(勘定入力!$E:$E,10&$A117,勘定入力!$K:$K))","v":0},{"$f":"IF($A117=\"\",0,SUMIF(勘定入力!$E:$E,11&$A117,勘定入力!$J:$J))","v":0},{"$f":"IF($A117=\"\",0,SUMIF(勘定入力!$E:$E,11&$A117,勘定入力!$K:$K))","v":0},{"$f":"IF($A117=\"\",0,SUMIF(勘定入力!$E:$E,12&$A117,勘定入力!$J:$J))","v":0},{"$f":"IF($A117=\"\",0,SUMIF(勘定入力!$E:$E,12&$A117,勘定入力!$K:$K))","v":0}]
[{"$f":"入力補助!J55","v":0},0,0,{"$f":"IF($A118=\"\",0,SUMIF(勘定入力!$E:$E,1&$A118,勘定入力!$J:$J))","v":0},{"$f":"IF($A118=\"\",0,SUMIF(勘定入力!$E:$E,1&$A118,勘定入力!$K:$K))","v":0},{"$f":"IF($A118=\"\",0,SUMIF(勘定入力!$E:$E,2&$A118,勘定入力!$J:$J))","v":0},{"$f":"IF($A118=\"\",0,SUMIF(勘定入力!$E:$E,2&$A118,勘定入力!$K:$K))","v":0},{"$f":"IF($A118=\"\",0,SUMIF(勘定入力!$E:$E,3&$A118,勘定入力!$J:$J))","v":0},{"$f":"IF($A118=\"\",0,SUMIF(勘定入力!$E:$E,3&$A118,勘定入力!$K:$K))","v":0},{"$f":"IF($A118=\"\",0,SUMIF(勘定入力!$E:$E,4&$A118,勘定入力!$J:$J))","v":0},{"$f":"IF($A118=\"\",0,SUMIF(勘定入力!$E:$E,4&$A118,勘定入力!$K:$K))","v":0},{"$f":"IF($A118=\"\",0,SUMIF(勘定入力!$E:$E,5&$A118,勘定入力!$J:$J))","v":0},{"$f":"IF($A118=\"\",0,SUMIF(勘定入力!$E:$E,5&$A118,勘定入力!$K:$K))","v":0},{"$f":"IF($A118=\"\",0,SUMIF(勘定入力!$E:$E,6&$A118,勘定入力!$J:$J))","v":0},{"$f":"IF($A118=\"\",0,SUMIF(勘定入力!$E:$E,6&$A118,勘定入力!$K:$K))","v":0},{"$f":"IF($A118=\"\",0,SUMIF(勘定入力!$E:$E,7&$A118,勘定入力!$J:$J))","v":0},{"$f":"IF($A118=\"\",0,SUMIF(勘定入力!$E:$E,7&$A118,勘定入力!$K:$K))","v":0},{"$f":"IF($A118=\"\",0,SUMIF(勘定入力!$E:$E,8&$A118,勘定入力!$J:$J))","v":0},{"$f":"IF($A118=\"\",0,SUMIF(勘定入力!$E:$E,8&$A118,勘定入力!$K:$K))","v":0},{"$f":"IF($A118=\"\",0,SUMIF(勘定入力!$E:$E,9&$A118,勘定入力!$J:$J))","v":0},{"$f":"IF($A118=\"\",0,SUMIF(勘定入力!$E:$E,9&$A118,勘定入力!$K:$K))","v":0},{"$f":"IF($A118=\"\",0,SUMIF(勘定入力!$E:$E,10&$A118,勘定入力!$J:$J))","v":0},{"$f":"IF($A118=\"\",0,SUMIF(勘定入力!$E:$E,10&$A118,勘定入力!$K:$K))","v":0},{"$f":"IF($A118=\"\",0,SUMIF(勘定入力!$E:$E,11&$A118,勘定入力!$J:$J))","v":0},{"$f":"IF($A118=\"\",0,SUMIF(勘定入力!$E:$E,11&$A118,勘定入力!$K:$K))","v":0},{"$f":"IF($A118=\"\",0,SUMIF(勘定入力!$E:$E,12&$A118,勘定入力!$J:$J))","v":0},{"$f":"IF($A118=\"\",0,SUMIF(勘定入力!$E:$E,12&$A118,勘定入力!$K:$K))","v":0}]
[{"$f":"入力補助!J56","v":"その他"},0,0,{"$f":"IF($A119=\"\",0,SUMIF(勘定入力!$E:$E,1&$A119,勘定入力!$J:$J))","v":0},{"$f":"IF($A119=\"\",0,SUMIF(勘定入力!$E:$E,1&$A119,勘定入力!$K:$K))","v":0},{"$f":"IF($A119=\"\",0,SUMIF(勘定入力!$E:$E,2&$A119,勘定入力!$J:$J))","v":0},{"$f":"IF($A119=\"\",0,SUMIF(勘定入力!$E:$E,2&$A119,勘定入力!$K:$K))","v":0},{"$f":"IF($A119=\"\",0,SUMIF(勘定入力!$E:$E,3&$A119,勘定入力!$J:$J))","v":0},{"$f":"IF($A119=\"\",0,SUMIF(勘定入力!$E:$E,3&$A119,勘定入力!$K:$K))","v":0},{"$f":"IF($A119=\"\",0,SUMIF(勘定入力!$E:$E,4&$A119,勘定入力!$J:$J))","v":0},{"$f":"IF($A119=\"\",0,SUMIF(勘定入力!$E:$E,4&$A119,勘定入力!$K:$K))","v":0},{"$f":"IF($A119=\"\",0,SUMIF(勘定入力!$E:$E,5&$A119,勘定入力!$J:$J))","v":0},{"$f":"IF($A119=\"\",0,SUMIF(勘定入力!$E:$E,5&$A119,勘定入力!$K:$K))","v":0},{"$f":"IF($A119=\"\",0,SUMIF(勘定入力!$E:$E,6&$A119,勘定入力!$J:$J))","v":0},{"$f":"IF($A119=\"\",0,SUMIF(勘定入力!$E:$E,6&$A119,勘定入力!$K:$K))","v":0},{"$f":"IF($A119=\"\",0,SUMIF(勘定入力!$E:$E,7&$A119,勘定入力!$J:$J))","v":0},{"$f":"IF($A119=\"\",0,SUMIF(勘定入力!$E:$E,7&$A119,勘定入力!$K:$K))","v":0},{"$f":"IF($A119=\"\",0,SUMIF(勘定入力!$E:$E,8&$A119,勘定入力!$J:$J))","v":0},{"$f":"IF($A119=\"\",0,SUMIF(勘定入力!$E:$E,8&$A119,勘定入力!$K:$K))","v":0},{"$f":"IF($A119=\"\",0,SUMIF(勘定入力!$E:$E,9&$A119,勘定入力!$J:$J))","v":0},{"$f":"IF($A119=\"\",0,SUMIF(勘定入力!$E:$E,9&$A119,勘定入力!$K:$K))","v":0},{"$f":"IF($A119=\"\",0,SUMIF(勘定入力!$E:$E,10&$A119,勘定入力!$J:$J))","v":0},{"$f":"IF($A119=\"\",0,SUMIF(勘定入力!$E:$E,10&$A119,勘定入力!$K:$K))","v":0},{"$f":"IF($A119=\"\",0,SUMIF(勘定入力!$E:$E,11&$A119,勘定入力!$J:$J))","v":0},{"$f":"IF($A119=\"\",0,SUMIF(勘定入力!$E:$E,11&$A119,勘定入力!$K:$K))","v":0},{"$f":"IF($A119=\"\",0,SUMIF(勘定入力!$E:$E,12&$A119,勘定入力!$J:$J))","v":0},{"$f":"IF($A119=\"\",0,SUMIF(勘定入力!$E:$E,12&$A119,勘定入力!$K:$K))","v":0}]
[{"$f":"入力補助!J57","v":"該当無"},10000,0,{"$f":"IF($A120=\"\",0,SUMIF(勘定入力!$E:$E,1&$A120,勘定入力!$J:$J))","v":10000},{"$f":"IF($A120=\"\",0,SUMIF(勘定入力!$E:$E,1&$A120,勘定入力!$K:$K))","v":0},{"$f":"IF($A120=\"\",0,SUMIF(勘定入力!$E:$E,2&$A120,勘定入力!$J:$J))","v":0},{"$f":"IF($A120=\"\",0,SUMIF(勘定入力!$E:$E,2&$A120,勘定入力!$K:$K))","v":0},{"$f":"IF($A120=\"\",0,SUMIF(勘定入力!$E:$E,3&$A120,勘定入力!$J:$J))","v":0},{"$f":"IF($A120=\"\",0,SUMIF(勘定入力!$E:$E,3&$A120,勘定入力!$K:$K))","v":0},{"$f":"IF($A120=\"\",0,SUMIF(勘定入力!$E:$E,4&$A120,勘定入力!$J:$J))","v":0},{"$f":"IF($A120=\"\",0,SUMIF(勘定入力!$E:$E,4&$A120,勘定入力!$K:$K))","v":0},{"$f":"IF($A120=\"\",0,SUMIF(勘定入力!$E:$E,5&$A120,勘定入力!$J:$J))","v":0},{"$f":"IF($A120=\"\",0,SUMIF(勘定入力!$E:$E,5&$A120,勘定入力!$K:$K))","v":0},{"$f":"IF($A120=\"\",0,SUMIF(勘定入力!$E:$E,6&$A120,勘定入力!$J:$J))","v":0},{"$f":"IF($A120=\"\",0,SUMIF(勘定入力!$E:$E,6&$A120,勘定入力!$K:$K))","v":0},{"$f":"IF($A120=\"\",0,SUMIF(勘定入力!$E:$E,7&$A120,勘定入力!$J:$J))","v":0},{"$f":"IF($A120=\"\",0,SUMIF(勘定入力!$E:$E,7&$A120,勘定入力!$K:$K))","v":0},{"$f":"IF($A120=\"\",0,SUMIF(勘定入力!$E:$E,8&$A120,勘定入力!$J:$J))","v":0},{"$f":"IF($A120=\"\",0,SUMIF(勘定入力!$E:$E,8&$A120,勘定入力!$K:$K))","v":0},{"$f":"IF($A120=\"\",0,SUMIF(勘定入力!$E:$E,9&$A120,勘定入力!$J:$J))","v":0},{"$f":"IF($A120=\"\",0,SUMIF(勘定入力!$E:$E,9&$A120,勘定入力!$K:$K))","v":0},{"$f":"IF($A120=\"\",0,SUMIF(勘定入力!$E:$E,10&$A120,勘定入力!$J:$J))","v":0},{"$f":"IF($A120=\"\",0,SUMIF(勘定入力!$E:$E,10&$A120,勘定入力!$K:$K))","v":0},{"$f":"IF($A120=\"\",0,SUMIF(勘定入力!$E:$E,11&$A120,勘定入力!$J:$J))","v":0},{"$f":"IF($A120=\"\",0,SUMIF(勘定入力!$E:$E,11&$A120,勘定入力!$K:$K))","v":0},{"$f":"IF($A120=\"\",0,SUMIF(勘定入力!$E:$E,12&$A120,勘定入力!$J:$J))","v":0},{"$f":"IF($A120=\"\",0,SUMIF(勘定入力!$E:$E,12&$A120,勘定入力!$K:$K))","v":0}]
["合計",{"$f":"SUM(B66:B120)","v":40500},35200,10000,1100,5000,1100,5000,2100,0,3100,0,4100,200,3100,0,6100,5000,4100,5300,4100,0,4100,5000,1100,5000,1100]
[]
[{"$f":"勘定入力!N3","v":"施工者・メーカ"},"年間合計",null,"１月",null,"２月",null,"３月",null,"４月",null,"５月",null,"６月",null,"７月",null,"８月",null,"９月",null,"１０月",null,"１１月",null,"１２月"]
[{"$f":"IF(B3=B180,\"\",\"入力確認要\")","v":""},"入金","支払","入金","支払","入金","支払","入金","支払","入金","支払","入金","支払","入金","支払","入金","支払","入金","支払","入金","支払","入金","支払","入金","支払","入金","支払"]
[{"$f":"入力補助!M3","v":"○○会社"},{"$f":"D125+F125+H125+J125+L125+N125+P125+R125+T125+V125+X125+Z125","v":30500},{"$f":"E125+G125+I125+K125+M125+O125+Q125+S125+U125+W125+Y125+AA125","v":1200},{"$f":"IF($A125=\"\",0,SUMIF(勘定入力!$F:$F,1&$A125,勘定入力!$J:$J))","v":0},{"$f":"IF($A125=\"\",0,SUMIF(勘定入力!$F:$F,1&$A125,勘定入力!$K:$K))","v":100},{"$f":"IF($A125=\"\",0,SUMIF(勘定入力!$F:$F,2&$A125,勘定入力!$J:$J))","v":5000},{"$f":"IF($A125=\"\",0,SUMIF(勘定入力!$F:$F,2&$A125,勘定入力!$K:$K))","v":100},{"$f":"IF($A125=\"\",0,SUMIF(勘定入力!$F:$F,3&$A125,勘定入力!$J:$J))","v":5000},{"$f":"IF($A125=\"\",0,SUMIF(勘定入力!$F:$F,3&$A125,勘定入力!$K:$K))","v":100},{"$f":"IF($A125=\"\",0,SUMIF(勘定入力!$F:$F,4&$A125,勘定入力!$J:$J))","v":0},{"$f":"IF($A125=\"\",0,SUMIF(勘定入力!$F:$F,4&$A125,勘定入力!$K:$K))","v":100},{"$f":"IF($A125=\"\",0,SUMIF(勘定入力!$F:$F,5&$A125,勘定入力!$J:$J))","v":0},{"$f":"IF($A125=\"\",0,SUMIF(勘定入力!$F:$F,5&$A125,勘定入力!$K:$K))","v":100},{"$f":"IF($A125=\"\",0,SUMIF(勘定入力!$F:$F,6&$A125,勘定入力!$J:$J))","v":200},{"$f":"IF($A125=\"\",0,SUMIF(勘定入力!$F:$F,6&$A125,勘定入力!$K:$K))","v":100},{"$f":"IF($A125=\"\",0,SUMIF(勘定入力!$F:$F,7&$A125,勘定入力!$J:$J))","v":0},{"$f":"IF($A125=\"\",0,SUMIF(勘定入力!$F:$F,7&$A125,勘定入力!$K:$K))","v":100},{"$f":"IF($A125=\"\",0,SUMIF(勘定入力!$F:$F,8&$A125,勘定入力!$J:$J))","v":5000},{"$f":"IF($A125=\"\",0,SUMIF(勘定入力!$F:$F,8&$A125,勘定入力!$K:$K))","v":100},{"$f":"IF($A125=\"\",0,SUMIF(勘定入力!$F:$F,9&$A125,勘定入力!$J:$J))","v":5300},{"$f":"IF($A125=\"\",0,SUMIF(勘定入力!$F:$F,9&$A125,勘定入力!$K:$K))","v":100},{"$f":"IF($A125=\"\",0,SUMIF(勘定入力!$F:$F,10&$A125,勘定入力!$J:$J))","v":0},{"$f":"IF($A125=\"\",0,SUMIF(勘定入力!$F:$F,10&$A125,勘定入力!$K:$K))","v":100},{"$f":"IF($A125=\"\",0,SUMIF(勘定入力!$F:$F,11&$A125,勘定入力!$J:$J))","v":5000},{"$f":"IF($A125=\"\",0,SUMIF(勘定入力!$F:$F,11&$A125,勘定入力!$K:$K))","v":100},{"$f":"IF($A125=\"\",0,SUMIF(勘定入力!$F:$F,12&$A125,勘定入力!$J:$J))","v":5000},{"$f":"IF($A125=\"\",0,SUMIF(勘定入力!$F:$F,12&$A125,勘定入力!$K:$K))","v":100}]
[{"$f":"入力補助!M4","v":"会社（固定費）"},{"$f":"D126+F126+H126+J126+L126+N126+P126+R126+T126+V126+X126+Z126","v":0},{"$f":"E126+G126+I126+K126+M126+O126+Q126+S126+U126+W126+Y126+AA126","v":12000},{"$f":"IF($A126=\"\",0,SUMIF(勘定入力!$F:$F,1&$A126,勘定入力!$J:$J))","v":0},{"$f":"IF($A126=\"\",0,SUMIF(勘定入力!$F:$F,1&$A126,勘定入力!$K:$K))","v":1000},{"$f":"IF($A126=\"\",0,SUMIF(勘定入力!$F:$F,2&$A126,勘定入力!$J:$J))","v":0},{"$f":"IF($A126=\"\",0,SUMIF(勘定入力!$F:$F,2&$A126,勘定入力!$K:$K))","v":1000},{"$f":"IF($A126=\"\",0,SUMIF(勘定入力!$F:$F,3&$A126,勘定入力!$J:$J))","v":0},{"$f":"IF($A126=\"\",0,SUMIF(勘定入力!$F:$F,3&$A126,勘定入力!$K:$K))","v":1000},{"$f":"IF($A126=\"\",0,SUMIF(勘定入力!$F:$F,4&$A126,勘定入力!$J:$J))","v":0},{"$f":"IF($A126=\"\",0,SUMIF(勘定入力!$F:$F,4&$A126,勘定入力!$K:$K))","v":1000},{"$f":"IF($A126=\"\",0,SUMIF(勘定入力!$F:$F,5&$A126,勘定入力!$J:$J))","v":0},{"$f":"IF($A126=\"\",0,SUMIF(勘定入力!$F:$F,5&$A126,勘定入力!$K:$K))","v":1000},{"$f":"IF($A126=\"\",0,SUMIF(勘定入力!$F:$F,6&$A126,勘定入力!$J:$J))","v":0},{"$f":"IF($A126=\"\",0,SUMIF(勘定入力!$F:$F,6&$A126,勘定入力!$K:$K))","v":1000},{"$f":"IF($A126=\"\",0,SUMIF(勘定入力!$F:$F,7&$A126,勘定入力!$J:$J))","v":0},{"$f":"IF($A126=\"\",0,SUMIF(勘定入力!$F:$F,7&$A126,勘定入力!$K:$K))","v":1000},{"$f":"IF($A126=\"\",0,SUMIF(勘定入力!$F:$F,8&$A126,勘定入力!$J:$J))","v":0},{"$f":"IF($A126=\"\",0,SUMIF(勘定入力!$F:$F,8&$A126,勘定入力!$K:$K))","v":1000},{"$f":"IF($A126=\"\",0,SUMIF(勘定入力!$F:$F,9&$A126,勘定入力!$J:$J))","v":0},{"$f":"IF($A126=\"\",0,SUMIF(勘定入力!$F:$F,9&$A126,勘定入力!$K:$K))","v":1000},{"$f":"IF($A126=\"\",0,SUMIF(勘定入力!$F:$F,10&$A126,勘定入力!$J:$J))","v":0},{"$f":"IF($A126=\"\",0,SUMIF(勘定入力!$F:$F,10&$A126,勘定入力!$K:$K))","v":1000},{"$f":"IF($A126=\"\",0,SUMIF(勘定入力!$F:$F,11&$A126,勘定入力!$J:$J))","v":0},{"$f":"IF($A126=\"\",0,SUMIF(勘定入力!$F:$F,11&$A126,勘定入力!$K:$K))","v":1000},{"$f":"IF($A126=\"\",0,SUMIF(勘定入力!$F:$F,12&$A126,勘定入力!$J:$J))","v":0},{"$f":"IF($A126=\"\",0,SUMIF(勘定入力!$F:$F,12&$A126,勘定入力!$K:$K))","v":1000}]
[{"$f":"入力補助!M5","v":"その他協力会社"},0,0,{"$f":"IF($A127=\"\",0,SUMIF(勘定入力!$F:$F,1&$A127,勘定入力!$J:$J))","v":0},{"$f":"IF($A127=\"\",0,SUMIF(勘定入力!$F:$F,1&$A127,勘定入力!$K:$K))","v":0},{"$f":"IF($A127=\"\",0,SUMIF(勘定入力!$F:$F,2&$A127,勘定入力!$J:$J))","v":0},{"$f":"IF($A127=\"\",0,SUMIF(勘定入力!$F:$F,2&$A127,勘定入力!$K:$K))","v":0},{"$f":"IF($A127=\"\",0,SUMIF(勘定入力!$F:$F,3&$A127,勘定入力!$J:$J))","v":0},{"$f":"IF($A127=\"\",0,SUMIF(勘定入力!$F:$F,3&$A127,勘定入力!$K:$K))","v":0},{"$f":"IF($A127=\"\",0,SUMIF(勘定入力!$F:$F,4&$A127,勘定入力!$J:$J))","v":0},{"$f":"IF($A127=\"\",0,SUMIF(勘定入力!$F:$F,4&$A127,勘定入力!$K:$K))","v":0},{"$f":"IF($A127=\"\",0,SUMIF(勘定入力!$F:$F,5&$A127,勘定入力!$J:$J))","v":0},{"$f":"IF($A127=\"\",0,SUMIF(勘定入力!$F:$F,5&$A127,勘定入力!$K:$K))","v":0},{"$f":"IF($A127=\"\",0,SUMIF(勘定入力!$F:$F,6&$A127,勘定入力!$J:$J))","v":0},{"$f":"IF($A127=\"\",0,SUMIF(勘定入力!$F:$F,6&$A127,勘定入力!$K:$K))","v":0},{"$f":"IF($A127=\"\",0,SUMIF(勘定入力!$F:$F,7&$A127,勘定入力!$J:$J))","v":0},{"$f":"IF($A127=\"\",0,SUMIF(勘定入力!$F:$F,7&$A127,勘定入力!$K:$K))","v":0},{"$f":"IF($A127=\"\",0,SUMIF(勘定入力!$F:$F,8&$A127,勘定入力!$J:$J))","v":0},{"$f":"IF($A127=\"\",0,SUMIF(勘定入力!$F:$F,8&$A127,勘定入力!$K:$K))","v":0},{"$f":"IF($A127=\"\",0,SUMIF(勘定入力!$F:$F,9&$A127,勘定入力!$J:$J))","v":0},{"$f":"IF($A127=\"\",0,SUMIF(勘定入力!$F:$F,9&$A127,勘定入力!$K:$K))","v":0},{"$f":"IF($A127=\"\",0,SUMIF(勘定入力!$F:$F,10&$A127,勘定入力!$J:$J))","v":0},{"$f":"IF($A127=\"\",0,SUMIF(勘定入力!$F:$F,10&$A127,勘定入力!$K:$K))","v":0},{"$f":"IF($A127=\"\",0,SUMIF(勘定入力!$F:$F,11&$A127,勘定入力!$J:$J))","v":0},{"$f":"IF($A127=\"\",0,SUMIF(勘定入力!$F:$F,11&$A127,勘定入力!$K:$K))","v":0},{"$f":"IF($A127=\"\",0,SUMIF(勘定入力!$F:$F,12&$A127,勘定入力!$J:$J))","v":0},{"$f":"IF($A127=\"\",0,SUMIF(勘定入力!$F:$F,12&$A127,勘定入力!$K:$K))","v":0}]
[{"$f":"入力補助!M6","v":"自社施工"},0,2000,{"$f":"IF($A128=\"\",0,SUMIF(勘定入力!$F:$F,1&$A128,勘定入力!$J:$J))","v":0},{"$f":"IF($A128=\"\",0,SUMIF(勘定入力!$F:$F,1&$A128,勘定入力!$K:$K))","v":0},{"$f":"IF($A128=\"\",0,SUMIF(勘定入力!$F:$F,2&$A128,勘定入力!$J:$J))","v":0},{"$f":"IF($A128=\"\",0,SUMIF(勘定入力!$F:$F,2&$A128,勘定入力!$K:$K))","v":0},{"$f":"IF($A128=\"\",0,SUMIF(勘定入力!$F:$F,3&$A128,勘定入力!$J:$J))","v":0},{"$f":"IF($A128=\"\",0,SUMIF(勘定入力!$F:$F,3&$A128,勘定入力!$K:$K))","v":1000},{"$f":"IF($A128=\"\",0,SUMIF(勘定入力!$F:$F,4&$A128,勘定入力!$J:$J))","v":0},{"$f":"IF($A128=\"\",0,SUMIF(勘定入力!$F:$F,4&$A128,勘定入力!$K:$K))","v":0},{"$f":"IF($A128=\"\",0,SUMIF(勘定入力!$F:$F,5&$A128,勘定入力!$J:$J))","v":0},{"$f":"IF($A128=\"\",0,SUMIF(勘定入力!$F:$F,5&$A128,勘定入力!$K:$K))","v":1000},{"$f":"IF($A128=\"\",0,SUMIF(勘定入力!$F:$F,6&$A128,勘定入力!$J:$J))","v":0},{"$f":"IF($A128=\"\",0,SUMIF(勘定入力!$F:$F,6&$A128,勘定入力!$K:$K))","v":0},{"$f":"IF($A128=\"\",0,SUMIF(勘定入力!$F:$F,7&$A128,勘定入力!$J:$J))","v":0},{"$f":"IF($A128=\"\",0,SUMIF(勘定入力!$F:$F,7&$A128,勘定入力!$K:$K))","v":0},{"$f":"IF($A128=\"\",0,SUMIF(勘定入力!$F:$F,8&$A128,勘定入力!$J:$J))","v":0},{"$f":"IF($A128=\"\",0,SUMIF(勘定入力!$F:$F,8&$A128,勘定入力!$K:$K))","v":0},{"$f":"IF($A128=\"\",0,SUMIF(勘定入力!$F:$F,9&$A128,勘定入力!$J:$J))","v":0},{"$f":"IF($A128=\"\",0,SUMIF(勘定入力!$F:$F,9&$A128,勘定入力!$K:$K))","v":0},{"$f":"IF($A128=\"\",0,SUMIF(勘定入力!$F:$F,10&$A128,勘定入力!$J:$J))","v":0},{"$f":"IF($A128=\"\",0,SUMIF(勘定入力!$F:$F,10&$A128,勘定入力!$K:$K))","v":0},{"$f":"IF($A128=\"\",0,SUMIF(勘定入力!$F:$F,11&$A128,勘定入力!$J:$J))","v":0},{"$f":"IF($A128=\"\",0,SUMIF(勘定入力!$F:$F,11&$A128,勘定入力!$K:$K))","v":0},{"$f":"IF($A128=\"\",0,SUMIF(勘定入力!$F:$F,12&$A128,勘定入力!$J:$J))","v":0},{"$f":"IF($A128=\"\",0,SUMIF(勘定入力!$F:$F,12&$A128,勘定入力!$K:$K))","v":0}]
[{"$f":"入力補助!M7","v":"B1社"},0,4000,{"$f":"IF($A129=\"\",0,SUMIF(勘定入力!$F:$F,1&$A129,勘定入力!$J:$J))","v":0},{"$f":"IF($A129=\"\",0,SUMIF(勘定入力!$F:$F,1&$A129,勘定入力!$K:$K))","v":0},{"$f":"IF($A129=\"\",0,SUMIF(勘定入力!$F:$F,2&$A129,勘定入力!$J:$J))","v":0},{"$f":"IF($A129=\"\",0,SUMIF(勘定入力!$F:$F,2&$A129,勘定入力!$K:$K))","v":0},{"$f":"IF($A129=\"\",0,SUMIF(勘定入力!$F:$F,3&$A129,勘定入力!$J:$J))","v":0},{"$f":"IF($A129=\"\",0,SUMIF(勘定入力!$F:$F,3&$A129,勘定入力!$K:$K))","v":0},{"$f":"IF($A129=\"\",0,SUMIF(勘定入力!$F:$F,4&$A129,勘定入力!$J:$J))","v":0},{"$f":"IF($A129=\"\",0,SUMIF(勘定入力!$F:$F,4&$A129,勘定入力!$K:$K))","v":0},{"$f":"IF($A129=\"\",0,SUMIF(勘定入力!$F:$F,5&$A129,勘定入力!$J:$J))","v":0},{"$f":"IF($A129=\"\",0,SUMIF(勘定入力!$F:$F,5&$A129,勘定入力!$K:$K))","v":0},{"$f":"IF($A129=\"\",0,SUMIF(勘定入力!$F:$F,6&$A129,勘定入力!$J:$J))","v":0},{"$f":"IF($A129=\"\",0,SUMIF(勘定入力!$F:$F,6&$A129,勘定入力!$K:$K))","v":2000},{"$f":"IF($A129=\"\",0,SUMIF(勘定入力!$F:$F,7&$A129,勘定入力!$J:$J))","v":0},{"$f":"IF($A129=\"\",0,SUMIF(勘定入力!$F:$F,7&$A129,勘定入力!$K:$K))","v":2000},{"$f":"IF($A129=\"\",0,SUMIF(勘定入力!$F:$F,8&$A129,勘定入力!$J:$J))","v":0},{"$f":"IF($A129=\"\",0,SUMIF(勘定入力!$F:$F,8&$A129,勘定入力!$K:$K))","v":0},{"$f":"IF($A129=\"\",0,SUMIF(勘定入力!$F:$F,9&$A129,勘定入力!$J:$J))","v":0},{"$f":"IF($A129=\"\",0,SUMIF(勘定入力!$F:$F,9&$A129,勘定入力!$K:$K))","v":0},{"$f":"IF($A129=\"\",0,SUMIF(勘定入力!$F:$F,10&$A129,勘定入力!$J:$J))","v":0},{"$f":"IF($A129=\"\",0,SUMIF(勘定入力!$F:$F,10&$A129,勘定入力!$K:$K))","v":0},{"$f":"IF($A129=\"\",0,SUMIF(勘定入力!$F:$F,11&$A129,勘定入力!$J:$J))","v":0},{"$f":"IF($A129=\"\",0,SUMIF(勘定入力!$F:$F,11&$A129,勘定入力!$K:$K))","v":0},{"$f":"IF($A129=\"\",0,SUMIF(勘定入力!$F:$F,12&$A129,勘定入力!$J:$J))","v":0},{"$f":"IF($A129=\"\",0,SUMIF(勘定入力!$F:$F,12&$A129,勘定入力!$K:$K))","v":0}]
[{"$f":"入力補助!M8","v":"B2社"},0,0,{"$f":"IF($A130=\"\",0,SUMIF(勘定入力!$F:$F,1&$A130,勘定入力!$J:$J))","v":0},{"$f":"IF($A130=\"\",0,SUMIF(勘定入力!$F:$F,1&$A130,勘定入力!$K:$K))","v":0},{"$f":"IF($A130=\"\",0,SUMIF(勘定入力!$F:$F,2&$A130,勘定入力!$J:$J))","v":0},{"$f":"IF($A130=\"\",0,SUMIF(勘定入力!$F:$F,2&$A130,勘定入力!$K:$K))","v":0},{"$f":"IF($A130=\"\",0,SUMIF(勘定入力!$F:$F,3&$A130,勘定入力!$J:$J))","v":0},{"$f":"IF($A130=\"\",0,SUMIF(勘定入力!$F:$F,3&$A130,勘定入力!$K:$K))","v":0},{"$f":"IF($A130=\"\",0,SUMIF(勘定入力!$F:$F,4&$A130,勘定入力!$J:$J))","v":0},{"$f":"IF($A130=\"\",0,SUMIF(勘定入力!$F:$F,4&$A130,勘定入力!$K:$K))","v":0},{"$f":"IF($A130=\"\",0,SUMIF(勘定入力!$F:$F,5&$A130,勘定入力!$J:$J))","v":0},{"$f":"IF($A130=\"\",0,SUMIF(勘定入力!$F:$F,5&$A130,勘定入力!$K:$K))","v":0},{"$f":"IF($A130=\"\",0,SUMIF(勘定入力!$F:$F,6&$A130,勘定入力!$J:$J))","v":0},{"$f":"IF($A130=\"\",0,SUMIF(勘定入力!$F:$F,6&$A130,勘定入力!$K:$K))","v":0},{"$f":"IF($A130=\"\",0,SUMIF(勘定入力!$F:$F,7&$A130,勘定入力!$J:$J))","v":0},{"$f":"IF($A130=\"\",0,SUMIF(勘定入力!$F:$F,7&$A130,勘定入力!$K:$K))","v":0},{"$f":"IF($A130=\"\",0,SUMIF(勘定入力!$F:$F,8&$A130,勘定入力!$J:$J))","v":0},{"$f":"IF($A130=\"\",0,SUMIF(勘定入力!$F:$F,8&$A130,勘定入力!$K:$K))","v":0},{"$f":"IF($A130=\"\",0,SUMIF(勘定入力!$F:$F,9&$A130,勘定入力!$J:$J))","v":0},{"$f":"IF($A130=\"\",0,SUMIF(勘定入力!$F:$F,9&$A130,勘定入力!$K:$K))","v":0},{"$f":"IF($A130=\"\",0,SUMIF(勘定入力!$F:$F,10&$A130,勘定入力!$J:$J))","v":0},{"$f":"IF($A130=\"\",0,SUMIF(勘定入力!$F:$F,10&$A130,勘定入力!$K:$K))","v":0},{"$f":"IF($A130=\"\",0,SUMIF(勘定入力!$F:$F,11&$A130,勘定入力!$J:$J))","v":0},{"$f":"IF($A130=\"\",0,SUMIF(勘定入力!$F:$F,11&$A130,勘定入力!$K:$K))","v":0},{"$f":"IF($A130=\"\",0,SUMIF(勘定入力!$F:$F,12&$A130,勘定入力!$J:$J))","v":0},{"$f":"IF($A130=\"\",0,SUMIF(勘定入力!$F:$F,12&$A130,勘定入力!$K:$K))","v":0}]
[{"$f":"入力補助!M9","v":"B3社"},0,6000,{"$f":"IF($A131=\"\",0,SUMIF(勘定入力!$F:$F,1&$A131,勘定入力!$J:$J))","v":0},{"$f":"IF($A131=\"\",0,SUMIF(勘定入力!$F:$F,1&$A131,勘定入力!$K:$K))","v":0},{"$f":"IF($A131=\"\",0,SUMIF(勘定入力!$F:$F,2&$A131,勘定入力!$J:$J))","v":0},{"$f":"IF($A131=\"\",0,SUMIF(勘定入力!$F:$F,2&$A131,勘定入力!$K:$K))","v":0},{"$f":"IF($A131=\"\",0,SUMIF(勘定入力!$F:$F,3&$A131,勘定入力!$J:$J))","v":0},{"$f":"IF($A131=\"\",0,SUMIF(勘定入力!$F:$F,3&$A131,勘定入力!$K:$K))","v":0},{"$f":"IF($A131=\"\",0,SUMIF(勘定入力!$F:$F,4&$A131,勘定入力!$J:$J))","v":0},{"$f":"IF($A131=\"\",0,SUMIF(勘定入力!$F:$F,4&$A131,勘定入力!$K:$K))","v":0},{"$f":"IF($A131=\"\",0,SUMIF(勘定入力!$F:$F,5&$A131,勘定入力!$J:$J))","v":0},{"$f":"IF($A131=\"\",0,SUMIF(勘定入力!$F:$F,5&$A131,勘定入力!$K:$K))","v":0},{"$f":"IF($A131=\"\",0,SUMIF(勘定入力!$F:$F,6&$A131,勘定入力!$J:$J))","v":0},{"$f":"IF($A131=\"\",0,SUMIF(勘定入力!$F:$F,6&$A131,勘定入力!$K:$K))","v":0},{"$f":"IF($A131=\"\",0,SUMIF(勘定入力!$F:$F,7&$A131,勘定入力!$J:$J))","v":0},{"$f":"IF($A131=\"\",0,SUMIF(勘定入力!$F:$F,7&$A131,勘定入力!$K:$K))","v":0},{"$f":"IF($A131=\"\",0,SUMIF(勘定入力!$F:$F,8&$A131,勘定入力!$J:$J))","v":0},{"$f":"IF($A131=\"\",0,SUMIF(勘定入力!$F:$F,8&$A131,勘定入力!$K:$K))","v":0},{"$f":"IF($A131=\"\",0,SUMIF(勘定入力!$F:$F,9&$A131,勘定入力!$J:$J))","v":0},{"$f":"IF($A131=\"\",0,SUMIF(勘定入力!$F:$F,9&$A131,勘定入力!$K:$K))","v":3000},{"$f":"IF($A131=\"\",0,SUMIF(勘定入力!$F:$F,10&$A131,勘定入力!$J:$J))","v":0},{"$f":"IF($A131=\"\",0,SUMIF(勘定入力!$F:$F,10&$A131,勘定入力!$K:$K))","v":3000},{"$f":"IF($A131=\"\",0,SUMIF(勘定入力!$F:$F,11&$A131,勘定入力!$J:$J))","v":0},{"$f":"IF($A131=\"\",0,SUMIF(勘定入力!$F:$F,11&$A131,勘定入力!$K:$K))","v":0},{"$f":"IF($A131=\"\",0,SUMIF(勘定入力!$F:$F,12&$A131,勘定入力!$J:$J))","v":0},{"$f":"IF($A131=\"\",0,SUMIF(勘定入力!$F:$F,12&$A131,勘定入力!$K:$K))","v":0}]
[{"$f":"入力補助!M10","v":"B4社"},0,6000,{"$f":"IF($A132=\"\",0,SUMIF(勘定入力!$F:$F,1&$A132,勘定入力!$J:$J))","v":0},{"$f":"IF($A132=\"\",0,SUMIF(勘定入力!$F:$F,1&$A132,勘定入力!$K:$K))","v":0},{"$f":"IF($A132=\"\",0,SUMIF(勘定入力!$F:$F,2&$A132,勘定入力!$J:$J))","v":0},{"$f":"IF($A132=\"\",0,SUMIF(勘定入力!$F:$F,2&$A132,勘定入力!$K:$K))","v":0},{"$f":"IF($A132=\"\",0,SUMIF(勘定入力!$F:$F,3&$A132,勘定入力!$J:$J))","v":0},{"$f":"IF($A132=\"\",0,SUMIF(勘定入力!$F:$F,3&$A132,勘定入力!$K:$K))","v":0},{"$f":"IF($A132=\"\",0,SUMIF(勘定入力!$F:$F,4&$A132,勘定入力!$J:$J))","v":0},{"$f":"IF($A132=\"\",0,SUMIF(勘定入力!$F:$F,4&$A132,勘定入力!$K:$K))","v":0},{"$f":"IF($A132=\"\",0,SUMIF(勘定入力!$F:$F,5&$A132,勘定入力!$J:$J))","v":0},{"$f":"IF($A132=\"\",0,SUMIF(勘定入力!$F:$F,5&$A132,勘定入力!$K:$K))","v":0},{"$f":"IF($A132=\"\",0,SUMIF(勘定入力!$F:$F,6&$A132,勘定入力!$J:$J))","v":0},{"$f":"IF($A132=\"\",0,SUMIF(勘定入力!$F:$F,6&$A132,勘定入力!$K:$K))","v":0},{"$f":"IF($A132=\"\",0,SUMIF(勘定入力!$F:$F,7&$A132,勘定入力!$J:$J))","v":0},{"$f":"IF($A132=\"\",0,SUMIF(勘定入力!$F:$F,7&$A132,勘定入力!$K:$K))","v":3000},{"$f":"IF($A132=\"\",0,SUMIF(勘定入力!$F:$F,8&$A132,勘定入力!$J:$J))","v":0},{"$f":"IF($A132=\"\",0,SUMIF(勘定入力!$F:$F,8&$A132,勘定入力!$K:$K))","v":3000},{"$f":"IF($A132=\"\",0,SUMIF(勘定入力!$F:$F,9&$A132,勘定入力!$J:$J))","v":0},{"$f":"IF($A132=\"\",0,SUMIF(勘定入力!$F:$F,9&$A132,勘定入力!$K:$K))","v":0},{"$f":"IF($A132=\"\",0,SUMIF(勘定入力!$F:$F,10&$A132,勘定入力!$J:$J))","v":0},{"$f":"IF($A132=\"\",0,SUMIF(勘定入力!$F:$F,10&$A132,勘定入力!$K:$K))","v":0},{"$f":"IF($A132=\"\",0,SUMIF(勘定入力!$F:$F,11&$A132,勘定入力!$J:$J))","v":0},{"$f":"IF($A132=\"\",0,SUMIF(勘定入力!$F:$F,11&$A132,勘定入力!$K:$K))","v":0},{"$f":"IF($A132=\"\",0,SUMIF(勘定入力!$F:$F,12&$A132,勘定入力!$J:$J))","v":0},{"$f":"IF($A132=\"\",0,SUMIF(勘定入力!$F:$F,12&$A132,勘定入力!$K:$K))","v":0}]
[{"$f":"入力補助!M11","v":"B5社"},0,4000,{"$f":"IF($A133=\"\",0,SUMIF(勘定入力!$F:$F,1&$A133,勘定入力!$J:$J))","v":0},{"$f":"IF($A133=\"\",0,SUMIF(勘定入力!$F:$F,1&$A133,勘定入力!$K:$K))","v":0},{"$f":"IF($A133=\"\",0,SUMIF(勘定入力!$F:$F,2&$A133,勘定入力!$J:$J))","v":0},{"$f":"IF($A133=\"\",0,SUMIF(勘定入力!$F:$F,2&$A133,勘定入力!$K:$K))","v":0},{"$f":"IF($A133=\"\",0,SUMIF(勘定入力!$F:$F,3&$A133,勘定入力!$J:$J))","v":0},{"$f":"IF($A133=\"\",0,SUMIF(勘定入力!$F:$F,3&$A133,勘定入力!$K:$K))","v":0},{"$f":"IF($A133=\"\",0,SUMIF(勘定入力!$F:$F,4&$A133,勘定入力!$J:$J))","v":0},{"$f":"IF($A133=\"\",0,SUMIF(勘定入力!$F:$F,4&$A133,勘定入力!$K:$K))","v":2000},{"$f":"IF($A133=\"\",0,SUMIF(勘定入力!$F:$F,5&$A133,勘定入力!$J:$J))","v":0},{"$f":"IF($A133=\"\",0,SUMIF(勘定入力!$F:$F,5&$A133,勘定入力!$K:$K))","v":2000},{"$f":"IF($A133=\"\",0,SUMIF(勘定入力!$F:$F,6&$A133,勘定入力!$J:$J))","v":0},{"$f":"IF($A133=\"\",0,SUMIF(勘定入力!$F:$F,6&$A133,勘定入力!$K:$K))","v":0},{"$f":"IF($A133=\"\",0,SUMIF(勘定入力!$F:$F,7&$A133,勘定入力!$J:$J))","v":0},{"$f":"IF($A133=\"\",0,SUMIF(勘定入力!$F:$F,7&$A133,勘定入力!$K:$K))","v":0},{"$f":"IF($A133=\"\",0,SUMIF(勘定入力!$F:$F,8&$A133,勘定入力!$J:$J))","v":0},{"$f":"IF($A133=\"\",0,SUMIF(勘定入力!$F:$F,8&$A133,勘定入力!$K:$K))","v":0},{"$f":"IF($A133=\"\",0,SUMIF(勘定入力!$F:$F,9&$A133,勘定入力!$J:$J))","v":0},{"$f":"IF($A133=\"\",0,SUMIF(勘定入力!$F:$F,9&$A133,勘定入力!$K:$K))","v":0},{"$f":"IF($A133=\"\",0,SUMIF(勘定入力!$F:$F,10&$A133,勘定入力!$J:$J))","v":0},{"$f":"IF($A133=\"\",0,SUMIF(勘定入力!$F:$F,10&$A133,勘定入力!$K:$K))","v":0},{"$f":"IF($A133=\"\",0,SUMIF(勘定入力!$F:$F,11&$A133,勘定入力!$J:$J))","v":0},{"$f":"IF($A133=\"\",0,SUMIF(勘定入力!$F:$F,11&$A133,勘定入力!$K:$K))","v":0},{"$f":"IF($A133=\"\",0,SUMIF(勘定入力!$F:$F,12&$A133,勘定入力!$J:$J))","v":0},{"$f":"IF($A133=\"\",0,SUMIF(勘定入力!$F:$F,12&$A133,勘定入力!$K:$K))","v":0}]
[{"$f":"入力補助!M12","v":"B6社"},0,0,{"$f":"IF($A134=\"\",0,SUMIF(勘定入力!$F:$F,1&$A134,勘定入力!$J:$J))","v":0},{"$f":"IF($A134=\"\",0,SUMIF(勘定入力!$F:$F,1&$A134,勘定入力!$K:$K))","v":0},{"$f":"IF($A134=\"\",0,SUMIF(勘定入力!$F:$F,2&$A134,勘定入力!$J:$J))","v":0},{"$f":"IF($A134=\"\",0,SUMIF(勘定入力!$F:$F,2&$A134,勘定入力!$K:$K))","v":0},{"$f":"IF($A134=\"\",0,SUMIF(勘定入力!$F:$F,3&$A134,勘定入力!$J:$J))","v":0},{"$f":"IF($A134=\"\",0,SUMIF(勘定入力!$F:$F,3&$A134,勘定入力!$K:$K))","v":0},{"$f":"IF($A134=\"\",0,SUMIF(勘定入力!$F:$F,4&$A134,勘定入力!$J:$J))","v":0},{"$f":"IF($A134=\"\",0,SUMIF(勘定入力!$F:$F,4&$A134,勘定入力!$K:$K))","v":0},{"$f":"IF($A134=\"\",0,SUMIF(勘定入力!$F:$F,5&$A134,勘定入力!$J:$J))","v":0},{"$f":"IF($A134=\"\",0,SUMIF(勘定入力!$F:$F,5&$A134,勘定入力!$K:$K))","v":0},{"$f":"IF($A134=\"\",0,SUMIF(勘定入力!$F:$F,6&$A134,勘定入力!$J:$J))","v":0},{"$f":"IF($A134=\"\",0,SUMIF(勘定入力!$F:$F,6&$A134,勘定入力!$K:$K))","v":0},{"$f":"IF($A134=\"\",0,SUMIF(勘定入力!$F:$F,7&$A134,勘定入力!$J:$J))","v":0},{"$f":"IF($A134=\"\",0,SUMIF(勘定入力!$F:$F,7&$A134,勘定入力!$K:$K))","v":0},{"$f":"IF($A134=\"\",0,SUMIF(勘定入力!$F:$F,8&$A134,勘定入力!$J:$J))","v":0},{"$f":"IF($A134=\"\",0,SUMIF(勘定入力!$F:$F,8&$A134,勘定入力!$K:$K))","v":0},{"$f":"IF($A134=\"\",0,SUMIF(勘定入力!$F:$F,9&$A134,勘定入力!$J:$J))","v":0},{"$f":"IF($A134=\"\",0,SUMIF(勘定入力!$F:$F,9&$A134,勘定入力!$K:$K))","v":0},{"$f":"IF($A134=\"\",0,SUMIF(勘定入力!$F:$F,10&$A134,勘定入力!$J:$J))","v":0},{"$f":"IF($A134=\"\",0,SUMIF(勘定入力!$F:$F,10&$A134,勘定入力!$K:$K))","v":0},{"$f":"IF($A134=\"\",0,SUMIF(勘定入力!$F:$F,11&$A134,勘定入力!$J:$J))","v":0},{"$f":"IF($A134=\"\",0,SUMIF(勘定入力!$F:$F,11&$A134,勘定入力!$K:$K))","v":0},{"$f":"IF($A134=\"\",0,SUMIF(勘定入力!$F:$F,12&$A134,勘定入力!$J:$J))","v":0},{"$f":"IF($A134=\"\",0,SUMIF(勘定入力!$F:$F,12&$A134,勘定入力!$K:$K))","v":0}]
[{"$f":"入力補助!M13","v":"B7社"},0,0,{"$f":"IF($A135=\"\",0,SUMIF(勘定入力!$F:$F,1&$A135,勘定入力!$J:$J))","v":0},{"$f":"IF($A135=\"\",0,SUMIF(勘定入力!$F:$F,1&$A135,勘定入力!$K:$K))","v":0},{"$f":"IF($A135=\"\",0,SUMIF(勘定入力!$F:$F,2&$A135,勘定入力!$J:$J))","v":0},{"$f":"IF($A135=\"\",0,SUMIF(勘定入力!$F:$F,2&$A135,勘定入力!$K:$K))","v":0},{"$f":"IF($A135=\"\",0,SUMIF(勘定入力!$F:$F,3&$A135,勘定入力!$J:$J))","v":0},{"$f":"IF($A135=\"\",0,SUMIF(勘定入力!$F:$F,3&$A135,勘定入力!$K:$K))","v":0},{"$f":"IF($A135=\"\",0,SUMIF(勘定入力!$F:$F,4&$A135,勘定入力!$J:$J))","v":0},{"$f":"IF($A135=\"\",0,SUMIF(勘定入力!$F:$F,4&$A135,勘定入力!$K:$K))","v":0},{"$f":"IF($A135=\"\",0,SUMIF(勘定入力!$F:$F,5&$A135,勘定入力!$J:$J))","v":0},{"$f":"IF($A135=\"\",0,SUMIF(勘定入力!$F:$F,5&$A135,勘定入力!$K:$K))","v":0},{"$f":"IF($A135=\"\",0,SUMIF(勘定入力!$F:$F,6&$A135,勘定入力!$J:$J))","v":0},{"$f":"IF($A135=\"\",0,SUMIF(勘定入力!$F:$F,6&$A135,勘定入力!$K:$K))","v":0},{"$f":"IF($A135=\"\",0,SUMIF(勘定入力!$F:$F,7&$A135,勘定入力!$J:$J))","v":0},{"$f":"IF($A135=\"\",0,SUMIF(勘定入力!$F:$F,7&$A135,勘定入力!$K:$K))","v":0},{"$f":"IF($A135=\"\",0,SUMIF(勘定入力!$F:$F,8&$A135,勘定入力!$J:$J))","v":0},{"$f":"IF($A135=\"\",0,SUMIF(勘定入力!$F:$F,8&$A135,勘定入力!$K:$K))","v":0},{"$f":"IF($A135=\"\",0,SUMIF(勘定入力!$F:$F,9&$A135,勘定入力!$J:$J))","v":0},{"$f":"IF($A135=\"\",0,SUMIF(勘定入力!$F:$F,9&$A135,勘定入力!$K:$K))","v":0},{"$f":"IF($A135=\"\",0,SUMIF(勘定入力!$F:$F,10&$A135,勘定入力!$J:$J))","v":0},{"$f":"IF($A135=\"\",0,SUMIF(勘定入力!$F:$F,10&$A135,勘定入力!$K:$K))","v":0},{"$f":"IF($A135=\"\",0,SUMIF(勘定入力!$F:$F,11&$A135,勘定入力!$J:$J))","v":0},{"$f":"IF($A135=\"\",0,SUMIF(勘定入力!$F:$F,11&$A135,勘定入力!$K:$K))","v":0},{"$f":"IF($A135=\"\",0,SUMIF(勘定入力!$F:$F,12&$A135,勘定入力!$J:$J))","v":0},{"$f":"IF($A135=\"\",0,SUMIF(勘定入力!$F:$F,12&$A135,勘定入力!$K:$K))","v":0}]
[{"$f":"入力補助!M14","v":"B8社"},0,0,{"$f":"IF($A136=\"\",0,SUMIF(勘定入力!$F:$F,1&$A136,勘定入力!$J:$J))","v":0},{"$f":"IF($A136=\"\",0,SUMIF(勘定入力!$F:$F,1&$A136,勘定入力!$K:$K))","v":0},{"$f":"IF($A136=\"\",0,SUMIF(勘定入力!$F:$F,2&$A136,勘定入力!$J:$J))","v":0},{"$f":"IF($A136=\"\",0,SUMIF(勘定入力!$F:$F,2&$A136,勘定入力!$K:$K))","v":0},{"$f":"IF($A136=\"\",0,SUMIF(勘定入力!$F:$F,3&$A136,勘定入力!$J:$J))","v":0},{"$f":"IF($A136=\"\",0,SUMIF(勘定入力!$F:$F,3&$A136,勘定入力!$K:$K))","v":0},{"$f":"IF($A136=\"\",0,SUMIF(勘定入力!$F:$F,4&$A136,勘定入力!$J:$J))","v":0},{"$f":"IF($A136=\"\",0,SUMIF(勘定入力!$F:$F,4&$A136,勘定入力!$K:$K))","v":0},{"$f":"IF($A136=\"\",0,SUMIF(勘定入力!$F:$F,5&$A136,勘定入力!$J:$J))","v":0},{"$f":"IF($A136=\"\",0,SUMIF(勘定入力!$F:$F,5&$A136,勘定入力!$K:$K))","v":0},{"$f":"IF($A136=\"\",0,SUMIF(勘定入力!$F:$F,6&$A136,勘定入力!$J:$J))","v":0},{"$f":"IF($A136=\"\",0,SUMIF(勘定入力!$F:$F,6&$A136,勘定入力!$K:$K))","v":0},{"$f":"IF($A136=\"\",0,SUMIF(勘定入力!$F:$F,7&$A136,勘定入力!$J:$J))","v":0},{"$f":"IF($A136=\"\",0,SUMIF(勘定入力!$F:$F,7&$A136,勘定入力!$K:$K))","v":0},{"$f":"IF($A136=\"\",0,SUMIF(勘定入力!$F:$F,8&$A136,勘定入力!$J:$J))","v":0},{"$f":"IF($A136=\"\",0,SUMIF(勘定入力!$F:$F,8&$A136,勘定入力!$K:$K))","v":0},{"$f":"IF($A136=\"\",0,SUMIF(勘定入力!$F:$F,9&$A136,勘定入力!$J:$J))","v":0},{"$f":"IF($A136=\"\",0,SUMIF(勘定入力!$F:$F,9&$A136,勘定入力!$K:$K))","v":0},{"$f":"IF($A136=\"\",0,SUMIF(勘定入力!$F:$F,10&$A136,勘定入力!$J:$J))","v":0},{"$f":"IF($A136=\"\",0,SUMIF(勘定入力!$F:$F,10&$A136,勘定入力!$K:$K))","v":0},{"$f":"IF($A136=\"\",0,SUMIF(勘定入力!$F:$F,11&$A136,勘定入力!$J:$J))","v":0},{"$f":"IF($A136=\"\",0,SUMIF(勘定入力!$F:$F,11&$A136,勘定入力!$K:$K))","v":0},{"$f":"IF($A136=\"\",0,SUMIF(勘定入力!$F:$F,12&$A136,勘定入力!$J:$J))","v":0},{"$f":"IF($A136=\"\",0,SUMIF(勘定入力!$F:$F,12&$A136,勘定入力!$K:$K))","v":0}]
[{"$f":"入力補助!M15","v":"B9社"},0,0,{"$f":"IF($A137=\"\",0,SUMIF(勘定入力!$F:$F,1&$A137,勘定入力!$J:$J))","v":0},{"$f":"IF($A137=\"\",0,SUMIF(勘定入力!$F:$F,1&$A137,勘定入力!$K:$K))","v":0},{"$f":"IF($A137=\"\",0,SUMIF(勘定入力!$F:$F,2&$A137,勘定入力!$J:$J))","v":0},{"$f":"IF($A137=\"\",0,SUMIF(勘定入力!$F:$F,2&$A137,勘定入力!$K:$K))","v":0},{"$f":"IF($A137=\"\",0,SUMIF(勘定入力!$F:$F,3&$A137,勘定入力!$J:$J))","v":0},{"$f":"IF($A137=\"\",0,SUMIF(勘定入力!$F:$F,3&$A137,勘定入力!$K:$K))","v":0},{"$f":"IF($A137=\"\",0,SUMIF(勘定入力!$F:$F,4&$A137,勘定入力!$J:$J))","v":0},{"$f":"IF($A137=\"\",0,SUMIF(勘定入力!$F:$F,4&$A137,勘定入力!$K:$K))","v":0},{"$f":"IF($A137=\"\",0,SUMIF(勘定入力!$F:$F,5&$A137,勘定入力!$J:$J))","v":0},{"$f":"IF($A137=\"\",0,SUMIF(勘定入力!$F:$F,5&$A137,勘定入力!$K:$K))","v":0},{"$f":"IF($A137=\"\",0,SUMIF(勘定入力!$F:$F,6&$A137,勘定入力!$J:$J))","v":0},{"$f":"IF($A137=\"\",0,SUMIF(勘定入力!$F:$F,6&$A137,勘定入力!$K:$K))","v":0},{"$f":"IF($A137=\"\",0,SUMIF(勘定入力!$F:$F,7&$A137,勘定入力!$J:$J))","v":0},{"$f":"IF($A137=\"\",0,SUMIF(勘定入力!$F:$F,7&$A137,勘定入力!$K:$K))","v":0},{"$f":"IF($A137=\"\",0,SUMIF(勘定入力!$F:$F,8&$A137,勘定入力!$J:$J))","v":0},{"$f":"IF($A137=\"\",0,SUMIF(勘定入力!$F:$F,8&$A137,勘定入力!$K:$K))","v":0},{"$f":"IF($A137=\"\",0,SUMIF(勘定入力!$F:$F,9&$A137,勘定入力!$J:$J))","v":0},{"$f":"IF($A137=\"\",0,SUMIF(勘定入力!$F:$F,9&$A137,勘定入力!$K:$K))","v":0},{"$f":"IF($A137=\"\",0,SUMIF(勘定入力!$F:$F,10&$A137,勘定入力!$J:$J))","v":0},{"$f":"IF($A137=\"\",0,SUMIF(勘定入力!$F:$F,10&$A137,勘定入力!$K:$K))","v":0},{"$f":"IF($A137=\"\",0,SUMIF(勘定入力!$F:$F,11&$A137,勘定入力!$J:$J))","v":0},{"$f":"IF($A137=\"\",0,SUMIF(勘定入力!$F:$F,11&$A137,勘定入力!$K:$K))","v":0},{"$f":"IF($A137=\"\",0,SUMIF(勘定入力!$F:$F,12&$A137,勘定入力!$J:$J))","v":0},{"$f":"IF($A137=\"\",0,SUMIF(勘定入力!$F:$F,12&$A137,勘定入力!$K:$K))","v":0}]
[{"$f":"入力補助!M16","v":"B10社"},0,0,{"$f":"IF($A138=\"\",0,SUMIF(勘定入力!$F:$F,1&$A138,勘定入力!$J:$J))","v":0},{"$f":"IF($A138=\"\",0,SUMIF(勘定入力!$F:$F,1&$A138,勘定入力!$K:$K))","v":0},{"$f":"IF($A138=\"\",0,SUMIF(勘定入力!$F:$F,2&$A138,勘定入力!$J:$J))","v":0},{"$f":"IF($A138=\"\",0,SUMIF(勘定入力!$F:$F,2&$A138,勘定入力!$K:$K))","v":0},{"$f":"IF($A138=\"\",0,SUMIF(勘定入力!$F:$F,3&$A138,勘定入力!$J:$J))","v":0},{"$f":"IF($A138=\"\",0,SUMIF(勘定入力!$F:$F,3&$A138,勘定入力!$K:$K))","v":0},{"$f":"IF($A138=\"\",0,SUMIF(勘定入力!$F:$F,4&$A138,勘定入力!$J:$J))","v":0},{"$f":"IF($A138=\"\",0,SUMIF(勘定入力!$F:$F,4&$A138,勘定入力!$K:$K))","v":0},{"$f":"IF($A138=\"\",0,SUMIF(勘定入力!$F:$F,5&$A138,勘定入力!$J:$J))","v":0},{"$f":"IF($A138=\"\",0,SUMIF(勘定入力!$F:$F,5&$A138,勘定入力!$K:$K))","v":0},{"$f":"IF($A138=\"\",0,SUMIF(勘定入力!$F:$F,6&$A138,勘定入力!$J:$J))","v":0},{"$f":"IF($A138=\"\",0,SUMIF(勘定入力!$F:$F,6&$A138,勘定入力!$K:$K))","v":0},{"$f":"IF($A138=\"\",0,SUMIF(勘定入力!$F:$F,7&$A138,勘定入力!$J:$J))","v":0},{"$f":"IF($A138=\"\",0,SUMIF(勘定入力!$F:$F,7&$A138,勘定入力!$K:$K))","v":0},{"$f":"IF($A138=\"\",0,SUMIF(勘定入力!$F:$F,8&$A138,勘定入力!$J:$J))","v":0},{"$f":"IF($A138=\"\",0,SUMIF(勘定入力!$F:$F,8&$A138,勘定入力!$K:$K))","v":0},{"$f":"IF($A138=\"\",0,SUMIF(勘定入力!$F:$F,9&$A138,勘定入力!$J:$J))","v":0},{"$f":"IF($A138=\"\",0,SUMIF(勘定入力!$F:$F,9&$A138,勘定入力!$K:$K))","v":0},{"$f":"IF($A138=\"\",0,SUMIF(勘定入力!$F:$F,10&$A138,勘定入力!$J:$J))","v":0},{"$f":"IF($A138=\"\",0,SUMIF(勘定入力!$F:$F,10&$A138,勘定入力!$K:$K))","v":0},{"$f":"IF($A138=\"\",0,SUMIF(勘定入力!$F:$F,11&$A138,勘定入力!$J:$J))","v":0},{"$f":"IF($A138=\"\",0,SUMIF(勘定入力!$F:$F,11&$A138,勘定入力!$K:$K))","v":0},{"$f":"IF($A138=\"\",0,SUMIF(勘定入力!$F:$F,12&$A138,勘定入力!$J:$J))","v":0},{"$f":"IF($A138=\"\",0,SUMIF(勘定入力!$F:$F,12&$A138,勘定入力!$K:$K))","v":0}]
[{"$f":"入力補助!M17","v":"B11社"},0,0,{"$f":"IF($A139=\"\",0,SUMIF(勘定入力!$F:$F,1&$A139,勘定入力!$J:$J))","v":0},{"$f":"IF($A139=\"\",0,SUMIF(勘定入力!$F:$F,1&$A139,勘定入力!$K:$K))","v":0},{"$f":"IF($A139=\"\",0,SUMIF(勘定入力!$F:$F,2&$A139,勘定入力!$J:$J))","v":0},{"$f":"IF($A139=\"\",0,SUMIF(勘定入力!$F:$F,2&$A139,勘定入力!$K:$K))","v":0},{"$f":"IF($A139=\"\",0,SUMIF(勘定入力!$F:$F,3&$A139,勘定入力!$J:$J))","v":0},{"$f":"IF($A139=\"\",0,SUMIF(勘定入力!$F:$F,3&$A139,勘定入力!$K:$K))","v":0},{"$f":"IF($A139=\"\",0,SUMIF(勘定入力!$F:$F,4&$A139,勘定入力!$J:$J))","v":0},{"$f":"IF($A139=\"\",0,SUMIF(勘定入力!$F:$F,4&$A139,勘定入力!$K:$K))","v":0},{"$f":"IF($A139=\"\",0,SUMIF(勘定入力!$F:$F,5&$A139,勘定入力!$J:$J))","v":0},{"$f":"IF($A139=\"\",0,SUMIF(勘定入力!$F:$F,5&$A139,勘定入力!$K:$K))","v":0},{"$f":"IF($A139=\"\",0,SUMIF(勘定入力!$F:$F,6&$A139,勘定入力!$J:$J))","v":0},{"$f":"IF($A139=\"\",0,SUMIF(勘定入力!$F:$F,6&$A139,勘定入力!$K:$K))","v":0},{"$f":"IF($A139=\"\",0,SUMIF(勘定入力!$F:$F,7&$A139,勘定入力!$J:$J))","v":0},{"$f":"IF($A139=\"\",0,SUMIF(勘定入力!$F:$F,7&$A139,勘定入力!$K:$K))","v":0},{"$f":"IF($A139=\"\",0,SUMIF(勘定入力!$F:$F,8&$A139,勘定入力!$J:$J))","v":0},{"$f":"IF($A139=\"\",0,SUMIF(勘定入力!$F:$F,8&$A139,勘定入力!$K:$K))","v":0},{"$f":"IF($A139=\"\",0,SUMIF(勘定入力!$F:$F,9&$A139,勘定入力!$J:$J))","v":0},{"$f":"IF($A139=\"\",0,SUMIF(勘定入力!$F:$F,9&$A139,勘定入力!$K:$K))","v":0},{"$f":"IF($A139=\"\",0,SUMIF(勘定入力!$F:$F,10&$A139,勘定入力!$J:$J))","v":0},{"$f":"IF($A139=\"\",0,SUMIF(勘定入力!$F:$F,10&$A139,勘定入力!$K:$K))","v":0},{"$f":"IF($A139=\"\",0,SUMIF(勘定入力!$F:$F,11&$A139,勘定入力!$J:$J))","v":0},{"$f":"IF($A139=\"\",0,SUMIF(勘定入力!$F:$F,11&$A139,勘定入力!$K:$K))","v":0},{"$f":"IF($A139=\"\",0,SUMIF(勘定入力!$F:$F,12&$A139,勘定入力!$J:$J))","v":0},{"$f":"IF($A139=\"\",0,SUMIF(勘定入力!$F:$F,12&$A139,勘定入力!$K:$K))","v":0}]
[{"$f":"入力補助!M18","v":"B12社"},0,0,{"$f":"IF($A140=\"\",0,SUMIF(勘定入力!$F:$F,1&$A140,勘定入力!$J:$J))","v":0},{"$f":"IF($A140=\"\",0,SUMIF(勘定入力!$F:$F,1&$A140,勘定入力!$K:$K))","v":0},{"$f":"IF($A140=\"\",0,SUMIF(勘定入力!$F:$F,2&$A140,勘定入力!$J:$J))","v":0},{"$f":"IF($A140=\"\",0,SUMIF(勘定入力!$F:$F,2&$A140,勘定入力!$K:$K))","v":0},{"$f":"IF($A140=\"\",0,SUMIF(勘定入力!$F:$F,3&$A140,勘定入力!$J:$J))","v":0},{"$f":"IF($A140=\"\",0,SUMIF(勘定入力!$F:$F,3&$A140,勘定入力!$K:$K))","v":0},{"$f":"IF($A140=\"\",0,SUMIF(勘定入力!$F:$F,4&$A140,勘定入力!$J:$J))","v":0},{"$f":"IF($A140=\"\",0,SUMIF(勘定入力!$F:$F,4&$A140,勘定入力!$K:$K))","v":0},{"$f":"IF($A140=\"\",0,SUMIF(勘定入力!$F:$F,5&$A140,勘定入力!$J:$J))","v":0},{"$f":"IF($A140=\"\",0,SUMIF(勘定入力!$F:$F,5&$A140,勘定入力!$K:$K))","v":0},{"$f":"IF($A140=\"\",0,SUMIF(勘定入力!$F:$F,6&$A140,勘定入力!$J:$J))","v":0},{"$f":"IF($A140=\"\",0,SUMIF(勘定入力!$F:$F,6&$A140,勘定入力!$K:$K))","v":0},{"$f":"IF($A140=\"\",0,SUMIF(勘定入力!$F:$F,7&$A140,勘定入力!$J:$J))","v":0},{"$f":"IF($A140=\"\",0,SUMIF(勘定入力!$F:$F,7&$A140,勘定入力!$K:$K))","v":0},{"$f":"IF($A140=\"\",0,SUMIF(勘定入力!$F:$F,8&$A140,勘定入力!$J:$J))","v":0},{"$f":"IF($A140=\"\",0,SUMIF(勘定入力!$F:$F,8&$A140,勘定入力!$K:$K))","v":0},{"$f":"IF($A140=\"\",0,SUMIF(勘定入力!$F:$F,9&$A140,勘定入力!$J:$J))","v":0},{"$f":"IF($A140=\"\",0,SUMIF(勘定入力!$F:$F,9&$A140,勘定入力!$K:$K))","v":0},{"$f":"IF($A140=\"\",0,SUMIF(勘定入力!$F:$F,10&$A140,勘定入力!$J:$J))","v":0},{"$f":"IF($A140=\"\",0,SUMIF(勘定入力!$F:$F,10&$A140,勘定入力!$K:$K))","v":0},{"$f":"IF($A140=\"\",0,SUMIF(勘定入力!$F:$F,11&$A140,勘定入力!$J:$J))","v":0},{"$f":"IF($A140=\"\",0,SUMIF(勘定入力!$F:$F,11&$A140,勘定入力!$K:$K))","v":0},{"$f":"IF($A140=\"\",0,SUMIF(勘定入力!$F:$F,12&$A140,勘定入力!$J:$J))","v":0},{"$f":"IF($A140=\"\",0,SUMIF(勘定入力!$F:$F,12&$A140,勘定入力!$K:$K))","v":0}]
[{"$f":"入力補助!M19","v":"B13社"},0,0,{"$f":"IF($A141=\"\",0,SUMIF(勘定入力!$F:$F,1&$A141,勘定入力!$J:$J))","v":0},{"$f":"IF($A141=\"\",0,SUMIF(勘定入力!$F:$F,1&$A141,勘定入力!$K:$K))","v":0},{"$f":"IF($A141=\"\",0,SUMIF(勘定入力!$F:$F,2&$A141,勘定入力!$J:$J))","v":0},{"$f":"IF($A141=\"\",0,SUMIF(勘定入力!$F:$F,2&$A141,勘定入力!$K:$K))","v":0},{"$f":"IF($A141=\"\",0,SUMIF(勘定入力!$F:$F,3&$A141,勘定入力!$J:$J))","v":0},{"$f":"IF($A141=\"\",0,SUMIF(勘定入力!$F:$F,3&$A141,勘定入力!$K:$K))","v":0},{"$f":"IF($A141=\"\",0,SUMIF(勘定入力!$F:$F,4&$A141,勘定入力!$J:$J))","v":0},{"$f":"IF($A141=\"\",0,SUMIF(勘定入力!$F:$F,4&$A141,勘定入力!$K:$K))","v":0},{"$f":"IF($A141=\"\",0,SUMIF(勘定入力!$F:$F,5&$A141,勘定入力!$J:$J))","v":0},{"$f":"IF($A141=\"\",0,SUMIF(勘定入力!$F:$F,5&$A141,勘定入力!$K:$K))","v":0},{"$f":"IF($A141=\"\",0,SUMIF(勘定入力!$F:$F,6&$A141,勘定入力!$J:$J))","v":0},{"$f":"IF($A141=\"\",0,SUMIF(勘定入力!$F:$F,6&$A141,勘定入力!$K:$K))","v":0},{"$f":"IF($A141=\"\",0,SUMIF(勘定入力!$F:$F,7&$A141,勘定入力!$J:$J))","v":0},{"$f":"IF($A141=\"\",0,SUMIF(勘定入力!$F:$F,7&$A141,勘定入力!$K:$K))","v":0},{"$f":"IF($A141=\"\",0,SUMIF(勘定入力!$F:$F,8&$A141,勘定入力!$J:$J))","v":0},{"$f":"IF($A141=\"\",0,SUMIF(勘定入力!$F:$F,8&$A141,勘定入力!$K:$K))","v":0},{"$f":"IF($A141=\"\",0,SUMIF(勘定入力!$F:$F,9&$A141,勘定入力!$J:$J))","v":0},{"$f":"IF($A141=\"\",0,SUMIF(勘定入力!$F:$F,9&$A141,勘定入力!$K:$K))","v":0},{"$f":"IF($A141=\"\",0,SUMIF(勘定入力!$F:$F,10&$A141,勘定入力!$J:$J))","v":0},{"$f":"IF($A141=\"\",0,SUMIF(勘定入力!$F:$F,10&$A141,勘定入力!$K:$K))","v":0},{"$f":"IF($A141=\"\",0,SUMIF(勘定入力!$F:$F,11&$A141,勘定入力!$J:$J))","v":0},{"$f":"IF($A141=\"\",0,SUMIF(勘定入力!$F:$F,11&$A141,勘定入力!$K:$K))","v":0},{"$f":"IF($A141=\"\",0,SUMIF(勘定入力!$F:$F,12&$A141,勘定入力!$J:$J))","v":0},{"$f":"IF($A141=\"\",0,SUMIF(勘定入力!$F:$F,12&$A141,勘定入力!$K:$K))","v":0}]
[{"$f":"入力補助!M20","v":"B14社"},0,0,{"$f":"IF($A142=\"\",0,SUMIF(勘定入力!$F:$F,1&$A142,勘定入力!$J:$J))","v":0},{"$f":"IF($A142=\"\",0,SUMIF(勘定入力!$F:$F,1&$A142,勘定入力!$K:$K))","v":0},{"$f":"IF($A142=\"\",0,SUMIF(勘定入力!$F:$F,2&$A142,勘定入力!$J:$J))","v":0},{"$f":"IF($A142=\"\",0,SUMIF(勘定入力!$F:$F,2&$A142,勘定入力!$K:$K))","v":0},{"$f":"IF($A142=\"\",0,SUMIF(勘定入力!$F:$F,3&$A142,勘定入力!$J:$J))","v":0},{"$f":"IF($A142=\"\",0,SUMIF(勘定入力!$F:$F,3&$A142,勘定入力!$K:$K))","v":0},{"$f":"IF($A142=\"\",0,SUMIF(勘定入力!$F:$F,4&$A142,勘定入力!$J:$J))","v":0},{"$f":"IF($A142=\"\",0,SUMIF(勘定入力!$F:$F,4&$A142,勘定入力!$K:$K))","v":0},{"$f":"IF($A142=\"\",0,SUMIF(勘定入力!$F:$F,5&$A142,勘定入力!$J:$J))","v":0},{"$f":"IF($A142=\"\",0,SUMIF(勘定入力!$F:$F,5&$A142,勘定入力!$K:$K))","v":0},{"$f":"IF($A142=\"\",0,SUMIF(勘定入力!$F:$F,6&$A142,勘定入力!$J:$J))","v":0},{"$f":"IF($A142=\"\",0,SUMIF(勘定入力!$F:$F,6&$A142,勘定入力!$K:$K))","v":0},{"$f":"IF($A142=\"\",0,SUMIF(勘定入力!$F:$F,7&$A142,勘定入力!$J:$J))","v":0},{"$f":"IF($A142=\"\",0,SUMIF(勘定入力!$F:$F,7&$A142,勘定入力!$K:$K))","v":0},{"$f":"IF($A142=\"\",0,SUMIF(勘定入力!$F:$F,8&$A142,勘定入力!$J:$J))","v":0},{"$f":"IF($A142=\"\",0,SUMIF(勘定入力!$F:$F,8&$A142,勘定入力!$K:$K))","v":0},{"$f":"IF($A142=\"\",0,SUMIF(勘定入力!$F:$F,9&$A142,勘定入力!$J:$J))","v":0},{"$f":"IF($A142=\"\",0,SUMIF(勘定入力!$F:$F,9&$A142,勘定入力!$K:$K))","v":0},{"$f":"IF($A142=\"\",0,SUMIF(勘定入力!$F:$F,10&$A142,勘定入力!$J:$J))","v":0},{"$f":"IF($A142=\"\",0,SUMIF(勘定入力!$F:$F,10&$A142,勘定入力!$K:$K))","v":0},{"$f":"IF($A142=\"\",0,SUMIF(勘定入力!$F:$F,11&$A142,勘定入力!$J:$J))","v":0},{"$f":"IF($A142=\"\",0,SUMIF(勘定入力!$F:$F,11&$A142,勘定入力!$K:$K))","v":0},{"$f":"IF($A142=\"\",0,SUMIF(勘定入力!$F:$F,12&$A142,勘定入力!$J:$J))","v":0},{"$f":"IF($A142=\"\",0,SUMIF(勘定入力!$F:$F,12&$A142,勘定入力!$K:$K))","v":0}]
[{"$f":"入力補助!M21","v":"B15社"},0,0,{"$f":"IF($A143=\"\",0,SUMIF(勘定入力!$F:$F,1&$A143,勘定入力!$J:$J))","v":0},{"$f":"IF($A143=\"\",0,SUMIF(勘定入力!$F:$F,1&$A143,勘定入力!$K:$K))","v":0},{"$f":"IF($A143=\"\",0,SUMIF(勘定入力!$F:$F,2&$A143,勘定入力!$J:$J))","v":0},{"$f":"IF($A143=\"\",0,SUMIF(勘定入力!$F:$F,2&$A143,勘定入力!$K:$K))","v":0},{"$f":"IF($A143=\"\",0,SUMIF(勘定入力!$F:$F,3&$A143,勘定入力!$J:$J))","v":0},{"$f":"IF($A143=\"\",0,SUMIF(勘定入力!$F:$F,3&$A143,勘定入力!$K:$K))","v":0},{"$f":"IF($A143=\"\",0,SUMIF(勘定入力!$F:$F,4&$A143,勘定入力!$J:$J))","v":0},{"$f":"IF($A143=\"\",0,SUMIF(勘定入力!$F:$F,4&$A143,勘定入力!$K:$K))","v":0},{"$f":"IF($A143=\"\",0,SUMIF(勘定入力!$F:$F,5&$A143,勘定入力!$J:$J))","v":0},{"$f":"IF($A143=\"\",0,SUMIF(勘定入力!$F:$F,5&$A143,勘定入力!$K:$K))","v":0},{"$f":"IF($A143=\"\",0,SUMIF(勘定入力!$F:$F,6&$A143,勘定入力!$J:$J))","v":0},{"$f":"IF($A143=\"\",0,SUMIF(勘定入力!$F:$F,6&$A143,勘定入力!$K:$K))","v":0},{"$f":"IF($A143=\"\",0,SUMIF(勘定入力!$F:$F,7&$A143,勘定入力!$J:$J))","v":0},{"$f":"IF($A143=\"\",0,SUMIF(勘定入力!$F:$F,7&$A143,勘定入力!$K:$K))","v":0},{"$f":"IF($A143=\"\",0,SUMIF(勘定入力!$F:$F,8&$A143,勘定入力!$J:$J))","v":0},{"$f":"IF($A143=\"\",0,SUMIF(勘定入力!$F:$F,8&$A143,勘定入力!$K:$K))","v":0},{"$f":"IF($A143=\"\",0,SUMIF(勘定入力!$F:$F,9&$A143,勘定入力!$J:$J))","v":0},{"$f":"IF($A143=\"\",0,SUMIF(勘定入力!$F:$F,9&$A143,勘定入力!$K:$K))","v":0},{"$f":"IF($A143=\"\",0,SUMIF(勘定入力!$F:$F,10&$A143,勘定入力!$J:$J))","v":0},{"$f":"IF($A143=\"\",0,SUMIF(勘定入力!$F:$F,10&$A143,勘定入力!$K:$K))","v":0},{"$f":"IF($A143=\"\",0,SUMIF(勘定入力!$F:$F,11&$A143,勘定入力!$J:$J))","v":0},{"$f":"IF($A143=\"\",0,SUMIF(勘定入力!$F:$F,11&$A143,勘定入力!$K:$K))","v":0},{"$f":"IF($A143=\"\",0,SUMIF(勘定入力!$F:$F,12&$A143,勘定入力!$J:$J))","v":0},{"$f":"IF($A143=\"\",0,SUMIF(勘定入力!$F:$F,12&$A143,勘定入力!$K:$K))","v":0}]
[{"$f":"入力補助!M22","v":"B16社"},0,0,{"$f":"IF($A144=\"\",0,SUMIF(勘定入力!$F:$F,1&$A144,勘定入力!$J:$J))","v":0},{"$f":"IF($A144=\"\",0,SUMIF(勘定入力!$F:$F,1&$A144,勘定入力!$K:$K))","v":0},{"$f":"IF($A144=\"\",0,SUMIF(勘定入力!$F:$F,2&$A144,勘定入力!$J:$J))","v":0},{"$f":"IF($A144=\"\",0,SUMIF(勘定入力!$F:$F,2&$A144,勘定入力!$K:$K))","v":0},{"$f":"IF($A144=\"\",0,SUMIF(勘定入力!$F:$F,3&$A144,勘定入力!$J:$J))","v":0},{"$f":"IF($A144=\"\",0,SUMIF(勘定入力!$F:$F,3&$A144,勘定入力!$K:$K))","v":0},{"$f":"IF($A144=\"\",0,SUMIF(勘定入力!$F:$F,4&$A144,勘定入力!$J:$J))","v":0},{"$f":"IF($A144=\"\",0,SUMIF(勘定入力!$F:$F,4&$A144,勘定入力!$K:$K))","v":0},{"$f":"IF($A144=\"\",0,SUMIF(勘定入力!$F:$F,5&$A144,勘定入力!$J:$J))","v":0},{"$f":"IF($A144=\"\",0,SUMIF(勘定入力!$F:$F,5&$A144,勘定入力!$K:$K))","v":0},{"$f":"IF($A144=\"\",0,SUMIF(勘定入力!$F:$F,6&$A144,勘定入力!$J:$J))","v":0},{"$f":"IF($A144=\"\",0,SUMIF(勘定入力!$F:$F,6&$A144,勘定入力!$K:$K))","v":0},{"$f":"IF($A144=\"\",0,SUMIF(勘定入力!$F:$F,7&$A144,勘定入力!$J:$J))","v":0},{"$f":"IF($A144=\"\",0,SUMIF(勘定入力!$F:$F,7&$A144,勘定入力!$K:$K))","v":0},{"$f":"IF($A144=\"\",0,SUMIF(勘定入力!$F:$F,8&$A144,勘定入力!$J:$J))","v":0},{"$f":"IF($A144=\"\",0,SUMIF(勘定入力!$F:$F,8&$A144,勘定入力!$K:$K))","v":0},{"$f":"IF($A144=\"\",0,SUMIF(勘定入力!$F:$F,9&$A144,勘定入力!$J:$J))","v":0},{"$f":"IF($A144=\"\",0,SUMIF(勘定入力!$F:$F,9&$A144,勘定入力!$K:$K))","v":0},{"$f":"IF($A144=\"\",0,SUMIF(勘定入力!$F:$F,10&$A144,勘定入力!$J:$J))","v":0},{"$f":"IF($A144=\"\",0,SUMIF(勘定入力!$F:$F,10&$A144,勘定入力!$K:$K))","v":0},{"$f":"IF($A144=\"\",0,SUMIF(勘定入力!$F:$F,11&$A144,勘定入力!$J:$J))","v":0},{"$f":"IF($A144=\"\",0,SUMIF(勘定入力!$F:$F,11&$A144,勘定入力!$K:$K))","v":0},{"$f":"IF($A144=\"\",0,SUMIF(勘定入力!$F:$F,12&$A144,勘定入力!$J:$J))","v":0},{"$f":"IF($A144=\"\",0,SUMIF(勘定入力!$F:$F,12&$A144,勘定入力!$K:$K))","v":0}]
[{"$f":"入力補助!M23","v":0},0,0,{"$f":"IF($A145=\"\",0,SUMIF(勘定入力!$F:$F,1&$A145,勘定入力!$J:$J))","v":0},{"$f":"IF($A145=\"\",0,SUMIF(勘定入力!$F:$F,1&$A145,勘定入力!$K:$K))","v":0},{"$f":"IF($A145=\"\",0,SUMIF(勘定入力!$F:$F,2&$A145,勘定入力!$J:$J))","v":0},{"$f":"IF($A145=\"\",0,SUMIF(勘定入力!$F:$F,2&$A145,勘定入力!$K:$K))","v":0},{"$f":"IF($A145=\"\",0,SUMIF(勘定入力!$F:$F,3&$A145,勘定入力!$J:$J))","v":0},{"$f":"IF($A145=\"\",0,SUMIF(勘定入力!$F:$F,3&$A145,勘定入力!$K:$K))","v":0},{"$f":"IF($A145=\"\",0,SUMIF(勘定入力!$F:$F,4&$A145,勘定入力!$J:$J))","v":0},{"$f":"IF($A145=\"\",0,SUMIF(勘定入力!$F:$F,4&$A145,勘定入力!$K:$K))","v":0},{"$f":"IF($A145=\"\",0,SUMIF(勘定入力!$F:$F,5&$A145,勘定入力!$J:$J))","v":0},{"$f":"IF($A145=\"\",0,SUMIF(勘定入力!$F:$F,5&$A145,勘定入力!$K:$K))","v":0},{"$f":"IF($A145=\"\",0,SUMIF(勘定入力!$F:$F,6&$A145,勘定入力!$J:$J))","v":0},{"$f":"IF($A145=\"\",0,SUMIF(勘定入力!$F:$F,6&$A145,勘定入力!$K:$K))","v":0},{"$f":"IF($A145=\"\",0,SUMIF(勘定入力!$F:$F,7&$A145,勘定入力!$J:$J))","v":0},{"$f":"IF($A145=\"\",0,SUMIF(勘定入力!$F:$F,7&$A145,勘定入力!$K:$K))","v":0},{"$f":"IF($A145=\"\",0,SUMIF(勘定入力!$F:$F,8&$A145,勘定入力!$J:$J))","v":0},{"$f":"IF($A145=\"\",0,SUMIF(勘定入力!$F:$F,8&$A145,勘定入力!$K:$K))","v":0},{"$f":"IF($A145=\"\",0,SUMIF(勘定入力!$F:$F,9&$A145,勘定入力!$J:$J))","v":0},{"$f":"IF($A145=\"\",0,SUMIF(勘定入力!$F:$F,9&$A145,勘定入力!$K:$K))","v":0},{"$f":"IF($A145=\"\",0,SUMIF(勘定入力!$F:$F,10&$A145,勘定入力!$J:$J))","v":0},{"$f":"IF($A145=\"\",0,SUMIF(勘定入力!$F:$F,10&$A145,勘定入力!$K:$K))","v":0},{"$f":"IF($A145=\"\",0,SUMIF(勘定入力!$F:$F,11&$A145,勘定入力!$J:$J))","v":0},{"$f":"IF($A145=\"\",0,SUMIF(勘定入力!$F:$F,11&$A145,勘定入力!$K:$K))","v":0},{"$f":"IF($A145=\"\",0,SUMIF(勘定入力!$F:$F,12&$A145,勘定入力!$J:$J))","v":0},{"$f":"IF($A145=\"\",0,SUMIF(勘定入力!$F:$F,12&$A145,勘定入力!$K:$K))","v":0}]
[{"$f":"入力補助!M24","v":0},0,0,{"$f":"IF($A146=\"\",0,SUMIF(勘定入力!$F:$F,1&$A146,勘定入力!$J:$J))","v":0},{"$f":"IF($A146=\"\",0,SUMIF(勘定入力!$F:$F,1&$A146,勘定入力!$K:$K))","v":0},{"$f":"IF($A146=\"\",0,SUMIF(勘定入力!$F:$F,2&$A146,勘定入力!$J:$J))","v":0},{"$f":"IF($A146=\"\",0,SUMIF(勘定入力!$F:$F,2&$A146,勘定入力!$K:$K))","v":0},{"$f":"IF($A146=\"\",0,SUMIF(勘定入力!$F:$F,3&$A146,勘定入力!$J:$J))","v":0},{"$f":"IF($A146=\"\",0,SUMIF(勘定入力!$F:$F,3&$A146,勘定入力!$K:$K))","v":0},{"$f":"IF($A146=\"\",0,SUMIF(勘定入力!$F:$F,4&$A146,勘定入力!$J:$J))","v":0},{"$f":"IF($A146=\"\",0,SUMIF(勘定入力!$F:$F,4&$A146,勘定入力!$K:$K))","v":0},{"$f":"IF($A146=\"\",0,SUMIF(勘定入力!$F:$F,5&$A146,勘定入力!$J:$J))","v":0},{"$f":"IF($A146=\"\",0,SUMIF(勘定入力!$F:$F,5&$A146,勘定入力!$K:$K))","v":0},{"$f":"IF($A146=\"\",0,SUMIF(勘定入力!$F:$F,6&$A146,勘定入力!$J:$J))","v":0},{"$f":"IF($A146=\"\",0,SUMIF(勘定入力!$F:$F,6&$A146,勘定入力!$K:$K))","v":0},{"$f":"IF($A146=\"\",0,SUMIF(勘定入力!$F:$F,7&$A146,勘定入力!$J:$J))","v":0},{"$f":"IF($A146=\"\",0,SUMIF(勘定入力!$F:$F,7&$A146,勘定入力!$K:$K))","v":0},{"$f":"IF($A146=\"\",0,SUMIF(勘定入力!$F:$F,8&$A146,勘定入力!$J:$J))","v":0},{"$f":"IF($A146=\"\",0,SUMIF(勘定入力!$F:$F,8&$A146,勘定入力!$K:$K))","v":0},{"$f":"IF($A146=\"\",0,SUMIF(勘定入力!$F:$F,9&$A146,勘定入力!$J:$J))","v":0},{"$f":"IF($A146=\"\",0,SUMIF(勘定入力!$F:$F,9&$A146,勘定入力!$K:$K))","v":0},{"$f":"IF($A146=\"\",0,SUMIF(勘定入力!$F:$F,10&$A146,勘定入力!$J:$J))","v":0},{"$f":"IF($A146=\"\",0,SUMIF(勘定入力!$F:$F,10&$A146,勘定入力!$K:$K))","v":0},{"$f":"IF($A146=\"\",0,SUMIF(勘定入力!$F:$F,11&$A146,勘定入力!$J:$J))","v":0},{"$f":"IF($A146=\"\",0,SUMIF(勘定入力!$F:$F,11&$A146,勘定入力!$K:$K))","v":0},{"$f":"IF($A146=\"\",0,SUMIF(勘定入力!$F:$F,12&$A146,勘定入力!$J:$J))","v":0},{"$f":"IF($A146=\"\",0,SUMIF(勘定入力!$F:$F,12&$A146,勘定入力!$K:$K))","v":0}]
[{"$f":"入力補助!M25","v":0},0,0,{"$f":"IF($A147=\"\",0,SUMIF(勘定入力!$F:$F,1&$A147,勘定入力!$J:$J))","v":0},{"$f":"IF($A147=\"\",0,SUMIF(勘定入力!$F:$F,1&$A147,勘定入力!$K:$K))","v":0},{"$f":"IF($A147=\"\",0,SUMIF(勘定入力!$F:$F,2&$A147,勘定入力!$J:$J))","v":0},{"$f":"IF($A147=\"\",0,SUMIF(勘定入力!$F:$F,2&$A147,勘定入力!$K:$K))","v":0},{"$f":"IF($A147=\"\",0,SUMIF(勘定入力!$F:$F,3&$A147,勘定入力!$J:$J))","v":0},{"$f":"IF($A147=\"\",0,SUMIF(勘定入力!$F:$F,3&$A147,勘定入力!$K:$K))","v":0},{"$f":"IF($A147=\"\",0,SUMIF(勘定入力!$F:$F,4&$A147,勘定入力!$J:$J))","v":0},{"$f":"IF($A147=\"\",0,SUMIF(勘定入力!$F:$F,4&$A147,勘定入力!$K:$K))","v":0},{"$f":"IF($A147=\"\",0,SUMIF(勘定入力!$F:$F,5&$A147,勘定入力!$J:$J))","v":0},{"$f":"IF($A147=\"\",0,SUMIF(勘定入力!$F:$F,5&$A147,勘定入力!$K:$K))","v":0},{"$f":"IF($A147=\"\",0,SUMIF(勘定入力!$F:$F,6&$A147,勘定入力!$J:$J))","v":0},{"$f":"IF($A147=\"\",0,SUMIF(勘定入力!$F:$F,6&$A147,勘定入力!$K:$K))","v":0},{"$f":"IF($A147=\"\",0,SUMIF(勘定入力!$F:$F,7&$A147,勘定入力!$J:$J))","v":0},{"$f":"IF($A147=\"\",0,SUMIF(勘定入力!$F:$F,7&$A147,勘定入力!$K:$K))","v":0},{"$f":"IF($A147=\"\",0,SUMIF(勘定入力!$F:$F,8&$A147,勘定入力!$J:$J))","v":0},{"$f":"IF($A147=\"\",0,SUMIF(勘定入力!$F:$F,8&$A147,勘定入力!$K:$K))","v":0},{"$f":"IF($A147=\"\",0,SUMIF(勘定入力!$F:$F,9&$A147,勘定入力!$J:$J))","v":0},{"$f":"IF($A147=\"\",0,SUMIF(勘定入力!$F:$F,9&$A147,勘定入力!$K:$K))","v":0},{"$f":"IF($A147=\"\",0,SUMIF(勘定入力!$F:$F,10&$A147,勘定入力!$J:$J))","v":0},{"$f":"IF($A147=\"\",0,SUMIF(勘定入力!$F:$F,10&$A147,勘定入力!$K:$K))","v":0},{"$f":"IF($A147=\"\",0,SUMIF(勘定入力!$F:$F,11&$A147,勘定入力!$J:$J))","v":0},{"$f":"IF($A147=\"\",0,SUMIF(勘定入力!$F:$F,11&$A147,勘定入力!$K:$K))","v":0},{"$f":"IF($A147=\"\",0,SUMIF(勘定入力!$F:$F,12&$A147,勘定入力!$J:$J))","v":0},{"$f":"IF($A147=\"\",0,SUMIF(勘定入力!$F:$F,12&$A147,勘定入力!$K:$K))","v":0}]
[{"$f":"入力補助!M26","v":0},0,0,{"$f":"IF($A148=\"\",0,SUMIF(勘定入力!$F:$F,1&$A148,勘定入力!$J:$J))","v":0},{"$f":"IF($A148=\"\",0,SUMIF(勘定入力!$F:$F,1&$A148,勘定入力!$K:$K))","v":0},{"$f":"IF($A148=\"\",0,SUMIF(勘定入力!$F:$F,2&$A148,勘定入力!$J:$J))","v":0},{"$f":"IF($A148=\"\",0,SUMIF(勘定入力!$F:$F,2&$A148,勘定入力!$K:$K))","v":0},{"$f":"IF($A148=\"\",0,SUMIF(勘定入力!$F:$F,3&$A148,勘定入力!$J:$J))","v":0},{"$f":"IF($A148=\"\",0,SUMIF(勘定入力!$F:$F,3&$A148,勘定入力!$K:$K))","v":0},{"$f":"IF($A148=\"\",0,SUMIF(勘定入力!$F:$F,4&$A148,勘定入力!$J:$J))","v":0},{"$f":"IF($A148=\"\",0,SUMIF(勘定入力!$F:$F,4&$A148,勘定入力!$K:$K))","v":0},{"$f":"IF($A148=\"\",0,SUMIF(勘定入力!$F:$F,5&$A148,勘定入力!$J:$J))","v":0},{"$f":"IF($A148=\"\",0,SUMIF(勘定入力!$F:$F,5&$A148,勘定入力!$K:$K))","v":0},{"$f":"IF($A148=\"\",0,SUMIF(勘定入力!$F:$F,6&$A148,勘定入力!$J:$J))","v":0},{"$f":"IF($A148=\"\",0,SUMIF(勘定入力!$F:$F,6&$A148,勘定入力!$K:$K))","v":0},{"$f":"IF($A148=\"\",0,SUMIF(勘定入力!$F:$F,7&$A148,勘定入力!$J:$J))","v":0},{"$f":"IF($A148=\"\",0,SUMIF(勘定入力!$F:$F,7&$A148,勘定入力!$K:$K))","v":0},{"$f":"IF($A148=\"\",0,SUMIF(勘定入力!$F:$F,8&$A148,勘定入力!$J:$J))","v":0},{"$f":"IF($A148=\"\",0,SUMIF(勘定入力!$F:$F,8&$A148,勘定入力!$K:$K))","v":0},{"$f":"IF($A148=\"\",0,SUMIF(勘定入力!$F:$F,9&$A148,勘定入力!$J:$J))","v":0},{"$f":"IF($A148=\"\",0,SUMIF(勘定入力!$F:$F,9&$A148,勘定入力!$K:$K))","v":0},{"$f":"IF($A148=\"\",0,SUMIF(勘定入力!$F:$F,10&$A148,勘定入力!$J:$J))","v":0},{"$f":"IF($A148=\"\",0,SUMIF(勘定入力!$F:$F,10&$A148,勘定入力!$K:$K))","v":0},{"$f":"IF($A148=\"\",0,SUMIF(勘定入力!$F:$F,11&$A148,勘定入力!$J:$J))","v":0},{"$f":"IF($A148=\"\",0,SUMIF(勘定入力!$F:$F,11&$A148,勘定入力!$K:$K))","v":0},{"$f":"IF($A148=\"\",0,SUMIF(勘定入力!$F:$F,12&$A148,勘定入力!$J:$J))","v":0},{"$f":"IF($A148=\"\",0,SUMIF(勘定入力!$F:$F,12&$A148,勘定入力!$K:$K))","v":0}]
[{"$f":"入力補助!M27","v":0},0,0,{"$f":"IF($A149=\"\",0,SUMIF(勘定入力!$F:$F,1&$A149,勘定入力!$J:$J))","v":0},{"$f":"IF($A149=\"\",0,SUMIF(勘定入力!$F:$F,1&$A149,勘定入力!$K:$K))","v":0},{"$f":"IF($A149=\"\",0,SUMIF(勘定入力!$F:$F,2&$A149,勘定入力!$J:$J))","v":0},{"$f":"IF($A149=\"\",0,SUMIF(勘定入力!$F:$F,2&$A149,勘定入力!$K:$K))","v":0},{"$f":"IF($A149=\"\",0,SUMIF(勘定入力!$F:$F,3&$A149,勘定入力!$J:$J))","v":0},{"$f":"IF($A149=\"\",0,SUMIF(勘定入力!$F:$F,3&$A149,勘定入力!$K:$K))","v":0},{"$f":"IF($A149=\"\",0,SUMIF(勘定入力!$F:$F,4&$A149,勘定入力!$J:$J))","v":0},{"$f":"IF($A149=\"\",0,SUMIF(勘定入力!$F:$F,4&$A149,勘定入力!$K:$K))","v":0},{"$f":"IF($A149=\"\",0,SUMIF(勘定入力!$F:$F,5&$A149,勘定入力!$J:$J))","v":0},{"$f":"IF($A149=\"\",0,SUMIF(勘定入力!$F:$F,5&$A149,勘定入力!$K:$K))","v":0},{"$f":"IF($A149=\"\",0,SUMIF(勘定入力!$F:$F,6&$A149,勘定入力!$J:$J))","v":0},{"$f":"IF($A149=\"\",0,SUMIF(勘定入力!$F:$F,6&$A149,勘定入力!$K:$K))","v":0},{"$f":"IF($A149=\"\",0,SUMIF(勘定入力!$F:$F,7&$A149,勘定入力!$J:$J))","v":0},{"$f":"IF($A149=\"\",0,SUMIF(勘定入力!$F:$F,7&$A149,勘定入力!$K:$K))","v":0},{"$f":"IF($A149=\"\",0,SUMIF(勘定入力!$F:$F,8&$A149,勘定入力!$J:$J))","v":0},{"$f":"IF($A149=\"\",0,SUMIF(勘定入力!$F:$F,8&$A149,勘定入力!$K:$K))","v":0},{"$f":"IF($A149=\"\",0,SUMIF(勘定入力!$F:$F,9&$A149,勘定入力!$J:$J))","v":0},{"$f":"IF($A149=\"\",0,SUMIF(勘定入力!$F:$F,9&$A149,勘定入力!$K:$K))","v":0},{"$f":"IF($A149=\"\",0,SUMIF(勘定入力!$F:$F,10&$A149,勘定入力!$J:$J))","v":0},{"$f":"IF($A149=\"\",0,SUMIF(勘定入力!$F:$F,10&$A149,勘定入力!$K:$K))","v":0},{"$f":"IF($A149=\"\",0,SUMIF(勘定入力!$F:$F,11&$A149,勘定入力!$J:$J))","v":0},{"$f":"IF($A149=\"\",0,SUMIF(勘定入力!$F:$F,11&$A149,勘定入力!$K:$K))","v":0},{"$f":"IF($A149=\"\",0,SUMIF(勘定入力!$F:$F,12&$A149,勘定入力!$J:$J))","v":0},{"$f":"IF($A149=\"\",0,SUMIF(勘定入力!$F:$F,12&$A149,勘定入力!$K:$K))","v":0}]
[{"$f":"入力補助!M28","v":0},0,0,{"$f":"IF($A150=\"\",0,SUMIF(勘定入力!$F:$F,1&$A150,勘定入力!$J:$J))","v":0},{"$f":"IF($A150=\"\",0,SUMIF(勘定入力!$F:$F,1&$A150,勘定入力!$K:$K))","v":0},{"$f":"IF($A150=\"\",0,SUMIF(勘定入力!$F:$F,2&$A150,勘定入力!$J:$J))","v":0},{"$f":"IF($A150=\"\",0,SUMIF(勘定入力!$F:$F,2&$A150,勘定入力!$K:$K))","v":0},{"$f":"IF($A150=\"\",0,SUMIF(勘定入力!$F:$F,3&$A150,勘定入力!$J:$J))","v":0},{"$f":"IF($A150=\"\",0,SUMIF(勘定入力!$F:$F,3&$A150,勘定入力!$K:$K))","v":0},{"$f":"IF($A150=\"\",0,SUMIF(勘定入力!$F:$F,4&$A150,勘定入力!$J:$J))","v":0},{"$f":"IF($A150=\"\",0,SUMIF(勘定入力!$F:$F,4&$A150,勘定入力!$K:$K))","v":0},{"$f":"IF($A150=\"\",0,SUMIF(勘定入力!$F:$F,5&$A150,勘定入力!$J:$J))","v":0},{"$f":"IF($A150=\"\",0,SUMIF(勘定入力!$F:$F,5&$A150,勘定入力!$K:$K))","v":0},{"$f":"IF($A150=\"\",0,SUMIF(勘定入力!$F:$F,6&$A150,勘定入力!$J:$J))","v":0},{"$f":"IF($A150=\"\",0,SUMIF(勘定入力!$F:$F,6&$A150,勘定入力!$K:$K))","v":0},{"$f":"IF($A150=\"\",0,SUMIF(勘定入力!$F:$F,7&$A150,勘定入力!$J:$J))","v":0},{"$f":"IF($A150=\"\",0,SUMIF(勘定入力!$F:$F,7&$A150,勘定入力!$K:$K))","v":0},{"$f":"IF($A150=\"\",0,SUMIF(勘定入力!$F:$F,8&$A150,勘定入力!$J:$J))","v":0},{"$f":"IF($A150=\"\",0,SUMIF(勘定入力!$F:$F,8&$A150,勘定入力!$K:$K))","v":0},{"$f":"IF($A150=\"\",0,SUMIF(勘定入力!$F:$F,9&$A150,勘定入力!$J:$J))","v":0},{"$f":"IF($A150=\"\",0,SUMIF(勘定入力!$F:$F,9&$A150,勘定入力!$K:$K))","v":0},{"$f":"IF($A150=\"\",0,SUMIF(勘定入力!$F:$F,10&$A150,勘定入力!$J:$J))","v":0},{"$f":"IF($A150=\"\",0,SUMIF(勘定入力!$F:$F,10&$A150,勘定入力!$K:$K))","v":0},{"$f":"IF($A150=\"\",0,SUMIF(勘定入力!$F:$F,11&$A150,勘定入力!$J:$J))","v":0},{"$f":"IF($A150=\"\",0,SUMIF(勘定入力!$F:$F,11&$A150,勘定入力!$K:$K))","v":0},{"$f":"IF($A150=\"\",0,SUMIF(勘定入力!$F:$F,12&$A150,勘定入力!$J:$J))","v":0},{"$f":"IF($A150=\"\",0,SUMIF(勘定入力!$F:$F,12&$A150,勘定入力!$K:$K))","v":0}]
[{"$f":"入力補助!M29","v":0},0,0,{"$f":"IF($A151=\"\",0,SUMIF(勘定入力!$F:$F,1&$A151,勘定入力!$J:$J))","v":0},{"$f":"IF($A151=\"\",0,SUMIF(勘定入力!$F:$F,1&$A151,勘定入力!$K:$K))","v":0},{"$f":"IF($A151=\"\",0,SUMIF(勘定入力!$F:$F,2&$A151,勘定入力!$J:$J))","v":0},{"$f":"IF($A151=\"\",0,SUMIF(勘定入力!$F:$F,2&$A151,勘定入力!$K:$K))","v":0},{"$f":"IF($A151=\"\",0,SUMIF(勘定入力!$F:$F,3&$A151,勘定入力!$J:$J))","v":0},{"$f":"IF($A151=\"\",0,SUMIF(勘定入力!$F:$F,3&$A151,勘定入力!$K:$K))","v":0},{"$f":"IF($A151=\"\",0,SUMIF(勘定入力!$F:$F,4&$A151,勘定入力!$J:$J))","v":0},{"$f":"IF($A151=\"\",0,SUMIF(勘定入力!$F:$F,4&$A151,勘定入力!$K:$K))","v":0},{"$f":"IF($A151=\"\",0,SUMIF(勘定入力!$F:$F,5&$A151,勘定入力!$J:$J))","v":0},{"$f":"IF($A151=\"\",0,SUMIF(勘定入力!$F:$F,5&$A151,勘定入力!$K:$K))","v":0},{"$f":"IF($A151=\"\",0,SUMIF(勘定入力!$F:$F,6&$A151,勘定入力!$J:$J))","v":0},{"$f":"IF($A151=\"\",0,SUMIF(勘定入力!$F:$F,6&$A151,勘定入力!$K:$K))","v":0},{"$f":"IF($A151=\"\",0,SUMIF(勘定入力!$F:$F,7&$A151,勘定入力!$J:$J))","v":0},{"$f":"IF($A151=\"\",0,SUMIF(勘定入力!$F:$F,7&$A151,勘定入力!$K:$K))","v":0},{"$f":"IF($A151=\"\",0,SUMIF(勘定入力!$F:$F,8&$A151,勘定入力!$J:$J))","v":0},{"$f":"IF($A151=\"\",0,SUMIF(勘定入力!$F:$F,8&$A151,勘定入力!$K:$K))","v":0},{"$f":"IF($A151=\"\",0,SUMIF(勘定入力!$F:$F,9&$A151,勘定入力!$J:$J))","v":0},{"$f":"IF($A151=\"\",0,SUMIF(勘定入力!$F:$F,9&$A151,勘定入力!$K:$K))","v":0},{"$f":"IF($A151=\"\",0,SUMIF(勘定入力!$F:$F,10&$A151,勘定入力!$J:$J))","v":0},{"$f":"IF($A151=\"\",0,SUMIF(勘定入力!$F:$F,10&$A151,勘定入力!$K:$K))","v":0},{"$f":"IF($A151=\"\",0,SUMIF(勘定入力!$F:$F,11&$A151,勘定入力!$J:$J))","v":0},{"$f":"IF($A151=\"\",0,SUMIF(勘定入力!$F:$F,11&$A151,勘定入力!$K:$K))","v":0},{"$f":"IF($A151=\"\",0,SUMIF(勘定入力!$F:$F,12&$A151,勘定入力!$J:$J))","v":0},{"$f":"IF($A151=\"\",0,SUMIF(勘定入力!$F:$F,12&$A151,勘定入力!$K:$K))","v":0}]
[{"$f":"入力補助!M30","v":0},0,0,{"$f":"IF($A152=\"\",0,SUMIF(勘定入力!$F:$F,1&$A152,勘定入力!$J:$J))","v":0},{"$f":"IF($A152=\"\",0,SUMIF(勘定入力!$F:$F,1&$A152,勘定入力!$K:$K))","v":0},{"$f":"IF($A152=\"\",0,SUMIF(勘定入力!$F:$F,2&$A152,勘定入力!$J:$J))","v":0},{"$f":"IF($A152=\"\",0,SUMIF(勘定入力!$F:$F,2&$A152,勘定入力!$K:$K))","v":0},{"$f":"IF($A152=\"\",0,SUMIF(勘定入力!$F:$F,3&$A152,勘定入力!$J:$J))","v":0},{"$f":"IF($A152=\"\",0,SUMIF(勘定入力!$F:$F,3&$A152,勘定入力!$K:$K))","v":0},{"$f":"IF($A152=\"\",0,SUMIF(勘定入力!$F:$F,4&$A152,勘定入力!$J:$J))","v":0},{"$f":"IF($A152=\"\",0,SUMIF(勘定入力!$F:$F,4&$A152,勘定入力!$K:$K))","v":0},{"$f":"IF($A152=\"\",0,SUMIF(勘定入力!$F:$F,5&$A152,勘定入力!$J:$J))","v":0},{"$f":"IF($A152=\"\",0,SUMIF(勘定入力!$F:$F,5&$A152,勘定入力!$K:$K))","v":0},{"$f":"IF($A152=\"\",0,SUMIF(勘定入力!$F:$F,6&$A152,勘定入力!$J:$J))","v":0},{"$f":"IF($A152=\"\",0,SUMIF(勘定入力!$F:$F,6&$A152,勘定入力!$K:$K))","v":0},{"$f":"IF($A152=\"\",0,SUMIF(勘定入力!$F:$F,7&$A152,勘定入力!$J:$J))","v":0},{"$f":"IF($A152=\"\",0,SUMIF(勘定入力!$F:$F,7&$A152,勘定入力!$K:$K))","v":0},{"$f":"IF($A152=\"\",0,SUMIF(勘定入力!$F:$F,8&$A152,勘定入力!$J:$J))","v":0},{"$f":"IF($A152=\"\",0,SUMIF(勘定入力!$F:$F,8&$A152,勘定入力!$K:$K))","v":0},{"$f":"IF($A152=\"\",0,SUMIF(勘定入力!$F:$F,9&$A152,勘定入力!$J:$J))","v":0},{"$f":"IF($A152=\"\",0,SUMIF(勘定入力!$F:$F,9&$A152,勘定入力!$K:$K))","v":0},{"$f":"IF($A152=\"\",0,SUMIF(勘定入力!$F:$F,10&$A152,勘定入力!$J:$J))","v":0},{"$f":"IF($A152=\"\",0,SUMIF(勘定入力!$F:$F,10&$A152,勘定入力!$K:$K))","v":0},{"$f":"IF($A152=\"\",0,SUMIF(勘定入力!$F:$F,11&$A152,勘定入力!$J:$J))","v":0},{"$f":"IF($A152=\"\",0,SUMIF(勘定入力!$F:$F,11&$A152,勘定入力!$K:$K))","v":0},{"$f":"IF($A152=\"\",0,SUMIF(勘定入力!$F:$F,12&$A152,勘定入力!$J:$J))","v":0},{"$f":"IF($A152=\"\",0,SUMIF(勘定入力!$F:$F,12&$A152,勘定入力!$K:$K))","v":0}]
[{"$f":"入力補助!M31","v":0},0,0,{"$f":"IF($A153=\"\",0,SUMIF(勘定入力!$F:$F,1&$A153,勘定入力!$J:$J))","v":0},{"$f":"IF($A153=\"\",0,SUMIF(勘定入力!$F:$F,1&$A153,勘定入力!$K:$K))","v":0},{"$f":"IF($A153=\"\",0,SUMIF(勘定入力!$F:$F,2&$A153,勘定入力!$J:$J))","v":0},{"$f":"IF($A153=\"\",0,SUMIF(勘定入力!$F:$F,2&$A153,勘定入力!$K:$K))","v":0},{"$f":"IF($A153=\"\",0,SUMIF(勘定入力!$F:$F,3&$A153,勘定入力!$J:$J))","v":0},{"$f":"IF($A153=\"\",0,SUMIF(勘定入力!$F:$F,3&$A153,勘定入力!$K:$K))","v":0},{"$f":"IF($A153=\"\",0,SUMIF(勘定入力!$F:$F,4&$A153,勘定入力!$J:$J))","v":0},{"$f":"IF($A153=\"\",0,SUMIF(勘定入力!$F:$F,4&$A153,勘定入力!$K:$K))","v":0},{"$f":"IF($A153=\"\",0,SUMIF(勘定入力!$F:$F,5&$A153,勘定入力!$J:$J))","v":0},{"$f":"IF($A153=\"\",0,SUMIF(勘定入力!$F:$F,5&$A153,勘定入力!$K:$K))","v":0},{"$f":"IF($A153=\"\",0,SUMIF(勘定入力!$F:$F,6&$A153,勘定入力!$J:$J))","v":0},{"$f":"IF($A153=\"\",0,SUMIF(勘定入力!$F:$F,6&$A153,勘定入力!$K:$K))","v":0},{"$f":"IF($A153=\"\",0,SUMIF(勘定入力!$F:$F,7&$A153,勘定入力!$J:$J))","v":0},{"$f":"IF($A153=\"\",0,SUMIF(勘定入力!$F:$F,7&$A153,勘定入力!$K:$K))","v":0},{"$f":"IF($A153=\"\",0,SUMIF(勘定入力!$F:$F,8&$A153,勘定入力!$J:$J))","v":0},{"$f":"IF($A153=\"\",0,SUMIF(勘定入力!$F:$F,8&$A153,勘定入力!$K:$K))","v":0},{"$f":"IF($A153=\"\",0,SUMIF(勘定入力!$F:$F,9&$A153,勘定入力!$J:$J))","v":0},{"$f":"IF($A153=\"\",0,SUMIF(勘定入力!$F:$F,9&$A153,勘定入力!$K:$K))","v":0},{"$f":"IF($A153=\"\",0,SUMIF(勘定入力!$F:$F,10&$A153,勘定入力!$J:$J))","v":0},{"$f":"IF($A153=\"\",0,SUMIF(勘定入力!$F:$F,10&$A153,勘定入力!$K:$K))","v":0},{"$f":"IF($A153=\"\",0,SUMIF(勘定入力!$F:$F,11&$A153,勘定入力!$J:$J))","v":0},{"$f":"IF($A153=\"\",0,SUMIF(勘定入力!$F:$F,11&$A153,勘定入力!$K:$K))","v":0},{"$f":"IF($A153=\"\",0,SUMIF(勘定入力!$F:$F,12&$A153,勘定入力!$J:$J))","v":0},{"$f":"IF($A153=\"\",0,SUMIF(勘定入力!$F:$F,12&$A153,勘定入力!$K:$K))","v":0}]
[{"$f":"入力補助!M32","v":0},0,0,{"$f":"IF($A154=\"\",0,SUMIF(勘定入力!$F:$F,1&$A154,勘定入力!$J:$J))","v":0},{"$f":"IF($A154=\"\",0,SUMIF(勘定入力!$F:$F,1&$A154,勘定入力!$K:$K))","v":0},{"$f":"IF($A154=\"\",0,SUMIF(勘定入力!$F:$F,2&$A154,勘定入力!$J:$J))","v":0},{"$f":"IF($A154=\"\",0,SUMIF(勘定入力!$F:$F,2&$A154,勘定入力!$K:$K))","v":0},{"$f":"IF($A154=\"\",0,SUMIF(勘定入力!$F:$F,3&$A154,勘定入力!$J:$J))","v":0},{"$f":"IF($A154=\"\",0,SUMIF(勘定入力!$F:$F,3&$A154,勘定入力!$K:$K))","v":0},{"$f":"IF($A154=\"\",0,SUMIF(勘定入力!$F:$F,4&$A154,勘定入力!$J:$J))","v":0},{"$f":"IF($A154=\"\",0,SUMIF(勘定入力!$F:$F,4&$A154,勘定入力!$K:$K))","v":0},{"$f":"IF($A154=\"\",0,SUMIF(勘定入力!$F:$F,5&$A154,勘定入力!$J:$J))","v":0},{"$f":"IF($A154=\"\",0,SUMIF(勘定入力!$F:$F,5&$A154,勘定入力!$K:$K))","v":0},{"$f":"IF($A154=\"\",0,SUMIF(勘定入力!$F:$F,6&$A154,勘定入力!$J:$J))","v":0},{"$f":"IF($A154=\"\",0,SUMIF(勘定入力!$F:$F,6&$A154,勘定入力!$K:$K))","v":0},{"$f":"IF($A154=\"\",0,SUMIF(勘定入力!$F:$F,7&$A154,勘定入力!$J:$J))","v":0},{"$f":"IF($A154=\"\",0,SUMIF(勘定入力!$F:$F,7&$A154,勘定入力!$K:$K))","v":0},{"$f":"IF($A154=\"\",0,SUMIF(勘定入力!$F:$F,8&$A154,勘定入力!$J:$J))","v":0},{"$f":"IF($A154=\"\",0,SUMIF(勘定入力!$F:$F,8&$A154,勘定入力!$K:$K))","v":0},{"$f":"IF($A154=\"\",0,SUMIF(勘定入力!$F:$F,9&$A154,勘定入力!$J:$J))","v":0},{"$f":"IF($A154=\"\",0,SUMIF(勘定入力!$F:$F,9&$A154,勘定入力!$K:$K))","v":0},{"$f":"IF($A154=\"\",0,SUMIF(勘定入力!$F:$F,10&$A154,勘定入力!$J:$J))","v":0},{"$f":"IF($A154=\"\",0,SUMIF(勘定入力!$F:$F,10&$A154,勘定入力!$K:$K))","v":0},{"$f":"IF($A154=\"\",0,SUMIF(勘定入力!$F:$F,11&$A154,勘定入力!$J:$J))","v":0},{"$f":"IF($A154=\"\",0,SUMIF(勘定入力!$F:$F,11&$A154,勘定入力!$K:$K))","v":0},{"$f":"IF($A154=\"\",0,SUMIF(勘定入力!$F:$F,12&$A154,勘定入力!$J:$J))","v":0},{"$f":"IF($A154=\"\",0,SUMIF(勘定入力!$F:$F,12&$A154,勘定入力!$K:$K))","v":0}]
[{"$f":"入力補助!M33","v":0},0,0,{"$f":"IF($A155=\"\",0,SUMIF(勘定入力!$F:$F,1&$A155,勘定入力!$J:$J))","v":0},{"$f":"IF($A155=\"\",0,SUMIF(勘定入力!$F:$F,1&$A155,勘定入力!$K:$K))","v":0},{"$f":"IF($A155=\"\",0,SUMIF(勘定入力!$F:$F,2&$A155,勘定入力!$J:$J))","v":0},{"$f":"IF($A155=\"\",0,SUMIF(勘定入力!$F:$F,2&$A155,勘定入力!$K:$K))","v":0},{"$f":"IF($A155=\"\",0,SUMIF(勘定入力!$F:$F,3&$A155,勘定入力!$J:$J))","v":0},{"$f":"IF($A155=\"\",0,SUMIF(勘定入力!$F:$F,3&$A155,勘定入力!$K:$K))","v":0},{"$f":"IF($A155=\"\",0,SUMIF(勘定入力!$F:$F,4&$A155,勘定入力!$J:$J))","v":0},{"$f":"IF($A155=\"\",0,SUMIF(勘定入力!$F:$F,4&$A155,勘定入力!$K:$K))","v":0},{"$f":"IF($A155=\"\",0,SUMIF(勘定入力!$F:$F,5&$A155,勘定入力!$J:$J))","v":0},{"$f":"IF($A155=\"\",0,SUMIF(勘定入力!$F:$F,5&$A155,勘定入力!$K:$K))","v":0},{"$f":"IF($A155=\"\",0,SUMIF(勘定入力!$F:$F,6&$A155,勘定入力!$J:$J))","v":0},{"$f":"IF($A155=\"\",0,SUMIF(勘定入力!$F:$F,6&$A155,勘定入力!$K:$K))","v":0},{"$f":"IF($A155=\"\",0,SUMIF(勘定入力!$F:$F,7&$A155,勘定入力!$J:$J))","v":0},{"$f":"IF($A155=\"\",0,SUMIF(勘定入力!$F:$F,7&$A155,勘定入力!$K:$K))","v":0},{"$f":"IF($A155=\"\",0,SUMIF(勘定入力!$F:$F,8&$A155,勘定入力!$J:$J))","v":0},{"$f":"IF($A155=\"\",0,SUMIF(勘定入力!$F:$F,8&$A155,勘定入力!$K:$K))","v":0},{"$f":"IF($A155=\"\",0,SUMIF(勘定入力!$F:$F,9&$A155,勘定入力!$J:$J))","v":0},{"$f":"IF($A155=\"\",0,SUMIF(勘定入力!$F:$F,9&$A155,勘定入力!$K:$K))","v":0},{"$f":"IF($A155=\"\",0,SUMIF(勘定入力!$F:$F,10&$A155,勘定入力!$J:$J))","v":0},{"$f":"IF($A155=\"\",0,SUMIF(勘定入力!$F:$F,10&$A155,勘定入力!$K:$K))","v":0},{"$f":"IF($A155=\"\",0,SUMIF(勘定入力!$F:$F,11&$A155,勘定入力!$J:$J))","v":0},{"$f":"IF($A155=\"\",0,SUMIF(勘定入力!$F:$F,11&$A155,勘定入力!$K:$K))","v":0},{"$f":"IF($A155=\"\",0,SUMIF(勘定入力!$F:$F,12&$A155,勘定入力!$J:$J))","v":0},{"$f":"IF($A155=\"\",0,SUMIF(勘定入力!$F:$F,12&$A155,勘定入力!$K:$K))","v":0}]
[{"$f":"入力補助!M34","v":0},0,0,{"$f":"IF($A156=\"\",0,SUMIF(勘定入力!$F:$F,1&$A156,勘定入力!$J:$J))","v":0},{"$f":"IF($A156=\"\",0,SUMIF(勘定入力!$F:$F,1&$A156,勘定入力!$K:$K))","v":0},{"$f":"IF($A156=\"\",0,SUMIF(勘定入力!$F:$F,2&$A156,勘定入力!$J:$J))","v":0},{"$f":"IF($A156=\"\",0,SUMIF(勘定入力!$F:$F,2&$A156,勘定入力!$K:$K))","v":0},{"$f":"IF($A156=\"\",0,SUMIF(勘定入力!$F:$F,3&$A156,勘定入力!$J:$J))","v":0},{"$f":"IF($A156=\"\",0,SUMIF(勘定入力!$F:$F,3&$A156,勘定入力!$K:$K))","v":0},{"$f":"IF($A156=\"\",0,SUMIF(勘定入力!$F:$F,4&$A156,勘定入力!$J:$J))","v":0},{"$f":"IF($A156=\"\",0,SUMIF(勘定入力!$F:$F,4&$A156,勘定入力!$K:$K))","v":0},{"$f":"IF($A156=\"\",0,SUMIF(勘定入力!$F:$F,5&$A156,勘定入力!$J:$J))","v":0},{"$f":"IF($A156=\"\",0,SUMIF(勘定入力!$F:$F,5&$A156,勘定入力!$K:$K))","v":0},{"$f":"IF($A156=\"\",0,SUMIF(勘定入力!$F:$F,6&$A156,勘定入力!$J:$J))","v":0},{"$f":"IF($A156=\"\",0,SUMIF(勘定入力!$F:$F,6&$A156,勘定入力!$K:$K))","v":0},{"$f":"IF($A156=\"\",0,SUMIF(勘定入力!$F:$F,7&$A156,勘定入力!$J:$J))","v":0},{"$f":"IF($A156=\"\",0,SUMIF(勘定入力!$F:$F,7&$A156,勘定入力!$K:$K))","v":0},{"$f":"IF($A156=\"\",0,SUMIF(勘定入力!$F:$F,8&$A156,勘定入力!$J:$J))","v":0},{"$f":"IF($A156=\"\",0,SUMIF(勘定入力!$F:$F,8&$A156,勘定入力!$K:$K))","v":0},{"$f":"IF($A156=\"\",0,SUMIF(勘定入力!$F:$F,9&$A156,勘定入力!$J:$J))","v":0},{"$f":"IF($A156=\"\",0,SUMIF(勘定入力!$F:$F,9&$A156,勘定入力!$K:$K))","v":0},{"$f":"IF($A156=\"\",0,SUMIF(勘定入力!$F:$F,10&$A156,勘定入力!$J:$J))","v":0},{"$f":"IF($A156=\"\",0,SUMIF(勘定入力!$F:$F,10&$A156,勘定入力!$K:$K))","v":0},{"$f":"IF($A156=\"\",0,SUMIF(勘定入力!$F:$F,11&$A156,勘定入力!$J:$J))","v":0},{"$f":"IF($A156=\"\",0,SUMIF(勘定入力!$F:$F,11&$A156,勘定入力!$K:$K))","v":0},{"$f":"IF($A156=\"\",0,SUMIF(勘定入力!$F:$F,12&$A156,勘定入力!$J:$J))","v":0},{"$f":"IF($A156=\"\",0,SUMIF(勘定入力!$F:$F,12&$A156,勘定入力!$K:$K))","v":0}]
[{"$f":"入力補助!M35","v":0},0,0,{"$f":"IF($A157=\"\",0,SUMIF(勘定入力!$F:$F,1&$A157,勘定入力!$J:$J))","v":0},{"$f":"IF($A157=\"\",0,SUMIF(勘定入力!$F:$F,1&$A157,勘定入力!$K:$K))","v":0},{"$f":"IF($A157=\"\",0,SUMIF(勘定入力!$F:$F,2&$A157,勘定入力!$J:$J))","v":0},{"$f":"IF($A157=\"\",0,SUMIF(勘定入力!$F:$F,2&$A157,勘定入力!$K:$K))","v":0},{"$f":"IF($A157=\"\",0,SUMIF(勘定入力!$F:$F,3&$A157,勘定入力!$J:$J))","v":0},{"$f":"IF($A157=\"\",0,SUMIF(勘定入力!$F:$F,3&$A157,勘定入力!$K:$K))","v":0},{"$f":"IF($A157=\"\",0,SUMIF(勘定入力!$F:$F,4&$A157,勘定入力!$J:$J))","v":0},{"$f":"IF($A157=\"\",0,SUMIF(勘定入力!$F:$F,4&$A157,勘定入力!$K:$K))","v":0},{"$f":"IF($A157=\"\",0,SUMIF(勘定入力!$F:$F,5&$A157,勘定入力!$J:$J))","v":0},{"$f":"IF($A157=\"\",0,SUMIF(勘定入力!$F:$F,5&$A157,勘定入力!$K:$K))","v":0},{"$f":"IF($A157=\"\",0,SUMIF(勘定入力!$F:$F,6&$A157,勘定入力!$J:$J))","v":0},{"$f":"IF($A157=\"\",0,SUMIF(勘定入力!$F:$F,6&$A157,勘定入力!$K:$K))","v":0},{"$f":"IF($A157=\"\",0,SUMIF(勘定入力!$F:$F,7&$A157,勘定入力!$J:$J))","v":0},{"$f":"IF($A157=\"\",0,SUMIF(勘定入力!$F:$F,7&$A157,勘定入力!$K:$K))","v":0},{"$f":"IF($A157=\"\",0,SUMIF(勘定入力!$F:$F,8&$A157,勘定入力!$J:$J))","v":0},{"$f":"IF($A157=\"\",0,SUMIF(勘定入力!$F:$F,8&$A157,勘定入力!$K:$K))","v":0},{"$f":"IF($A157=\"\",0,SUMIF(勘定入力!$F:$F,9&$A157,勘定入力!$J:$J))","v":0},{"$f":"IF($A157=\"\",0,SUMIF(勘定入力!$F:$F,9&$A157,勘定入力!$K:$K))","v":0},{"$f":"IF($A157=\"\",0,SUMIF(勘定入力!$F:$F,10&$A157,勘定入力!$J:$J))","v":0},{"$f":"IF($A157=\"\",0,SUMIF(勘定入力!$F:$F,10&$A157,勘定入力!$K:$K))","v":0},{"$f":"IF($A157=\"\",0,SUMIF(勘定入力!$F:$F,11&$A157,勘定入力!$J:$J))","v":0},{"$f":"IF($A157=\"\",0,SUMIF(勘定入力!$F:$F,11&$A157,勘定入力!$K:$K))","v":0},{"$f":"IF($A157=\"\",0,SUMIF(勘定入力!$F:$F,12&$A157,勘定入力!$J:$J))","v":0},{"$f":"IF($A157=\"\",0,SUMIF(勘定入力!$F:$F,12&$A157,勘定入力!$K:$K))","v":0}]
[{"$f":"入力補助!M36","v":0},0,0,{"$f":"IF($A158=\"\",0,SUMIF(勘定入力!$F:$F,1&$A158,勘定入力!$J:$J))","v":0},{"$f":"IF($A158=\"\",0,SUMIF(勘定入力!$F:$F,1&$A158,勘定入力!$K:$K))","v":0},{"$f":"IF($A158=\"\",0,SUMIF(勘定入力!$F:$F,2&$A158,勘定入力!$J:$J))","v":0},{"$f":"IF($A158=\"\",0,SUMIF(勘定入力!$F:$F,2&$A158,勘定入力!$K:$K))","v":0},{"$f":"IF($A158=\"\",0,SUMIF(勘定入力!$F:$F,3&$A158,勘定入力!$J:$J))","v":0},{"$f":"IF($A158=\"\",0,SUMIF(勘定入力!$F:$F,3&$A158,勘定入力!$K:$K))","v":0},{"$f":"IF($A158=\"\",0,SUMIF(勘定入力!$F:$F,4&$A158,勘定入力!$J:$J))","v":0},{"$f":"IF($A158=\"\",0,SUMIF(勘定入力!$F:$F,4&$A158,勘定入力!$K:$K))","v":0},{"$f":"IF($A158=\"\",0,SUMIF(勘定入力!$F:$F,5&$A158,勘定入力!$J:$J))","v":0},{"$f":"IF($A158=\"\",0,SUMIF(勘定入力!$F:$F,5&$A158,勘定入力!$K:$K))","v":0},{"$f":"IF($A158=\"\",0,SUMIF(勘定入力!$F:$F,6&$A158,勘定入力!$J:$J))","v":0},{"$f":"IF($A158=\"\",0,SUMIF(勘定入力!$F:$F,6&$A158,勘定入力!$K:$K))","v":0},{"$f":"IF($A158=\"\",0,SUMIF(勘定入力!$F:$F,7&$A158,勘定入力!$J:$J))","v":0},{"$f":"IF($A158=\"\",0,SUMIF(勘定入力!$F:$F,7&$A158,勘定入力!$K:$K))","v":0},{"$f":"IF($A158=\"\",0,SUMIF(勘定入力!$F:$F,8&$A158,勘定入力!$J:$J))","v":0},{"$f":"IF($A158=\"\",0,SUMIF(勘定入力!$F:$F,8&$A158,勘定入力!$K:$K))","v":0},{"$f":"IF($A158=\"\",0,SUMIF(勘定入力!$F:$F,9&$A158,勘定入力!$J:$J))","v":0},{"$f":"IF($A158=\"\",0,SUMIF(勘定入力!$F:$F,9&$A158,勘定入力!$K:$K))","v":0},{"$f":"IF($A158=\"\",0,SUMIF(勘定入力!$F:$F,10&$A158,勘定入力!$J:$J))","v":0},{"$f":"IF($A158=\"\",0,SUMIF(勘定入力!$F:$F,10&$A158,勘定入力!$K:$K))","v":0},{"$f":"IF($A158=\"\",0,SUMIF(勘定入力!$F:$F,11&$A158,勘定入力!$J:$J))","v":0},{"$f":"IF($A158=\"\",0,SUMIF(勘定入力!$F:$F,11&$A158,勘定入力!$K:$K))","v":0},{"$f":"IF($A158=\"\",0,SUMIF(勘定入力!$F:$F,12&$A158,勘定入力!$J:$J))","v":0},{"$f":"IF($A158=\"\",0,SUMIF(勘定入力!$F:$F,12&$A158,勘定入力!$K:$K))","v":0}]
[{"$f":"入力補助!M37","v":0},0,0,{"$f":"IF($A159=\"\",0,SUMIF(勘定入力!$F:$F,1&$A159,勘定入力!$J:$J))","v":0},{"$f":"IF($A159=\"\",0,SUMIF(勘定入力!$F:$F,1&$A159,勘定入力!$K:$K))","v":0},{"$f":"IF($A159=\"\",0,SUMIF(勘定入力!$F:$F,2&$A159,勘定入力!$J:$J))","v":0},{"$f":"IF($A159=\"\",0,SUMIF(勘定入力!$F:$F,2&$A159,勘定入力!$K:$K))","v":0},{"$f":"IF($A159=\"\",0,SUMIF(勘定入力!$F:$F,3&$A159,勘定入力!$J:$J))","v":0},{"$f":"IF($A159=\"\",0,SUMIF(勘定入力!$F:$F,3&$A159,勘定入力!$K:$K))","v":0},{"$f":"IF($A159=\"\",0,SUMIF(勘定入力!$F:$F,4&$A159,勘定入力!$J:$J))","v":0},{"$f":"IF($A159=\"\",0,SUMIF(勘定入力!$F:$F,4&$A159,勘定入力!$K:$K))","v":0},{"$f":"IF($A159=\"\",0,SUMIF(勘定入力!$F:$F,5&$A159,勘定入力!$J:$J))","v":0},{"$f":"IF($A159=\"\",0,SUMIF(勘定入力!$F:$F,5&$A159,勘定入力!$K:$K))","v":0},{"$f":"IF($A159=\"\",0,SUMIF(勘定入力!$F:$F,6&$A159,勘定入力!$J:$J))","v":0},{"$f":"IF($A159=\"\",0,SUMIF(勘定入力!$F:$F,6&$A159,勘定入力!$K:$K))","v":0},{"$f":"IF($A159=\"\",0,SUMIF(勘定入力!$F:$F,7&$A159,勘定入力!$J:$J))","v":0},{"$f":"IF($A159=\"\",0,SUMIF(勘定入力!$F:$F,7&$A159,勘定入力!$K:$K))","v":0},{"$f":"IF($A159=\"\",0,SUMIF(勘定入力!$F:$F,8&$A159,勘定入力!$J:$J))","v":0},{"$f":"IF($A159=\"\",0,SUMIF(勘定入力!$F:$F,8&$A159,勘定入力!$K:$K))","v":0},{"$f":"IF($A159=\"\",0,SUMIF(勘定入力!$F:$F,9&$A159,勘定入力!$J:$J))","v":0},{"$f":"IF($A159=\"\",0,SUMIF(勘定入力!$F:$F,9&$A159,勘定入力!$K:$K))","v":0},{"$f":"IF($A159=\"\",0,SUMIF(勘定入力!$F:$F,10&$A159,勘定入力!$J:$J))","v":0},{"$f":"IF($A159=\"\",0,SUMIF(勘定入力!$F:$F,10&$A159,勘定入力!$K:$K))","v":0},{"$f":"IF($A159=\"\",0,SUMIF(勘定入力!$F:$F,11&$A159,勘定入力!$J:$J))","v":0},{"$f":"IF($A159=\"\",0,SUMIF(勘定入力!$F:$F,11&$A159,勘定入力!$K:$K))","v":0},{"$f":"IF($A159=\"\",0,SUMIF(勘定入力!$F:$F,12&$A159,勘定入力!$J:$J))","v":0},{"$f":"IF($A159=\"\",0,SUMIF(勘定入力!$F:$F,12&$A159,勘定入力!$K:$K))","v":0}]
[{"$f":"入力補助!M38","v":0},0,0,{"$f":"IF($A160=\"\",0,SUMIF(勘定入力!$F:$F,1&$A160,勘定入力!$J:$J))","v":0},{"$f":"IF($A160=\"\",0,SUMIF(勘定入力!$F:$F,1&$A160,勘定入力!$K:$K))","v":0},{"$f":"IF($A160=\"\",0,SUMIF(勘定入力!$F:$F,2&$A160,勘定入力!$J:$J))","v":0},{"$f":"IF($A160=\"\",0,SUMIF(勘定入力!$F:$F,2&$A160,勘定入力!$K:$K))","v":0},{"$f":"IF($A160=\"\",0,SUMIF(勘定入力!$F:$F,3&$A160,勘定入力!$J:$J))","v":0},{"$f":"IF($A160=\"\",0,SUMIF(勘定入力!$F:$F,3&$A160,勘定入力!$K:$K))","v":0},{"$f":"IF($A160=\"\",0,SUMIF(勘定入力!$F:$F,4&$A160,勘定入力!$J:$J))","v":0},{"$f":"IF($A160=\"\",0,SUMIF(勘定入力!$F:$F,4&$A160,勘定入力!$K:$K))","v":0},{"$f":"IF($A160=\"\",0,SUMIF(勘定入力!$F:$F,5&$A160,勘定入力!$J:$J))","v":0},{"$f":"IF($A160=\"\",0,SUMIF(勘定入力!$F:$F,5&$A160,勘定入力!$K:$K))","v":0},{"$f":"IF($A160=\"\",0,SUMIF(勘定入力!$F:$F,6&$A160,勘定入力!$J:$J))","v":0},{"$f":"IF($A160=\"\",0,SUMIF(勘定入力!$F:$F,6&$A160,勘定入力!$K:$K))","v":0},{"$f":"IF($A160=\"\",0,SUMIF(勘定入力!$F:$F,7&$A160,勘定入力!$J:$J))","v":0},{"$f":"IF($A160=\"\",0,SUMIF(勘定入力!$F:$F,7&$A160,勘定入力!$K:$K))","v":0},{"$f":"IF($A160=\"\",0,SUMIF(勘定入力!$F:$F,8&$A160,勘定入力!$J:$J))","v":0},{"$f":"IF($A160=\"\",0,SUMIF(勘定入力!$F:$F,8&$A160,勘定入力!$K:$K))","v":0},{"$f":"IF($A160=\"\",0,SUMIF(勘定入力!$F:$F,9&$A160,勘定入力!$J:$J))","v":0},{"$f":"IF($A160=\"\",0,SUMIF(勘定入力!$F:$F,9&$A160,勘定入力!$K:$K))","v":0},{"$f":"IF($A160=\"\",0,SUMIF(勘定入力!$F:$F,10&$A160,勘定入力!$J:$J))","v":0},{"$f":"IF($A160=\"\",0,SUMIF(勘定入力!$F:$F,10&$A160,勘定入力!$K:$K))","v":0},{"$f":"IF($A160=\"\",0,SUMIF(勘定入力!$F:$F,11&$A160,勘定入力!$J:$J))","v":0},{"$f":"IF($A160=\"\",0,SUMIF(勘定入力!$F:$F,11&$A160,勘定入力!$K:$K))","v":0},{"$f":"IF($A160=\"\",0,SUMIF(勘定入力!$F:$F,12&$A160,勘定入力!$J:$J))","v":0},{"$f":"IF($A160=\"\",0,SUMIF(勘定入力!$F:$F,12&$A160,勘定入力!$K:$K))","v":0}]
[{"$f":"入力補助!M39","v":0},0,0,{"$f":"IF($A161=\"\",0,SUMIF(勘定入力!$F:$F,1&$A161,勘定入力!$J:$J))","v":0},{"$f":"IF($A161=\"\",0,SUMIF(勘定入力!$F:$F,1&$A161,勘定入力!$K:$K))","v":0},{"$f":"IF($A161=\"\",0,SUMIF(勘定入力!$F:$F,2&$A161,勘定入力!$J:$J))","v":0},{"$f":"IF($A161=\"\",0,SUMIF(勘定入力!$F:$F,2&$A161,勘定入力!$K:$K))","v":0},{"$f":"IF($A161=\"\",0,SUMIF(勘定入力!$F:$F,3&$A161,勘定入力!$J:$J))","v":0},{"$f":"IF($A161=\"\",0,SUMIF(勘定入力!$F:$F,3&$A161,勘定入力!$K:$K))","v":0},{"$f":"IF($A161=\"\",0,SUMIF(勘定入力!$F:$F,4&$A161,勘定入力!$J:$J))","v":0},{"$f":"IF($A161=\"\",0,SUMIF(勘定入力!$F:$F,4&$A161,勘定入力!$K:$K))","v":0},{"$f":"IF($A161=\"\",0,SUMIF(勘定入力!$F:$F,5&$A161,勘定入力!$J:$J))","v":0},{"$f":"IF($A161=\"\",0,SUMIF(勘定入力!$F:$F,5&$A161,勘定入力!$K:$K))","v":0},{"$f":"IF($A161=\"\",0,SUMIF(勘定入力!$F:$F,6&$A161,勘定入力!$J:$J))","v":0},{"$f":"IF($A161=\"\",0,SUMIF(勘定入力!$F:$F,6&$A161,勘定入力!$K:$K))","v":0},{"$f":"IF($A161=\"\",0,SUMIF(勘定入力!$F:$F,7&$A161,勘定入力!$J:$J))","v":0},{"$f":"IF($A161=\"\",0,SUMIF(勘定入力!$F:$F,7&$A161,勘定入力!$K:$K))","v":0},{"$f":"IF($A161=\"\",0,SUMIF(勘定入力!$F:$F,8&$A161,勘定入力!$J:$J))","v":0},{"$f":"IF($A161=\"\",0,SUMIF(勘定入力!$F:$F,8&$A161,勘定入力!$K:$K))","v":0},{"$f":"IF($A161=\"\",0,SUMIF(勘定入力!$F:$F,9&$A161,勘定入力!$J:$J))","v":0},{"$f":"IF($A161=\"\",0,SUMIF(勘定入力!$F:$F,9&$A161,勘定入力!$K:$K))","v":0},{"$f":"IF($A161=\"\",0,SUMIF(勘定入力!$F:$F,10&$A161,勘定入力!$J:$J))","v":0},{"$f":"IF($A161=\"\",0,SUMIF(勘定入力!$F:$F,10&$A161,勘定入力!$K:$K))","v":0},{"$f":"IF($A161=\"\",0,SUMIF(勘定入力!$F:$F,11&$A161,勘定入力!$J:$J))","v":0},{"$f":"IF($A161=\"\",0,SUMIF(勘定入力!$F:$F,11&$A161,勘定入力!$K:$K))","v":0},{"$f":"IF($A161=\"\",0,SUMIF(勘定入力!$F:$F,12&$A161,勘定入力!$J:$J))","v":0},{"$f":"IF($A161=\"\",0,SUMIF(勘定入力!$F:$F,12&$A161,勘定入力!$K:$K))","v":0}]
[{"$f":"入力補助!M40","v":0},0,0,{"$f":"IF($A162=\"\",0,SUMIF(勘定入力!$F:$F,1&$A162,勘定入力!$J:$J))","v":0},{"$f":"IF($A162=\"\",0,SUMIF(勘定入力!$F:$F,1&$A162,勘定入力!$K:$K))","v":0},{"$f":"IF($A162=\"\",0,SUMIF(勘定入力!$F:$F,2&$A162,勘定入力!$J:$J))","v":0},{"$f":"IF($A162=\"\",0,SUMIF(勘定入力!$F:$F,2&$A162,勘定入力!$K:$K))","v":0},{"$f":"IF($A162=\"\",0,SUMIF(勘定入力!$F:$F,3&$A162,勘定入力!$J:$J))","v":0},{"$f":"IF($A162=\"\",0,SUMIF(勘定入力!$F:$F,3&$A162,勘定入力!$K:$K))","v":0},{"$f":"IF($A162=\"\",0,SUMIF(勘定入力!$F:$F,4&$A162,勘定入力!$J:$J))","v":0},{"$f":"IF($A162=\"\",0,SUMIF(勘定入力!$F:$F,4&$A162,勘定入力!$K:$K))","v":0},{"$f":"IF($A162=\"\",0,SUMIF(勘定入力!$F:$F,5&$A162,勘定入力!$J:$J))","v":0},{"$f":"IF($A162=\"\",0,SUMIF(勘定入力!$F:$F,5&$A162,勘定入力!$K:$K))","v":0},{"$f":"IF($A162=\"\",0,SUMIF(勘定入力!$F:$F,6&$A162,勘定入力!$J:$J))","v":0},{"$f":"IF($A162=\"\",0,SUMIF(勘定入力!$F:$F,6&$A162,勘定入力!$K:$K))","v":0},{"$f":"IF($A162=\"\",0,SUMIF(勘定入力!$F:$F,7&$A162,勘定入力!$J:$J))","v":0},{"$f":"IF($A162=\"\",0,SUMIF(勘定入力!$F:$F,7&$A162,勘定入力!$K:$K))","v":0},{"$f":"IF($A162=\"\",0,SUMIF(勘定入力!$F:$F,8&$A162,勘定入力!$J:$J))","v":0},{"$f":"IF($A162=\"\",0,SUMIF(勘定入力!$F:$F,8&$A162,勘定入力!$K:$K))","v":0},{"$f":"IF($A162=\"\",0,SUMIF(勘定入力!$F:$F,9&$A162,勘定入力!$J:$J))","v":0},{"$f":"IF($A162=\"\",0,SUMIF(勘定入力!$F:$F,9&$A162,勘定入力!$K:$K))","v":0},{"$f":"IF($A162=\"\",0,SUMIF(勘定入力!$F:$F,10&$A162,勘定入力!$J:$J))","v":0},{"$f":"IF($A162=\"\",0,SUMIF(勘定入力!$F:$F,10&$A162,勘定入力!$K:$K))","v":0},{"$f":"IF($A162=\"\",0,SUMIF(勘定入力!$F:$F,11&$A162,勘定入力!$J:$J))","v":0},{"$f":"IF($A162=\"\",0,SUMIF(勘定入力!$F:$F,11&$A162,勘定入力!$K:$K))","v":0},{"$f":"IF($A162=\"\",0,SUMIF(勘定入力!$F:$F,12&$A162,勘定入力!$J:$J))","v":0},{"$f":"IF($A162=\"\",0,SUMIF(勘定入力!$F:$F,12&$A162,勘定入力!$K:$K))","v":0}]
[{"$f":"入力補助!M41","v":0},0,0,{"$f":"IF($A163=\"\",0,SUMIF(勘定入力!$F:$F,1&$A163,勘定入力!$J:$J))","v":0},{"$f":"IF($A163=\"\",0,SUMIF(勘定入力!$F:$F,1&$A163,勘定入力!$K:$K))","v":0},{"$f":"IF($A163=\"\",0,SUMIF(勘定入力!$F:$F,2&$A163,勘定入力!$J:$J))","v":0},{"$f":"IF($A163=\"\",0,SUMIF(勘定入力!$F:$F,2&$A163,勘定入力!$K:$K))","v":0},{"$f":"IF($A163=\"\",0,SUMIF(勘定入力!$F:$F,3&$A163,勘定入力!$J:$J))","v":0},{"$f":"IF($A163=\"\",0,SUMIF(勘定入力!$F:$F,3&$A163,勘定入力!$K:$K))","v":0},{"$f":"IF($A163=\"\",0,SUMIF(勘定入力!$F:$F,4&$A163,勘定入力!$J:$J))","v":0},{"$f":"IF($A163=\"\",0,SUMIF(勘定入力!$F:$F,4&$A163,勘定入力!$K:$K))","v":0},{"$f":"IF($A163=\"\",0,SUMIF(勘定入力!$F:$F,5&$A163,勘定入力!$J:$J))","v":0},{"$f":"IF($A163=\"\",0,SUMIF(勘定入力!$F:$F,5&$A163,勘定入力!$K:$K))","v":0},{"$f":"IF($A163=\"\",0,SUMIF(勘定入力!$F:$F,6&$A163,勘定入力!$J:$J))","v":0},{"$f":"IF($A163=\"\",0,SUMIF(勘定入力!$F:$F,6&$A163,勘定入力!$K:$K))","v":0},{"$f":"IF($A163=\"\",0,SUMIF(勘定入力!$F:$F,7&$A163,勘定入力!$J:$J))","v":0},{"$f":"IF($A163=\"\",0,SUMIF(勘定入力!$F:$F,7&$A163,勘定入力!$K:$K))","v":0},{"$f":"IF($A163=\"\",0,SUMIF(勘定入力!$F:$F,8&$A163,勘定入力!$J:$J))","v":0},{"$f":"IF($A163=\"\",0,SUMIF(勘定入力!$F:$F,8&$A163,勘定入力!$K:$K))","v":0},{"$f":"IF($A163=\"\",0,SUMIF(勘定入力!$F:$F,9&$A163,勘定入力!$J:$J))","v":0},{"$f":"IF($A163=\"\",0,SUMIF(勘定入力!$F:$F,9&$A163,勘定入力!$K:$K))","v":0},{"$f":"IF($A163=\"\",0,SUMIF(勘定入力!$F:$F,10&$A163,勘定入力!$J:$J))","v":0},{"$f":"IF($A163=\"\",0,SUMIF(勘定入力!$F:$F,10&$A163,勘定入力!$K:$K))","v":0},{"$f":"IF($A163=\"\",0,SUMIF(勘定入力!$F:$F,11&$A163,勘定入力!$J:$J))","v":0},{"$f":"IF($A163=\"\",0,SUMIF(勘定入力!$F:$F,11&$A163,勘定入力!$K:$K))","v":0},{"$f":"IF($A163=\"\",0,SUMIF(勘定入力!$F:$F,12&$A163,勘定入力!$J:$J))","v":0},{"$f":"IF($A163=\"\",0,SUMIF(勘定入力!$F:$F,12&$A163,勘定入力!$K:$K))","v":0}]
[{"$f":"入力補助!M42","v":0},0,0,{"$f":"IF($A164=\"\",0,SUMIF(勘定入力!$F:$F,1&$A164,勘定入力!$J:$J))","v":0},{"$f":"IF($A164=\"\",0,SUMIF(勘定入力!$F:$F,1&$A164,勘定入力!$K:$K))","v":0},{"$f":"IF($A164=\"\",0,SUMIF(勘定入力!$F:$F,2&$A164,勘定入力!$J:$J))","v":0},{"$f":"IF($A164=\"\",0,SUMIF(勘定入力!$F:$F,2&$A164,勘定入力!$K:$K))","v":0},{"$f":"IF($A164=\"\",0,SUMIF(勘定入力!$F:$F,3&$A164,勘定入力!$J:$J))","v":0},{"$f":"IF($A164=\"\",0,SUMIF(勘定入力!$F:$F,3&$A164,勘定入力!$K:$K))","v":0},{"$f":"IF($A164=\"\",0,SUMIF(勘定入力!$F:$F,4&$A164,勘定入力!$J:$J))","v":0},{"$f":"IF($A164=\"\",0,SUMIF(勘定入力!$F:$F,4&$A164,勘定入力!$K:$K))","v":0},{"$f":"IF($A164=\"\",0,SUMIF(勘定入力!$F:$F,5&$A164,勘定入力!$J:$J))","v":0},{"$f":"IF($A164=\"\",0,SUMIF(勘定入力!$F:$F,5&$A164,勘定入力!$K:$K))","v":0},{"$f":"IF($A164=\"\",0,SUMIF(勘定入力!$F:$F,6&$A164,勘定入力!$J:$J))","v":0},{"$f":"IF($A164=\"\",0,SUMIF(勘定入力!$F:$F,6&$A164,勘定入力!$K:$K))","v":0},{"$f":"IF($A164=\"\",0,SUMIF(勘定入力!$F:$F,7&$A164,勘定入力!$J:$J))","v":0},{"$f":"IF($A164=\"\",0,SUMIF(勘定入力!$F:$F,7&$A164,勘定入力!$K:$K))","v":0},{"$f":"IF($A164=\"\",0,SUMIF(勘定入力!$F:$F,8&$A164,勘定入力!$J:$J))","v":0},{"$f":"IF($A164=\"\",0,SUMIF(勘定入力!$F:$F,8&$A164,勘定入力!$K:$K))","v":0},{"$f":"IF($A164=\"\",0,SUMIF(勘定入力!$F:$F,9&$A164,勘定入力!$J:$J))","v":0},{"$f":"IF($A164=\"\",0,SUMIF(勘定入力!$F:$F,9&$A164,勘定入力!$K:$K))","v":0},{"$f":"IF($A164=\"\",0,SUMIF(勘定入力!$F:$F,10&$A164,勘定入力!$J:$J))","v":0},{"$f":"IF($A164=\"\",0,SUMIF(勘定入力!$F:$F,10&$A164,勘定入力!$K:$K))","v":0},{"$f":"IF($A164=\"\",0,SUMIF(勘定入力!$F:$F,11&$A164,勘定入力!$J:$J))","v":0},{"$f":"IF($A164=\"\",0,SUMIF(勘定入力!$F:$F,11&$A164,勘定入力!$K:$K))","v":0},{"$f":"IF($A164=\"\",0,SUMIF(勘定入力!$F:$F,12&$A164,勘定入力!$J:$J))","v":0},{"$f":"IF($A164=\"\",0,SUMIF(勘定入力!$F:$F,12&$A164,勘定入力!$K:$K))","v":0}]
[{"$f":"入力補助!M43","v":0},0,0,{"$f":"IF($A165=\"\",0,SUMIF(勘定入力!$F:$F,1&$A165,勘定入力!$J:$J))","v":0},{"$f":"IF($A165=\"\",0,SUMIF(勘定入力!$F:$F,1&$A165,勘定入力!$K:$K))","v":0},{"$f":"IF($A165=\"\",0,SUMIF(勘定入力!$F:$F,2&$A165,勘定入力!$J:$J))","v":0},{"$f":"IF($A165=\"\",0,SUMIF(勘定入力!$F:$F,2&$A165,勘定入力!$K:$K))","v":0},{"$f":"IF($A165=\"\",0,SUMIF(勘定入力!$F:$F,3&$A165,勘定入力!$J:$J))","v":0},{"$f":"IF($A165=\"\",0,SUMIF(勘定入力!$F:$F,3&$A165,勘定入力!$K:$K))","v":0},{"$f":"IF($A165=\"\",0,SUMIF(勘定入力!$F:$F,4&$A165,勘定入力!$J:$J))","v":0},{"$f":"IF($A165=\"\",0,SUMIF(勘定入力!$F:$F,4&$A165,勘定入力!$K:$K))","v":0},{"$f":"IF($A165=\"\",0,SUMIF(勘定入力!$F:$F,5&$A165,勘定入力!$J:$J))","v":0},{"$f":"IF($A165=\"\",0,SUMIF(勘定入力!$F:$F,5&$A165,勘定入力!$K:$K))","v":0},{"$f":"IF($A165=\"\",0,SUMIF(勘定入力!$F:$F,6&$A165,勘定入力!$J:$J))","v":0},{"$f":"IF($A165=\"\",0,SUMIF(勘定入力!$F:$F,6&$A165,勘定入力!$K:$K))","v":0},{"$f":"IF($A165=\"\",0,SUMIF(勘定入力!$F:$F,7&$A165,勘定入力!$J:$J))","v":0},{"$f":"IF($A165=\"\",0,SUMIF(勘定入力!$F:$F,7&$A165,勘定入力!$K:$K))","v":0},{"$f":"IF($A165=\"\",0,SUMIF(勘定入力!$F:$F,8&$A165,勘定入力!$J:$J))","v":0},{"$f":"IF($A165=\"\",0,SUMIF(勘定入力!$F:$F,8&$A165,勘定入力!$K:$K))","v":0},{"$f":"IF($A165=\"\",0,SUMIF(勘定入力!$F:$F,9&$A165,勘定入力!$J:$J))","v":0},{"$f":"IF($A165=\"\",0,SUMIF(勘定入力!$F:$F,9&$A165,勘定入力!$K:$K))","v":0},{"$f":"IF($A165=\"\",0,SUMIF(勘定入力!$F:$F,10&$A165,勘定入力!$J:$J))","v":0},{"$f":"IF($A165=\"\",0,SUMIF(勘定入力!$F:$F,10&$A165,勘定入力!$K:$K))","v":0},{"$f":"IF($A165=\"\",0,SUMIF(勘定入力!$F:$F,11&$A165,勘定入力!$J:$J))","v":0},{"$f":"IF($A165=\"\",0,SUMIF(勘定入力!$F:$F,11&$A165,勘定入力!$K:$K))","v":0},{"$f":"IF($A165=\"\",0,SUMIF(勘定入力!$F:$F,12&$A165,勘定入力!$J:$J))","v":0},{"$f":"IF($A165=\"\",0,SUMIF(勘定入力!$F:$F,12&$A165,勘定入力!$K:$K))","v":0}]
[{"$f":"入力補助!M44","v":0},0,0,{"$f":"IF($A166=\"\",0,SUMIF(勘定入力!$F:$F,1&$A166,勘定入力!$J:$J))","v":0},{"$f":"IF($A166=\"\",0,SUMIF(勘定入力!$F:$F,1&$A166,勘定入力!$K:$K))","v":0},{"$f":"IF($A166=\"\",0,SUMIF(勘定入力!$F:$F,2&$A166,勘定入力!$J:$J))","v":0},{"$f":"IF($A166=\"\",0,SUMIF(勘定入力!$F:$F,2&$A166,勘定入力!$K:$K))","v":0},{"$f":"IF($A166=\"\",0,SUMIF(勘定入力!$F:$F,3&$A166,勘定入力!$J:$J))","v":0},{"$f":"IF($A166=\"\",0,SUMIF(勘定入力!$F:$F,3&$A166,勘定入力!$K:$K))","v":0},{"$f":"IF($A166=\"\",0,SUMIF(勘定入力!$F:$F,4&$A166,勘定入力!$J:$J))","v":0},{"$f":"IF($A166=\"\",0,SUMIF(勘定入力!$F:$F,4&$A166,勘定入力!$K:$K))","v":0},{"$f":"IF($A166=\"\",0,SUMIF(勘定入力!$F:$F,5&$A166,勘定入力!$J:$J))","v":0},{"$f":"IF($A166=\"\",0,SUMIF(勘定入力!$F:$F,5&$A166,勘定入力!$K:$K))","v":0},{"$f":"IF($A166=\"\",0,SUMIF(勘定入力!$F:$F,6&$A166,勘定入力!$J:$J))","v":0},{"$f":"IF($A166=\"\",0,SUMIF(勘定入力!$F:$F,6&$A166,勘定入力!$K:$K))","v":0},{"$f":"IF($A166=\"\",0,SUMIF(勘定入力!$F:$F,7&$A166,勘定入力!$J:$J))","v":0},{"$f":"IF($A166=\"\",0,SUMIF(勘定入力!$F:$F,7&$A166,勘定入力!$K:$K))","v":0},{"$f":"IF($A166=\"\",0,SUMIF(勘定入力!$F:$F,8&$A166,勘定入力!$J:$J))","v":0},{"$f":"IF($A166=\"\",0,SUMIF(勘定入力!$F:$F,8&$A166,勘定入力!$K:$K))","v":0},{"$f":"IF($A166=\"\",0,SUMIF(勘定入力!$F:$F,9&$A166,勘定入力!$J:$J))","v":0},{"$f":"IF($A166=\"\",0,SUMIF(勘定入力!$F:$F,9&$A166,勘定入力!$K:$K))","v":0},{"$f":"IF($A166=\"\",0,SUMIF(勘定入力!$F:$F,10&$A166,勘定入力!$J:$J))","v":0},{"$f":"IF($A166=\"\",0,SUMIF(勘定入力!$F:$F,10&$A166,勘定入力!$K:$K))","v":0},{"$f":"IF($A166=\"\",0,SUMIF(勘定入力!$F:$F,11&$A166,勘定入力!$J:$J))","v":0},{"$f":"IF($A166=\"\",0,SUMIF(勘定入力!$F:$F,11&$A166,勘定入力!$K:$K))","v":0},{"$f":"IF($A166=\"\",0,SUMIF(勘定入力!$F:$F,12&$A166,勘定入力!$J:$J))","v":0},{"$f":"IF($A166=\"\",0,SUMIF(勘定入力!$F:$F,12&$A166,勘定入力!$K:$K))","v":0}]
[{"$f":"入力補助!M45","v":0},0,0,{"$f":"IF($A167=\"\",0,SUMIF(勘定入力!$F:$F,1&$A167,勘定入力!$J:$J))","v":0},{"$f":"IF($A167=\"\",0,SUMIF(勘定入力!$F:$F,1&$A167,勘定入力!$K:$K))","v":0},{"$f":"IF($A167=\"\",0,SUMIF(勘定入力!$F:$F,2&$A167,勘定入力!$J:$J))","v":0},{"$f":"IF($A167=\"\",0,SUMIF(勘定入力!$F:$F,2&$A167,勘定入力!$K:$K))","v":0},{"$f":"IF($A167=\"\",0,SUMIF(勘定入力!$F:$F,3&$A167,勘定入力!$J:$J))","v":0},{"$f":"IF($A167=\"\",0,SUMIF(勘定入力!$F:$F,3&$A167,勘定入力!$K:$K))","v":0},{"$f":"IF($A167=\"\",0,SUMIF(勘定入力!$F:$F,4&$A167,勘定入力!$J:$J))","v":0},{"$f":"IF($A167=\"\",0,SUMIF(勘定入力!$F:$F,4&$A167,勘定入力!$K:$K))","v":0},{"$f":"IF($A167=\"\",0,SUMIF(勘定入力!$F:$F,5&$A167,勘定入力!$J:$J))","v":0},{"$f":"IF($A167=\"\",0,SUMIF(勘定入力!$F:$F,5&$A167,勘定入力!$K:$K))","v":0},{"$f":"IF($A167=\"\",0,SUMIF(勘定入力!$F:$F,6&$A167,勘定入力!$J:$J))","v":0},{"$f":"IF($A167=\"\",0,SUMIF(勘定入力!$F:$F,6&$A167,勘定入力!$K:$K))","v":0},{"$f":"IF($A167=\"\",0,SUMIF(勘定入力!$F:$F,7&$A167,勘定入力!$J:$J))","v":0},{"$f":"IF($A167=\"\",0,SUMIF(勘定入力!$F:$F,7&$A167,勘定入力!$K:$K))","v":0},{"$f":"IF($A167=\"\",0,SUMIF(勘定入力!$F:$F,8&$A167,勘定入力!$J:$J))","v":0},{"$f":"IF($A167=\"\",0,SUMIF(勘定入力!$F:$F,8&$A167,勘定入力!$K:$K))","v":0},{"$f":"IF($A167=\"\",0,SUMIF(勘定入力!$F:$F,9&$A167,勘定入力!$J:$J))","v":0},{"$f":"IF($A167=\"\",0,SUMIF(勘定入力!$F:$F,9&$A167,勘定入力!$K:$K))","v":0},{"$f":"IF($A167=\"\",0,SUMIF(勘定入力!$F:$F,10&$A167,勘定入力!$J:$J))","v":0},{"$f":"IF($A167=\"\",0,SUMIF(勘定入力!$F:$F,10&$A167,勘定入力!$K:$K))","v":0},{"$f":"IF($A167=\"\",0,SUMIF(勘定入力!$F:$F,11&$A167,勘定入力!$J:$J))","v":0},{"$f":"IF($A167=\"\",0,SUMIF(勘定入力!$F:$F,11&$A167,勘定入力!$K:$K))","v":0},{"$f":"IF($A167=\"\",0,SUMIF(勘定入力!$F:$F,12&$A167,勘定入力!$J:$J))","v":0},{"$f":"IF($A167=\"\",0,SUMIF(勘定入力!$F:$F,12&$A167,勘定入力!$K:$K))","v":0}]
[{"$f":"入力補助!M46","v":0},0,0,{"$f":"IF($A168=\"\",0,SUMIF(勘定入力!$F:$F,1&$A168,勘定入力!$J:$J))","v":0},{"$f":"IF($A168=\"\",0,SUMIF(勘定入力!$F:$F,1&$A168,勘定入力!$K:$K))","v":0},{"$f":"IF($A168=\"\",0,SUMIF(勘定入力!$F:$F,2&$A168,勘定入力!$J:$J))","v":0},{"$f":"IF($A168=\"\",0,SUMIF(勘定入力!$F:$F,2&$A168,勘定入力!$K:$K))","v":0},{"$f":"IF($A168=\"\",0,SUMIF(勘定入力!$F:$F,3&$A168,勘定入力!$J:$J))","v":0},{"$f":"IF($A168=\"\",0,SUMIF(勘定入力!$F:$F,3&$A168,勘定入力!$K:$K))","v":0},{"$f":"IF($A168=\"\",0,SUMIF(勘定入力!$F:$F,4&$A168,勘定入力!$J:$J))","v":0},{"$f":"IF($A168=\"\",0,SUMIF(勘定入力!$F:$F,4&$A168,勘定入力!$K:$K))","v":0},{"$f":"IF($A168=\"\",0,SUMIF(勘定入力!$F:$F,5&$A168,勘定入力!$J:$J))","v":0},{"$f":"IF($A168=\"\",0,SUMIF(勘定入力!$F:$F,5&$A168,勘定入力!$K:$K))","v":0},{"$f":"IF($A168=\"\",0,SUMIF(勘定入力!$F:$F,6&$A168,勘定入力!$J:$J))","v":0},{"$f":"IF($A168=\"\",0,SUMIF(勘定入力!$F:$F,6&$A168,勘定入力!$K:$K))","v":0},{"$f":"IF($A168=\"\",0,SUMIF(勘定入力!$F:$F,7&$A168,勘定入力!$J:$J))","v":0},{"$f":"IF($A168=\"\",0,SUMIF(勘定入力!$F:$F,7&$A168,勘定入力!$K:$K))","v":0},{"$f":"IF($A168=\"\",0,SUMIF(勘定入力!$F:$F,8&$A168,勘定入力!$J:$J))","v":0},{"$f":"IF($A168=\"\",0,SUMIF(勘定入力!$F:$F,8&$A168,勘定入力!$K:$K))","v":0},{"$f":"IF($A168=\"\",0,SUMIF(勘定入力!$F:$F,9&$A168,勘定入力!$J:$J))","v":0},{"$f":"IF($A168=\"\",0,SUMIF(勘定入力!$F:$F,9&$A168,勘定入力!$K:$K))","v":0},{"$f":"IF($A168=\"\",0,SUMIF(勘定入力!$F:$F,10&$A168,勘定入力!$J:$J))","v":0},{"$f":"IF($A168=\"\",0,SUMIF(勘定入力!$F:$F,10&$A168,勘定入力!$K:$K))","v":0},{"$f":"IF($A168=\"\",0,SUMIF(勘定入力!$F:$F,11&$A168,勘定入力!$J:$J))","v":0},{"$f":"IF($A168=\"\",0,SUMIF(勘定入力!$F:$F,11&$A168,勘定入力!$K:$K))","v":0},{"$f":"IF($A168=\"\",0,SUMIF(勘定入力!$F:$F,12&$A168,勘定入力!$J:$J))","v":0},{"$f":"IF($A168=\"\",0,SUMIF(勘定入力!$F:$F,12&$A168,勘定入力!$K:$K))","v":0}]
[{"$f":"入力補助!M47","v":0},0,0,{"$f":"IF($A169=\"\",0,SUMIF(勘定入力!$F:$F,1&$A169,勘定入力!$J:$J))","v":0},{"$f":"IF($A169=\"\",0,SUMIF(勘定入力!$F:$F,1&$A169,勘定入力!$K:$K))","v":0},{"$f":"IF($A169=\"\",0,SUMIF(勘定入力!$F:$F,2&$A169,勘定入力!$J:$J))","v":0},{"$f":"IF($A169=\"\",0,SUMIF(勘定入力!$F:$F,2&$A169,勘定入力!$K:$K))","v":0},{"$f":"IF($A169=\"\",0,SUMIF(勘定入力!$F:$F,3&$A169,勘定入力!$J:$J))","v":0},{"$f":"IF($A169=\"\",0,SUMIF(勘定入力!$F:$F,3&$A169,勘定入力!$K:$K))","v":0},{"$f":"IF($A169=\"\",0,SUMIF(勘定入力!$F:$F,4&$A169,勘定入力!$J:$J))","v":0},{"$f":"IF($A169=\"\",0,SUMIF(勘定入力!$F:$F,4&$A169,勘定入力!$K:$K))","v":0},{"$f":"IF($A169=\"\",0,SUMIF(勘定入力!$F:$F,5&$A169,勘定入力!$J:$J))","v":0},{"$f":"IF($A169=\"\",0,SUMIF(勘定入力!$F:$F,5&$A169,勘定入力!$K:$K))","v":0},{"$f":"IF($A169=\"\",0,SUMIF(勘定入力!$F:$F,6&$A169,勘定入力!$J:$J))","v":0},{"$f":"IF($A169=\"\",0,SUMIF(勘定入力!$F:$F,6&$A169,勘定入力!$K:$K))","v":0},{"$f":"IF($A169=\"\",0,SUMIF(勘定入力!$F:$F,7&$A169,勘定入力!$J:$J))","v":0},{"$f":"IF($A169=\"\",0,SUMIF(勘定入力!$F:$F,7&$A169,勘定入力!$K:$K))","v":0},{"$f":"IF($A169=\"\",0,SUMIF(勘定入力!$F:$F,8&$A169,勘定入力!$J:$J))","v":0},{"$f":"IF($A169=\"\",0,SUMIF(勘定入力!$F:$F,8&$A169,勘定入力!$K:$K))","v":0},{"$f":"IF($A169=\"\",0,SUMIF(勘定入力!$F:$F,9&$A169,勘定入力!$J:$J))","v":0},{"$f":"IF($A169=\"\",0,SUMIF(勘定入力!$F:$F,9&$A169,勘定入力!$K:$K))","v":0},{"$f":"IF($A169=\"\",0,SUMIF(勘定入力!$F:$F,10&$A169,勘定入力!$J:$J))","v":0},{"$f":"IF($A169=\"\",0,SUMIF(勘定入力!$F:$F,10&$A169,勘定入力!$K:$K))","v":0},{"$f":"IF($A169=\"\",0,SUMIF(勘定入力!$F:$F,11&$A169,勘定入力!$J:$J))","v":0},{"$f":"IF($A169=\"\",0,SUMIF(勘定入力!$F:$F,11&$A169,勘定入力!$K:$K))","v":0},{"$f":"IF($A169=\"\",0,SUMIF(勘定入力!$F:$F,12&$A169,勘定入力!$J:$J))","v":0},{"$f":"IF($A169=\"\",0,SUMIF(勘定入力!$F:$F,12&$A169,勘定入力!$K:$K))","v":0}]
[{"$f":"入力補助!M48","v":0},0,0,{"$f":"IF($A170=\"\",0,SUMIF(勘定入力!$F:$F,1&$A170,勘定入力!$J:$J))","v":0},{"$f":"IF($A170=\"\",0,SUMIF(勘定入力!$F:$F,1&$A170,勘定入力!$K:$K))","v":0},{"$f":"IF($A170=\"\",0,SUMIF(勘定入力!$F:$F,2&$A170,勘定入力!$J:$J))","v":0},{"$f":"IF($A170=\"\",0,SUMIF(勘定入力!$F:$F,2&$A170,勘定入力!$K:$K))","v":0},{"$f":"IF($A170=\"\",0,SUMIF(勘定入力!$F:$F,3&$A170,勘定入力!$J:$J))","v":0},{"$f":"IF($A170=\"\",0,SUMIF(勘定入力!$F:$F,3&$A170,勘定入力!$K:$K))","v":0},{"$f":"IF($A170=\"\",0,SUMIF(勘定入力!$F:$F,4&$A170,勘定入力!$J:$J))","v":0},{"$f":"IF($A170=\"\",0,SUMIF(勘定入力!$F:$F,4&$A170,勘定入力!$K:$K))","v":0},{"$f":"IF($A170=\"\",0,SUMIF(勘定入力!$F:$F,5&$A170,勘定入力!$J:$J))","v":0},{"$f":"IF($A170=\"\",0,SUMIF(勘定入力!$F:$F,5&$A170,勘定入力!$K:$K))","v":0},{"$f":"IF($A170=\"\",0,SUMIF(勘定入力!$F:$F,6&$A170,勘定入力!$J:$J))","v":0},{"$f":"IF($A170=\"\",0,SUMIF(勘定入力!$F:$F,6&$A170,勘定入力!$K:$K))","v":0},{"$f":"IF($A170=\"\",0,SUMIF(勘定入力!$F:$F,7&$A170,勘定入力!$J:$J))","v":0},{"$f":"IF($A170=\"\",0,SUMIF(勘定入力!$F:$F,7&$A170,勘定入力!$K:$K))","v":0},{"$f":"IF($A170=\"\",0,SUMIF(勘定入力!$F:$F,8&$A170,勘定入力!$J:$J))","v":0},{"$f":"IF($A170=\"\",0,SUMIF(勘定入力!$F:$F,8&$A170,勘定入力!$K:$K))","v":0},{"$f":"IF($A170=\"\",0,SUMIF(勘定入力!$F:$F,9&$A170,勘定入力!$J:$J))","v":0},{"$f":"IF($A170=\"\",0,SUMIF(勘定入力!$F:$F,9&$A170,勘定入力!$K:$K))","v":0},{"$f":"IF($A170=\"\",0,SUMIF(勘定入力!$F:$F,10&$A170,勘定入力!$J:$J))","v":0},{"$f":"IF($A170=\"\",0,SUMIF(勘定入力!$F:$F,10&$A170,勘定入力!$K:$K))","v":0},{"$f":"IF($A170=\"\",0,SUMIF(勘定入力!$F:$F,11&$A170,勘定入力!$J:$J))","v":0},{"$f":"IF($A170=\"\",0,SUMIF(勘定入力!$F:$F,11&$A170,勘定入力!$K:$K))","v":0},{"$f":"IF($A170=\"\",0,SUMIF(勘定入力!$F:$F,12&$A170,勘定入力!$J:$J))","v":0},{"$f":"IF($A170=\"\",0,SUMIF(勘定入力!$F:$F,12&$A170,勘定入力!$K:$K))","v":0}]
[{"$f":"入力補助!M49","v":0},0,0,{"$f":"IF($A171=\"\",0,SUMIF(勘定入力!$F:$F,1&$A171,勘定入力!$J:$J))","v":0},{"$f":"IF($A171=\"\",0,SUMIF(勘定入力!$F:$F,1&$A171,勘定入力!$K:$K))","v":0},{"$f":"IF($A171=\"\",0,SUMIF(勘定入力!$F:$F,2&$A171,勘定入力!$J:$J))","v":0},{"$f":"IF($A171=\"\",0,SUMIF(勘定入力!$F:$F,2&$A171,勘定入力!$K:$K))","v":0},{"$f":"IF($A171=\"\",0,SUMIF(勘定入力!$F:$F,3&$A171,勘定入力!$J:$J))","v":0},{"$f":"IF($A171=\"\",0,SUMIF(勘定入力!$F:$F,3&$A171,勘定入力!$K:$K))","v":0},{"$f":"IF($A171=\"\",0,SUMIF(勘定入力!$F:$F,4&$A171,勘定入力!$J:$J))","v":0},{"$f":"IF($A171=\"\",0,SUMIF(勘定入力!$F:$F,4&$A171,勘定入力!$K:$K))","v":0},{"$f":"IF($A171=\"\",0,SUMIF(勘定入力!$F:$F,5&$A171,勘定入力!$J:$J))","v":0},{"$f":"IF($A171=\"\",0,SUMIF(勘定入力!$F:$F,5&$A171,勘定入力!$K:$K))","v":0},{"$f":"IF($A171=\"\",0,SUMIF(勘定入力!$F:$F,6&$A171,勘定入力!$J:$J))","v":0},{"$f":"IF($A171=\"\",0,SUMIF(勘定入力!$F:$F,6&$A171,勘定入力!$K:$K))","v":0},{"$f":"IF($A171=\"\",0,SUMIF(勘定入力!$F:$F,7&$A171,勘定入力!$J:$J))","v":0},{"$f":"IF($A171=\"\",0,SUMIF(勘定入力!$F:$F,7&$A171,勘定入力!$K:$K))","v":0},{"$f":"IF($A171=\"\",0,SUMIF(勘定入力!$F:$F,8&$A171,勘定入力!$J:$J))","v":0},{"$f":"IF($A171=\"\",0,SUMIF(勘定入力!$F:$F,8&$A171,勘定入力!$K:$K))","v":0},{"$f":"IF($A171=\"\",0,SUMIF(勘定入力!$F:$F,9&$A171,勘定入力!$J:$J))","v":0},{"$f":"IF($A171=\"\",0,SUMIF(勘定入力!$F:$F,9&$A171,勘定入力!$K:$K))","v":0},{"$f":"IF($A171=\"\",0,SUMIF(勘定入力!$F:$F,10&$A171,勘定入力!$J:$J))","v":0},{"$f":"IF($A171=\"\",0,SUMIF(勘定入力!$F:$F,10&$A171,勘定入力!$K:$K))","v":0},{"$f":"IF($A171=\"\",0,SUMIF(勘定入力!$F:$F,11&$A171,勘定入力!$J:$J))","v":0},{"$f":"IF($A171=\"\",0,SUMIF(勘定入力!$F:$F,11&$A171,勘定入力!$K:$K))","v":0},{"$f":"IF($A171=\"\",0,SUMIF(勘定入力!$F:$F,12&$A171,勘定入力!$J:$J))","v":0},{"$f":"IF($A171=\"\",0,SUMIF(勘定入力!$F:$F,12&$A171,勘定入力!$K:$K))","v":0}]
[{"$f":"入力補助!M50","v":0},0,0,{"$f":"IF($A172=\"\",0,SUMIF(勘定入力!$F:$F,1&$A172,勘定入力!$J:$J))","v":0},{"$f":"IF($A172=\"\",0,SUMIF(勘定入力!$F:$F,1&$A172,勘定入力!$K:$K))","v":0},{"$f":"IF($A172=\"\",0,SUMIF(勘定入力!$F:$F,2&$A172,勘定入力!$J:$J))","v":0},{"$f":"IF($A172=\"\",0,SUMIF(勘定入力!$F:$F,2&$A172,勘定入力!$K:$K))","v":0},{"$f":"IF($A172=\"\",0,SUMIF(勘定入力!$F:$F,3&$A172,勘定入力!$J:$J))","v":0},{"$f":"IF($A172=\"\",0,SUMIF(勘定入力!$F:$F,3&$A172,勘定入力!$K:$K))","v":0},{"$f":"IF($A172=\"\",0,SUMIF(勘定入力!$F:$F,4&$A172,勘定入力!$J:$J))","v":0},{"$f":"IF($A172=\"\",0,SUMIF(勘定入力!$F:$F,4&$A172,勘定入力!$K:$K))","v":0},{"$f":"IF($A172=\"\",0,SUMIF(勘定入力!$F:$F,5&$A172,勘定入力!$J:$J))","v":0},{"$f":"IF($A172=\"\",0,SUMIF(勘定入力!$F:$F,5&$A172,勘定入力!$K:$K))","v":0},{"$f":"IF($A172=\"\",0,SUMIF(勘定入力!$F:$F,6&$A172,勘定入力!$J:$J))","v":0},{"$f":"IF($A172=\"\",0,SUMIF(勘定入力!$F:$F,6&$A172,勘定入力!$K:$K))","v":0},{"$f":"IF($A172=\"\",0,SUMIF(勘定入力!$F:$F,7&$A172,勘定入力!$J:$J))","v":0},{"$f":"IF($A172=\"\",0,SUMIF(勘定入力!$F:$F,7&$A172,勘定入力!$K:$K))","v":0},{"$f":"IF($A172=\"\",0,SUMIF(勘定入力!$F:$F,8&$A172,勘定入力!$J:$J))","v":0},{"$f":"IF($A172=\"\",0,SUMIF(勘定入力!$F:$F,8&$A172,勘定入力!$K:$K))","v":0},{"$f":"IF($A172=\"\",0,SUMIF(勘定入力!$F:$F,9&$A172,勘定入力!$J:$J))","v":0},{"$f":"IF($A172=\"\",0,SUMIF(勘定入力!$F:$F,9&$A172,勘定入力!$K:$K))","v":0},{"$f":"IF($A172=\"\",0,SUMIF(勘定入力!$F:$F,10&$A172,勘定入力!$J:$J))","v":0},{"$f":"IF($A172=\"\",0,SUMIF(勘定入力!$F:$F,10&$A172,勘定入力!$K:$K))","v":0},{"$f":"IF($A172=\"\",0,SUMIF(勘定入力!$F:$F,11&$A172,勘定入力!$J:$J))","v":0},{"$f":"IF($A172=\"\",0,SUMIF(勘定入力!$F:$F,11&$A172,勘定入力!$K:$K))","v":0},{"$f":"IF($A172=\"\",0,SUMIF(勘定入力!$F:$F,12&$A172,勘定入力!$J:$J))","v":0},{"$f":"IF($A172=\"\",0,SUMIF(勘定入力!$F:$F,12&$A172,勘定入力!$K:$K))","v":0}]
[{"$f":"入力補助!M51","v":0},0,0,{"$f":"IF($A173=\"\",0,SUMIF(勘定入力!$F:$F,1&$A173,勘定入力!$J:$J))","v":0},{"$f":"IF($A173=\"\",0,SUMIF(勘定入力!$F:$F,1&$A173,勘定入力!$K:$K))","v":0},{"$f":"IF($A173=\"\",0,SUMIF(勘定入力!$F:$F,2&$A173,勘定入力!$J:$J))","v":0},{"$f":"IF($A173=\"\",0,SUMIF(勘定入力!$F:$F,2&$A173,勘定入力!$K:$K))","v":0},{"$f":"IF($A173=\"\",0,SUMIF(勘定入力!$F:$F,3&$A173,勘定入力!$J:$J))","v":0},{"$f":"IF($A173=\"\",0,SUMIF(勘定入力!$F:$F,3&$A173,勘定入力!$K:$K))","v":0},{"$f":"IF($A173=\"\",0,SUMIF(勘定入力!$F:$F,4&$A173,勘定入力!$J:$J))","v":0},{"$f":"IF($A173=\"\",0,SUMIF(勘定入力!$F:$F,4&$A173,勘定入力!$K:$K))","v":0},{"$f":"IF($A173=\"\",0,SUMIF(勘定入力!$F:$F,5&$A173,勘定入力!$J:$J))","v":0},{"$f":"IF($A173=\"\",0,SUMIF(勘定入力!$F:$F,5&$A173,勘定入力!$K:$K))","v":0},{"$f":"IF($A173=\"\",0,SUMIF(勘定入力!$F:$F,6&$A173,勘定入力!$J:$J))","v":0},{"$f":"IF($A173=\"\",0,SUMIF(勘定入力!$F:$F,6&$A173,勘定入力!$K:$K))","v":0},{"$f":"IF($A173=\"\",0,SUMIF(勘定入力!$F:$F,7&$A173,勘定入力!$J:$J))","v":0},{"$f":"IF($A173=\"\",0,SUMIF(勘定入力!$F:$F,7&$A173,勘定入力!$K:$K))","v":0},{"$f":"IF($A173=\"\",0,SUMIF(勘定入力!$F:$F,8&$A173,勘定入力!$J:$J))","v":0},{"$f":"IF($A173=\"\",0,SUMIF(勘定入力!$F:$F,8&$A173,勘定入力!$K:$K))","v":0},{"$f":"IF($A173=\"\",0,SUMIF(勘定入力!$F:$F,9&$A173,勘定入力!$J:$J))","v":0},{"$f":"IF($A173=\"\",0,SUMIF(勘定入力!$F:$F,9&$A173,勘定入力!$K:$K))","v":0},{"$f":"IF($A173=\"\",0,SUMIF(勘定入力!$F:$F,10&$A173,勘定入力!$J:$J))","v":0},{"$f":"IF($A173=\"\",0,SUMIF(勘定入力!$F:$F,10&$A173,勘定入力!$K:$K))","v":0},{"$f":"IF($A173=\"\",0,SUMIF(勘定入力!$F:$F,11&$A173,勘定入力!$J:$J))","v":0},{"$f":"IF($A173=\"\",0,SUMIF(勘定入力!$F:$F,11&$A173,勘定入力!$K:$K))","v":0},{"$f":"IF($A173=\"\",0,SUMIF(勘定入力!$F:$F,12&$A173,勘定入力!$J:$J))","v":0},{"$f":"IF($A173=\"\",0,SUMIF(勘定入力!$F:$F,12&$A173,勘定入力!$K:$K))","v":0}]
[{"$f":"入力補助!M52","v":0},0,0,{"$f":"IF($A174=\"\",0,SUMIF(勘定入力!$F:$F,1&$A174,勘定入力!$J:$J))","v":0},{"$f":"IF($A174=\"\",0,SUMIF(勘定入力!$F:$F,1&$A174,勘定入力!$K:$K))","v":0},{"$f":"IF($A174=\"\",0,SUMIF(勘定入力!$F:$F,2&$A174,勘定入力!$J:$J))","v":0},{"$f":"IF($A174=\"\",0,SUMIF(勘定入力!$F:$F,2&$A174,勘定入力!$K:$K))","v":0},{"$f":"IF($A174=\"\",0,SUMIF(勘定入力!$F:$F,3&$A174,勘定入力!$J:$J))","v":0},{"$f":"IF($A174=\"\",0,SUMIF(勘定入力!$F:$F,3&$A174,勘定入力!$K:$K))","v":0},{"$f":"IF($A174=\"\",0,SUMIF(勘定入力!$F:$F,4&$A174,勘定入力!$J:$J))","v":0},{"$f":"IF($A174=\"\",0,SUMIF(勘定入力!$F:$F,4&$A174,勘定入力!$K:$K))","v":0},{"$f":"IF($A174=\"\",0,SUMIF(勘定入力!$F:$F,5&$A174,勘定入力!$J:$J))","v":0},{"$f":"IF($A174=\"\",0,SUMIF(勘定入力!$F:$F,5&$A174,勘定入力!$K:$K))","v":0},{"$f":"IF($A174=\"\",0,SUMIF(勘定入力!$F:$F,6&$A174,勘定入力!$J:$J))","v":0},{"$f":"IF($A174=\"\",0,SUMIF(勘定入力!$F:$F,6&$A174,勘定入力!$K:$K))","v":0},{"$f":"IF($A174=\"\",0,SUMIF(勘定入力!$F:$F,7&$A174,勘定入力!$J:$J))","v":0},{"$f":"IF($A174=\"\",0,SUMIF(勘定入力!$F:$F,7&$A174,勘定入力!$K:$K))","v":0},{"$f":"IF($A174=\"\",0,SUMIF(勘定入力!$F:$F,8&$A174,勘定入力!$J:$J))","v":0},{"$f":"IF($A174=\"\",0,SUMIF(勘定入力!$F:$F,8&$A174,勘定入力!$K:$K))","v":0},{"$f":"IF($A174=\"\",0,SUMIF(勘定入力!$F:$F,9&$A174,勘定入力!$J:$J))","v":0},{"$f":"IF($A174=\"\",0,SUMIF(勘定入力!$F:$F,9&$A174,勘定入力!$K:$K))","v":0},{"$f":"IF($A174=\"\",0,SUMIF(勘定入力!$F:$F,10&$A174,勘定入力!$J:$J))","v":0},{"$f":"IF($A174=\"\",0,SUMIF(勘定入力!$F:$F,10&$A174,勘定入力!$K:$K))","v":0},{"$f":"IF($A174=\"\",0,SUMIF(勘定入力!$F:$F,11&$A174,勘定入力!$J:$J))","v":0},{"$f":"IF($A174=\"\",0,SUMIF(勘定入力!$F:$F,11&$A174,勘定入力!$K:$K))","v":0},{"$f":"IF($A174=\"\",0,SUMIF(勘定入力!$F:$F,12&$A174,勘定入力!$J:$J))","v":0},{"$f":"IF($A174=\"\",0,SUMIF(勘定入力!$F:$F,12&$A174,勘定入力!$K:$K))","v":0}]
[{"$f":"入力補助!M53","v":0},0,0,{"$f":"IF($A175=\"\",0,SUMIF(勘定入力!$F:$F,1&$A175,勘定入力!$J:$J))","v":0},{"$f":"IF($A175=\"\",0,SUMIF(勘定入力!$F:$F,1&$A175,勘定入力!$K:$K))","v":0},{"$f":"IF($A175=\"\",0,SUMIF(勘定入力!$F:$F,2&$A175,勘定入力!$J:$J))","v":0},{"$f":"IF($A175=\"\",0,SUMIF(勘定入力!$F:$F,2&$A175,勘定入力!$K:$K))","v":0},{"$f":"IF($A175=\"\",0,SUMIF(勘定入力!$F:$F,3&$A175,勘定入力!$J:$J))","v":0},{"$f":"IF($A175=\"\",0,SUMIF(勘定入力!$F:$F,3&$A175,勘定入力!$K:$K))","v":0},{"$f":"IF($A175=\"\",0,SUMIF(勘定入力!$F:$F,4&$A175,勘定入力!$J:$J))","v":0},{"$f":"IF($A175=\"\",0,SUMIF(勘定入力!$F:$F,4&$A175,勘定入力!$K:$K))","v":0},{"$f":"IF($A175=\"\",0,SUMIF(勘定入力!$F:$F,5&$A175,勘定入力!$J:$J))","v":0},{"$f":"IF($A175=\"\",0,SUMIF(勘定入力!$F:$F,5&$A175,勘定入力!$K:$K))","v":0},{"$f":"IF($A175=\"\",0,SUMIF(勘定入力!$F:$F,6&$A175,勘定入力!$J:$J))","v":0},{"$f":"IF($A175=\"\",0,SUMIF(勘定入力!$F:$F,6&$A175,勘定入力!$K:$K))","v":0},{"$f":"IF($A175=\"\",0,SUMIF(勘定入力!$F:$F,7&$A175,勘定入力!$J:$J))","v":0},{"$f":"IF($A175=\"\",0,SUMIF(勘定入力!$F:$F,7&$A175,勘定入力!$K:$K))","v":0},{"$f":"IF($A175=\"\",0,SUMIF(勘定入力!$F:$F,8&$A175,勘定入力!$J:$J))","v":0},{"$f":"IF($A175=\"\",0,SUMIF(勘定入力!$F:$F,8&$A175,勘定入力!$K:$K))","v":0},{"$f":"IF($A175=\"\",0,SUMIF(勘定入力!$F:$F,9&$A175,勘定入力!$J:$J))","v":0},{"$f":"IF($A175=\"\",0,SUMIF(勘定入力!$F:$F,9&$A175,勘定入力!$K:$K))","v":0},{"$f":"IF($A175=\"\",0,SUMIF(勘定入力!$F:$F,10&$A175,勘定入力!$J:$J))","v":0},{"$f":"IF($A175=\"\",0,SUMIF(勘定入力!$F:$F,10&$A175,勘定入力!$K:$K))","v":0},{"$f":"IF($A175=\"\",0,SUMIF(勘定入力!$F:$F,11&$A175,勘定入力!$J:$J))","v":0},{"$f":"IF($A175=\"\",0,SUMIF(勘定入力!$F:$F,11&$A175,勘定入力!$K:$K))","v":0},{"$f":"IF($A175=\"\",0,SUMIF(勘定入力!$F:$F,12&$A175,勘定入力!$J:$J))","v":0},{"$f":"IF($A175=\"\",0,SUMIF(勘定入力!$F:$F,12&$A175,勘定入力!$K:$K))","v":0}]
[{"$f":"入力補助!M54","v":0},0,0,{"$f":"IF($A176=\"\",0,SUMIF(勘定入力!$F:$F,1&$A176,勘定入力!$J:$J))","v":0},{"$f":"IF($A176=\"\",0,SUMIF(勘定入力!$F:$F,1&$A176,勘定入力!$K:$K))","v":0},{"$f":"IF($A176=\"\",0,SUMIF(勘定入力!$F:$F,2&$A176,勘定入力!$J:$J))","v":0},{"$f":"IF($A176=\"\",0,SUMIF(勘定入力!$F:$F,2&$A176,勘定入力!$K:$K))","v":0},{"$f":"IF($A176=\"\",0,SUMIF(勘定入力!$F:$F,3&$A176,勘定入力!$J:$J))","v":0},{"$f":"IF($A176=\"\",0,SUMIF(勘定入力!$F:$F,3&$A176,勘定入力!$K:$K))","v":0},{"$f":"IF($A176=\"\",0,SUMIF(勘定入力!$F:$F,4&$A176,勘定入力!$J:$J))","v":0},{"$f":"IF($A176=\"\",0,SUMIF(勘定入力!$F:$F,4&$A176,勘定入力!$K:$K))","v":0},{"$f":"IF($A176=\"\",0,SUMIF(勘定入力!$F:$F,5&$A176,勘定入力!$J:$J))","v":0},{"$f":"IF($A176=\"\",0,SUMIF(勘定入力!$F:$F,5&$A176,勘定入力!$K:$K))","v":0},{"$f":"IF($A176=\"\",0,SUMIF(勘定入力!$F:$F,6&$A176,勘定入力!$J:$J))","v":0},{"$f":"IF($A176=\"\",0,SUMIF(勘定入力!$F:$F,6&$A176,勘定入力!$K:$K))","v":0},{"$f":"IF($A176=\"\",0,SUMIF(勘定入力!$F:$F,7&$A176,勘定入力!$J:$J))","v":0},{"$f":"IF($A176=\"\",0,SUMIF(勘定入力!$F:$F,7&$A176,勘定入力!$K:$K))","v":0},{"$f":"IF($A176=\"\",0,SUMIF(勘定入力!$F:$F,8&$A176,勘定入力!$J:$J))","v":0},{"$f":"IF($A176=\"\",0,SUMIF(勘定入力!$F:$F,8&$A176,勘定入力!$K:$K))","v":0},{"$f":"IF($A176=\"\",0,SUMIF(勘定入力!$F:$F,9&$A176,勘定入力!$J:$J))","v":0},{"$f":"IF($A176=\"\",0,SUMIF(勘定入力!$F:$F,9&$A176,勘定入力!$K:$K))","v":0},{"$f":"IF($A176=\"\",0,SUMIF(勘定入力!$F:$F,10&$A176,勘定入力!$J:$J))","v":0},{"$f":"IF($A176=\"\",0,SUMIF(勘定入力!$F:$F,10&$A176,勘定入力!$K:$K))","v":0},{"$f":"IF($A176=\"\",0,SUMIF(勘定入力!$F:$F,11&$A176,勘定入力!$J:$J))","v":0},{"$f":"IF($A176=\"\",0,SUMIF(勘定入力!$F:$F,11&$A176,勘定入力!$K:$K))","v":0},{"$f":"IF($A176=\"\",0,SUMIF(勘定入力!$F:$F,12&$A176,勘定入力!$J:$J))","v":0},{"$f":"IF($A176=\"\",0,SUMIF(勘定入力!$F:$F,12&$A176,勘定入力!$K:$K))","v":0}]
[{"$f":"入力補助!M55","v":0},0,0,{"$f":"IF($A177=\"\",0,SUMIF(勘定入力!$F:$F,1&$A177,勘定入力!$J:$J))","v":0},{"$f":"IF($A177=\"\",0,SUMIF(勘定入力!$F:$F,1&$A177,勘定入力!$K:$K))","v":0},{"$f":"IF($A177=\"\",0,SUMIF(勘定入力!$F:$F,2&$A177,勘定入力!$J:$J))","v":0},{"$f":"IF($A177=\"\",0,SUMIF(勘定入力!$F:$F,2&$A177,勘定入力!$K:$K))","v":0},{"$f":"IF($A177=\"\",0,SUMIF(勘定入力!$F:$F,3&$A177,勘定入力!$J:$J))","v":0},{"$f":"IF($A177=\"\",0,SUMIF(勘定入力!$F:$F,3&$A177,勘定入力!$K:$K))","v":0},{"$f":"IF($A177=\"\",0,SUMIF(勘定入力!$F:$F,4&$A177,勘定入力!$J:$J))","v":0},{"$f":"IF($A177=\"\",0,SUMIF(勘定入力!$F:$F,4&$A177,勘定入力!$K:$K))","v":0},{"$f":"IF($A177=\"\",0,SUMIF(勘定入力!$F:$F,5&$A177,勘定入力!$J:$J))","v":0},{"$f":"IF($A177=\"\",0,SUMIF(勘定入力!$F:$F,5&$A177,勘定入力!$K:$K))","v":0},{"$f":"IF($A177=\"\",0,SUMIF(勘定入力!$F:$F,6&$A177,勘定入力!$J:$J))","v":0},{"$f":"IF($A177=\"\",0,SUMIF(勘定入力!$F:$F,6&$A177,勘定入力!$K:$K))","v":0},{"$f":"IF($A177=\"\",0,SUMIF(勘定入力!$F:$F,7&$A177,勘定入力!$J:$J))","v":0},{"$f":"IF($A177=\"\",0,SUMIF(勘定入力!$F:$F,7&$A177,勘定入力!$K:$K))","v":0},{"$f":"IF($A177=\"\",0,SUMIF(勘定入力!$F:$F,8&$A177,勘定入力!$J:$J))","v":0},{"$f":"IF($A177=\"\",0,SUMIF(勘定入力!$F:$F,8&$A177,勘定入力!$K:$K))","v":0},{"$f":"IF($A177=\"\",0,SUMIF(勘定入力!$F:$F,9&$A177,勘定入力!$J:$J))","v":0},{"$f":"IF($A177=\"\",0,SUMIF(勘定入力!$F:$F,9&$A177,勘定入力!$K:$K))","v":0},{"$f":"IF($A177=\"\",0,SUMIF(勘定入力!$F:$F,10&$A177,勘定入力!$J:$J))","v":0},{"$f":"IF($A177=\"\",0,SUMIF(勘定入力!$F:$F,10&$A177,勘定入力!$K:$K))","v":0},{"$f":"IF($A177=\"\",0,SUMIF(勘定入力!$F:$F,11&$A177,勘定入力!$J:$J))","v":0},{"$f":"IF($A177=\"\",0,SUMIF(勘定入力!$F:$F,11&$A177,勘定入力!$K:$K))","v":0},{"$f":"IF($A177=\"\",0,SUMIF(勘定入力!$F:$F,12&$A177,勘定入力!$J:$J))","v":0},{"$f":"IF($A177=\"\",0,SUMIF(勘定入力!$F:$F,12&$A177,勘定入力!$K:$K))","v":0}]
[{"$f":"入力補助!M56","v":"その他"},0,0,{"$f":"IF($A178=\"\",0,SUMIF(勘定入力!$F:$F,1&$A178,勘定入力!$J:$J))","v":0},{"$f":"IF($A178=\"\",0,SUMIF(勘定入力!$F:$F,1&$A178,勘定入力!$K:$K))","v":0},{"$f":"IF($A178=\"\",0,SUMIF(勘定入力!$F:$F,2&$A178,勘定入力!$J:$J))","v":0},{"$f":"IF($A178=\"\",0,SUMIF(勘定入力!$F:$F,2&$A178,勘定入力!$K:$K))","v":0},{"$f":"IF($A178=\"\",0,SUMIF(勘定入力!$F:$F,3&$A178,勘定入力!$J:$J))","v":0},{"$f":"IF($A178=\"\",0,SUMIF(勘定入力!$F:$F,3&$A178,勘定入力!$K:$K))","v":0},{"$f":"IF($A178=\"\",0,SUMIF(勘定入力!$F:$F,4&$A178,勘定入力!$J:$J))","v":0},{"$f":"IF($A178=\"\",0,SUMIF(勘定入力!$F:$F,4&$A178,勘定入力!$K:$K))","v":0},{"$f":"IF($A178=\"\",0,SUMIF(勘定入力!$F:$F,5&$A178,勘定入力!$J:$J))","v":0},{"$f":"IF($A178=\"\",0,SUMIF(勘定入力!$F:$F,5&$A178,勘定入力!$K:$K))","v":0},{"$f":"IF($A178=\"\",0,SUMIF(勘定入力!$F:$F,6&$A178,勘定入力!$J:$J))","v":0},{"$f":"IF($A178=\"\",0,SUMIF(勘定入力!$F:$F,6&$A178,勘定入力!$K:$K))","v":0},{"$f":"IF($A178=\"\",0,SUMIF(勘定入力!$F:$F,7&$A178,勘定入力!$J:$J))","v":0},{"$f":"IF($A178=\"\",0,SUMIF(勘定入力!$F:$F,7&$A178,勘定入力!$K:$K))","v":0},{"$f":"IF($A178=\"\",0,SUMIF(勘定入力!$F:$F,8&$A178,勘定入力!$J:$J))","v":0},{"$f":"IF($A178=\"\",0,SUMIF(勘定入力!$F:$F,8&$A178,勘定入力!$K:$K))","v":0},{"$f":"IF($A178=\"\",0,SUMIF(勘定入力!$F:$F,9&$A178,勘定入力!$J:$J))","v":0},{"$f":"IF($A178=\"\",0,SUMIF(勘定入力!$F:$F,9&$A178,勘定入力!$K:$K))","v":0},{"$f":"IF($A178=\"\",0,SUMIF(勘定入力!$F:$F,10&$A178,勘定入力!$J:$J))","v":0},{"$f":"IF($A178=\"\",0,SUMIF(勘定入力!$F:$F,10&$A178,勘定入力!$K:$K))","v":0},{"$f":"IF($A178=\"\",0,SUMIF(勘定入力!$F:$F,11&$A178,勘定入力!$J:$J))","v":0},{"$f":"IF($A178=\"\",0,SUMIF(勘定入力!$F:$F,11&$A178,勘定入力!$K:$K))","v":0},{"$f":"IF($A178=\"\",0,SUMIF(勘定入力!$F:$F,12&$A178,勘定入力!$J:$J))","v":0},{"$f":"IF($A178=\"\",0,SUMIF(勘定入力!$F:$F,12&$A178,勘定入力!$K:$K))","v":0}]
[{"$f":"入力補助!M57","v":"該当無"},10000,0,{"$f":"IF($A179=\"\",0,SUMIF(勘定入力!$F:$F,1&$A179,勘定入力!$J:$J))","v":10000},{"$f":"IF($A179=\"\",0,SUMIF(勘定入力!$F:$F,1&$A179,勘定入力!$K:$K))","v":0},{"$f":"IF($A179=\"\",0,SUMIF(勘定入力!$F:$F,2&$A179,勘定入力!$J:$J))","v":0},{"$f":"IF($A179=\"\",0,SUMIF(勘定入力!$F:$F,2&$A179,勘定入力!$K:$K))","v":0},{"$f":"IF($A179=\"\",0,SUMIF(勘定入力!$F:$F,3&$A179,勘定入力!$J:$J))","v":0},{"$f":"IF($A179=\"\",0,SUMIF(勘定入力!$F:$F,3&$A179,勘定入力!$K:$K))","v":0},{"$f":"IF($A179=\"\",0,SUMIF(勘定入力!$F:$F,4&$A179,勘定入力!$J:$J))","v":0},{"$f":"IF($A179=\"\",0,SUMIF(勘定入力!$F:$F,4&$A179,勘定入力!$K:$K))","v":0},{"$f":"IF($A179=\"\",0,SUMIF(勘定入力!$F:$F,5&$A179,勘定入力!$J:$J))","v":0},{"$f":"IF($A179=\"\",0,SUMIF(勘定入力!$F:$F,5&$A179,勘定入力!$K:$K))","v":0},{"$f":"IF($A179=\"\",0,SUMIF(勘定入力!$F:$F,6&$A179,勘定入力!$J:$J))","v":0},{"$f":"IF($A179=\"\",0,SUMIF(勘定入力!$F:$F,6&$A179,勘定入力!$K:$K))","v":0},{"$f":"IF($A179=\"\",0,SUMIF(勘定入力!$F:$F,7&$A179,勘定入力!$J:$J))","v":0},{"$f":"IF($A179=\"\",0,SUMIF(勘定入力!$F:$F,7&$A179,勘定入力!$K:$K))","v":0},{"$f":"IF($A179=\"\",0,SUMIF(勘定入力!$F:$F,8&$A179,勘定入力!$J:$J))","v":0},{"$f":"IF($A179=\"\",0,SUMIF(勘定入力!$F:$F,8&$A179,勘定入力!$K:$K))","v":0},{"$f":"IF($A179=\"\",0,SUMIF(勘定入力!$F:$F,9&$A179,勘定入力!$J:$J))","v":0},{"$f":"IF($A179=\"\",0,SUMIF(勘定入力!$F:$F,9&$A179,勘定入力!$K:$K))","v":0},{"$f":"IF($A179=\"\",0,SUMIF(勘定入力!$F:$F,10&$A179,勘定入力!$J:$J))","v":0},{"$f":"IF($A179=\"\",0,SUMIF(勘定入力!$F:$F,10&$A179,勘定入力!$K:$K))","v":0},{"$f":"IF($A179=\"\",0,SUMIF(勘定入力!$F:$F,11&$A179,勘定入力!$J:$J))","v":0},{"$f":"IF($A179=\"\",0,SUMIF(勘定入力!$F:$F,11&$A179,勘定入力!$K:$K))","v":0},{"$f":"IF($A179=\"\",0,SUMIF(勘定入力!$F:$F,12&$A179,勘定入力!$J:$J))","v":0},{"$f":"IF($A179=\"\",0,SUMIF(勘定入力!$F:$F,12&$A179,勘定入力!$K:$K))","v":0}]
["合計",{"$f":"SUM(B125:B179)","v":40500},35200,10000,1100,5000,1100,5000,2100,0,3100,0,4100,200,3100,0,6100,5000,4100,5300,4100,0,4100,5000,1100,5000,1100]
[]
[1,2,3,4,5,6,7,8,9,10,11,12,13,14,15,16,17,18,19,20,21,22,23,24,25,26,27,28]

{"sheet":"_","index":5,"n_rows":0,"n_cols":0,"rows_kept":0,"cut":false,"hidden":false,"merged":[]}

{"sheet":"入力補助","index":6,"n_rows":58,"n_cols":35,"rows_kept":58,"cut":false,"hidden":false,"merged":[]}
[null,null,{"$f":"勘定入力!L3","v":"勘定科目"},null,"大分類選択",null,"大分類項目",null,null,{"$f":"勘定入力!M3","v":"施工先"},null,null,{"$f":"勘定入力!N3","v":"施工者・メーカ"},null,null,"担当者",null,null,null,null,null,null,null,null,null,null,"当月の参照設定表"]
[]
[{"$f":"INDIRECT(\"R[-1]C\",FALSE)+1","v":1},null,"○○","→","○○販売",null,"○○販売",null,null,"○○会社",null,null,"○○会社",null,null,"Aさん",null,null,"・赤枠内を業務に合わせ編集ください。"]
[{"$f":"INDIRECT(\"R[-1]C\",FALSE)+1","v":2},null,"△△","→","△△販売",null,"△△販売",null,null,"従業員（固定費）",null,null,"会社（固定費）",null,null,"Bさん",null,null,null,null,null,null,null,null,null,null,{"$f":"MONTH(TODAY())","v":3},"←「XX月」項の自動参照用"]
[3,null,"基礎工事","→","○○工事",null,"○○工事",null,null,"一般ユーザ",null,null,"その他協力会社",null,null,"Cさん",null,null,"注：デモ版につき編集はできません。",null,null,null,null,null,null,"参照月名→",null,"当月入金","当月支払","年間入金","年間支払","先月入金","先月支払","来月入金","来月支払"]
[4,null,"屋根工事","→","○○工事",null,"○○諸費用",null,null,"A1邸",null,null,"自社施工",null,null,null,null,null,null,null,null,null,null,null,null,"参照月→",{"$f":"AA4","v":3},{"$f":"IF(ISERROR(VLOOKUP($AA6,当月設定,列番号,FALSE)),\"\",VLOOKUP($AA6,当月設定,列番号,FALSE))","v":8},{"$f":"IF(ISERROR(VLOOKUP($AA6,当月設定,列番号,FALSE)),\"\",VLOOKUP($AA6,当月設定,列番号,FALSE))","v":9},2,{"$f":"IF(ISERROR(VLOOKUP($AA6,当月設定,列番号,FALSE)),\"\",VLOOKUP($AA6,当月設定,列番号,FALSE))","v":3},{"$f":"IF(ISERROR(VLOOKUP($AA6,当月設定,列番号,FALSE)),\"\",VLOOKUP($AA6,当月設定,列番号,FALSE))","v":6},7,10,{"$f":"IF(ISERROR(VLOOKUP($AA6,当月設定,列番号,FALSE)),\"\",VLOOKUP($AA6,当月設定,列番号,FALSE))","v":11}]
[5,null,"外構工事","→","○○工事",null,null,null,null,"A2邸",null,null,"B1社",null,null,null,null,null,null,null,null,null,null,null,null,null,"月","列","列","列","列","列","列","列","列"]
[6,null,"外壁工事","→","○○工事",null,"固定費",null,null,"A3邸",null,null,"B2社",null,null,null,null,null,null,null,null,null,null,null,null,null,0]
[7,null,"左官工事","→","○○工事",null,null,null,null,"A4邸",null,null,"B3社",null,null,null,null,null,null,null,null,null,null,null,null,null,1,4,5,2,3,28,28,6,7]
[8,null,"電気工事","→","○○工事",null,null,null,null,"A5邸",null,null,"B4社",null,null,null,null,null,null,null,null,null,null,null,null,null,2,6,7,2,3,4,5,8,9]
[9,null,"木工事","→","○○工事",null,null,null,null,"A6邸",null,null,"B5社",null,null,null,null,null,{"$f":"YEAR(TODAY())&\"年\"&MONTH(TODAY())&\"月\"&DAY(TODAY())&\"日\"","v":"2015年3月9日"},null,null,null,null,null,null,null,3,8,9,2,3,6,7,10,11]
[10,null,"内装工事","→","○○工事",null,null,null,null,"A7邸",null,null,"B6社",null,null,null,null,null,null,null,null,null,null,null,null,null,4,10,11,2,3,8,9,12,13]
[11,null,"住宅設備工事","→","○○工事",null,null,null,null,"A8邸",null,null,"B7社",null,null,null,null,null,null,null,null,null,null,null,null,null,5,12,13,2,3,10,11,14,15]
[12,null,"サッシ工事","→","○○工事",null,null,null,null,"A9邸",null,null,"B8社",null,null,null,null,null,null,null,null,null,null,null,null,null,6,14,15,2,3,12,13,16,17]
[13,null,"衛生設備工事","→","○○工事",null,null,null,null,"A10邸",null,null,"B9社",null,null,null,null,null,null,null,null,null,null,null,null,null,7,16,17,2,3,14,15,18,19]
[14,null,"内部建具工事","→","○○工事",null,null,null,null,"A11邸",null,null,"B10社",null,null,null,null,null,null,null,null,null,null,null,null,null,8,18,19,2,3,16,17,20,21]
[15,null,"板金工事","→","○○工事",null,null,null,null,"A12邸",null,null,"B11社",null,null,null,null,null,null,null,null,null,null,null,null,null,9,20,21,2,3,18,19,22,23]
[16,null,"付帯工事","→","○○工事",null,null,null,null,"A13邸",null,null,"B12社",null,null,null,null,null,null,null,null,null,null,null,null,null,10,22,23,2,3,20,21,24,25]
[17,null,"仮設工事","→","○○工事",null,null,null,null,"A14邸",null,null,"B13社",null,null,null,null,null,null,null,null,null,null,null,null,null,11,24,25,2,3,22,23,26,27]
[18,null,"申請手続き","→","住宅諸費用",null,null,null,null,"A15邸",null,null,"B14社",null,null,null,null,null,null,null,null,null,null,null,null,null,12,26,27,2,3,24,25,28,28]
[19,null,"諸費用","→","住宅諸費用",null,null,null,null,null,null,null,"B15社",null,null,null,null,null,null,null,null,null,null,null,null,null,13]
[20,null,null,"→",null,null,null,null,null,null,null,null,"B16社",null,null,null,null,null,null,null,null,null,null,null,null,"列番号→",1,2,3,4,5,6,7,8,9]
[21,null,"-----","→"]
[22,null,"繰越金","→","固定費"]
[23,null,"給料・手当","→","固定費"]
[24,null,"車両費","→","固定費"]
[25,null,"燃料","→","固定費"]
[26,null,"水道","→","固定費"]
[27,null,"電気","→","固定費"]
[28,null,"ガス","→","固定費"]
[29,null,"通信費","→","固定費"]
[30,null,"事務用品費","→","固定費"]
[31,null,"保険料","→","固定費"]
[32,null,"リース料","→","固定費"]
[33,null,null,"→"]
[34,null,null,"→"]
[35,null,null,"→"]
[36,null,null,"→"]
[37,null,null,"→"]
[38,null,null,"→"]
[39,null,null,"→"]
[40,null,null,"→"]
[41,null,null,"→"]
[42,null,null,"→"]
[43,null,null,"→"]
[44,null,null,"→"]
[45,null,null,"→"]
[46,null,null,"→"]
[47,null,null,"→"]
[48,null,null,"→"]
[49,null,null,"→"]
[50,null,null,"→"]
[51,null,null,"→"]
[52,null,null,"→"]
[53,null,null,"→"]
[54,null,null,"→",null,null,null,null,null,"その他",null,null,"その他"]
[55,null,null,"→",null,null,null,null,null,"該当無",null,null,"該当無"]
[null,null,null,null,{"$f":"C1&\"対する大分類を選択\"","v":"勘定科目対する大分類を選択"}]